BEGIN:VCALENDAR
VERSION:2.0
PRODID:-//DANCE.LV - ECPv6.15.20//NONSGML v1.0//EN
CALSCALE:GREGORIAN
METHOD:PUBLISH
X-WR-CALNAME:DANCE.LV
X-ORIGINAL-URL:https://dance.lv
X-WR-CALDESC:Events for DANCE.LV
REFRESH-INTERVAL;VALUE=DURATION:PT1H
X-Robots-Tag:noindex
X-PUBLISHED-TTL:PT1H
BEGIN:VTIMEZONE
TZID:Europe/Riga
BEGIN:DAYLIGHT
TZOFFSETFROM:+0200
TZOFFSETTO:+0300
TZNAME:EEST
DTSTART:20240331T010000
END:DAYLIGHT
BEGIN:STANDARD
TZOFFSETFROM:+0300
TZOFFSETTO:+0200
TZNAME:EET
DTSTART:20241027T010000
END:STANDARD
BEGIN:DAYLIGHT
TZOFFSETFROM:+0200
TZOFFSETTO:+0300
TZNAME:EEST
DTSTART:20250330T010000
END:DAYLIGHT
BEGIN:STANDARD
TZOFFSETFROM:+0300
TZOFFSETTO:+0200
TZNAME:EET
DTSTART:20251026T010000
END:STANDARD
BEGIN:DAYLIGHT
TZOFFSETFROM:+0200
TZOFFSETTO:+0300
TZNAME:EEST
DTSTART:20260329T010000
END:DAYLIGHT
BEGIN:STANDARD
TZOFFSETFROM:+0300
TZOFFSETTO:+0200
TZNAME:EET
DTSTART:20261025T010000
END:STANDARD
BEGIN:DAYLIGHT
TZOFFSETFROM:+0200
TZOFFSETTO:+0300
TZNAME:EEST
DTSTART:20270328T010000
END:DAYLIGHT
BEGIN:STANDARD
TZOFFSETFROM:+0300
TZOFFSETTO:+0200
TZNAME:EET
DTSTART:20271031T010000
END:STANDARD
END:VTIMEZONE
BEGIN:VEVENT
DTSTART;TZID=Europe/Riga:20260401T190000
DTEND;TZID=Europe/Riga:20260401T200000
DTSTAMP:20260421T172954
CREATED:20251002T081209Z
LAST-MODIFIED:20260301T194905Z
UID:10000947-1775070000-1775073600@dance.lv
SUMMARY:SĒRI KRĀCA JŪRAS VIĻŅI. Asa sižeta izrāde
DESCRIPTION:Vairāk info un biļetes: https://www.kvadrifrons.lv/play/62
URL:https://dance.lv/event/seri-kraca-juras-vilni-asa-sizeta-izrade/2026-04-01/
LOCATION:Merķeļa iela 4
END:VEVENT
BEGIN:VEVENT
DTSTART;TZID=Europe/Riga:20260331T190000
DTEND;TZID=Europe/Riga:20260331T200000
DTSTAMP:20260421T172954
CREATED:20251002T081209Z
LAST-MODIFIED:20260301T194905Z
UID:10000946-1774983600-1774987200@dance.lv
SUMMARY:SĒRI KRĀCA JŪRAS VIĻŅI. Asa sižeta izrāde
DESCRIPTION:Vairāk info un biļetes: https://www.kvadrifrons.lv/play/62
URL:https://dance.lv/event/seri-kraca-juras-vilni-asa-sizeta-izrade/2026-03-31/
LOCATION:Merķeļa iela 4
END:VEVENT
BEGIN:VEVENT
DTSTART;TZID=Europe/Riga:20260203T190000
DTEND;TZID=Europe/Riga:20260203T200000
DTSTAMP:20260421T172954
CREATED:20251002T081209Z
LAST-MODIFIED:20260301T194905Z
UID:10000945-1770145200-1770148800@dance.lv
SUMMARY:SĒRI KRĀCA JŪRAS VIĻŅI. Asa sižeta izrāde
DESCRIPTION:Vairāk info un biļetes: https://www.kvadrifrons.lv/play/62
URL:https://dance.lv/event/seri-kraca-juras-vilni-asa-sizeta-izrade/2026-02-03/
LOCATION:Merķeļa iela 4
END:VEVENT
BEGIN:VEVENT
DTSTART;TZID=Europe/Riga:20251211T190000
DTEND;TZID=Europe/Riga:20251211T200000
DTSTAMP:20260421T172954
CREATED:20251002T081209Z
LAST-MODIFIED:20260301T194905Z
UID:10000773-1765479600-1765483200@dance.lv
SUMMARY:SĒRI KRĀCA JŪRAS VIĻŅI. Asa sižeta izrāde
DESCRIPTION:Vairāk info un biļetes: https://www.kvadrifrons.lv/play/62
URL:https://dance.lv/event/seri-kraca-juras-vilni-asa-sizeta-izrade/2025-12-11/
LOCATION:Merķeļa iela 4
END:VEVENT
BEGIN:VEVENT
DTSTART;TZID=Europe/Riga:20251210T190000
DTEND;TZID=Europe/Riga:20251210T200000
DTSTAMP:20260421T172954
CREATED:20251002T081209Z
LAST-MODIFIED:20260301T194905Z
UID:10000772-1765393200-1765396800@dance.lv
SUMMARY:SĒRI KRĀCA JŪRAS VIĻŅI. Asa sižeta izrāde
DESCRIPTION:Vairāk info un biļetes: https://www.kvadrifrons.lv/play/62
URL:https://dance.lv/event/seri-kraca-juras-vilni-asa-sizeta-izrade/2025-12-10/
LOCATION:Merķeļa iela 4
END:VEVENT
BEGIN:VEVENT
DTSTART;TZID=Europe/Riga:20251209T190000
DTEND;TZID=Europe/Riga:20251209T200000
DTSTAMP:20260421T172954
CREATED:20251002T081209Z
LAST-MODIFIED:20260301T194905Z
UID:10000771-1765306800-1765310400@dance.lv
SUMMARY:SĒRI KRĀCA JŪRAS VIĻŅI. Asa sižeta izrāde
DESCRIPTION:Vairāk info un biļetes: https://www.kvadrifrons.lv/play/62
URL:https://dance.lv/event/seri-kraca-juras-vilni-asa-sizeta-izrade/2025-12-09/
LOCATION:Merķeļa iela 4
END:VEVENT
BEGIN:VEVENT
DTSTART;TZID=Europe/Riga:20251028T190000
DTEND;TZID=Europe/Riga:20251028T200000
DTSTAMP:20260421T172954
CREATED:20251002T081209Z
LAST-MODIFIED:20260301T194905Z
UID:10000770-1761678000-1761681600@dance.lv
SUMMARY:SĒRI KRĀCA JŪRAS VIĻŅI. Asa sižeta izrāde
DESCRIPTION:Vairāk info un biļetes: https://www.kvadrifrons.lv/play/62
URL:https://dance.lv/event/seri-kraca-juras-vilni-asa-sizeta-izrade/2025-10-28/
LOCATION:Merķeļa iela 4
END:VEVENT
BEGIN:VEVENT
DTSTART;TZID=Europe/Riga:20251027T190000
DTEND;TZID=Europe/Riga:20251027T200000
DTSTAMP:20260421T172954
CREATED:20251002T081209Z
LAST-MODIFIED:20260301T194905Z
UID:10000769-1761591600-1761595200@dance.lv
SUMMARY:SĒRI KRĀCA JŪRAS VIĻŅI. Asa sižeta izrāde
DESCRIPTION:Vairāk info un biļetes: https://www.kvadrifrons.lv/play/62
URL:https://dance.lv/event/seri-kraca-juras-vilni-asa-sizeta-izrade/2025-10-27/
LOCATION:Merķeļa iela 4
END:VEVENT
BEGIN:VEVENT
DTSTART;TZID=Europe/Riga:20251025T190000
DTEND;TZID=Europe/Riga:20251025T200000
DTSTAMP:20260421T172955
CREATED:20251002T081209Z
LAST-MODIFIED:20260301T194905Z
UID:10000768-1761418800-1761422400@dance.lv
SUMMARY:SĒRI KRĀCA JŪRAS VIĻŅI. Asa sižeta izrāde
DESCRIPTION:Vairāk info un biļetes: https://www.kvadrifrons.lv/play/62
URL:https://dance.lv/event/seri-kraca-juras-vilni-asa-sizeta-izrade/2025-10-25/
LOCATION:Merķeļa iela 4
END:VEVENT
BEGIN:VEVENT
DTSTART;TZID=Europe/Riga:20251024T190000
DTEND;TZID=Europe/Riga:20251024T200000
DTSTAMP:20260421T172955
CREATED:20251002T081209Z
LAST-MODIFIED:20260301T194905Z
UID:10000767-1761332400-1761336000@dance.lv
SUMMARY:SĒRI KRĀCA JŪRAS VIĻŅI. Asa sižeta izrāde
DESCRIPTION:Vairāk info un biļetes: https://www.kvadrifrons.lv/play/62
URL:https://dance.lv/event/seri-kraca-juras-vilni-asa-sizeta-izrade/2025-10-24/
LOCATION:Merķeļa iela 4
END:VEVENT
BEGIN:VEVENT
DTSTART;TZID=Europe/Riga:20251022T190000
DTEND;TZID=Europe/Riga:20251022T200000
DTSTAMP:20260421T172955
CREATED:20251002T081209Z
LAST-MODIFIED:20260301T194905Z
UID:10000766-1761159600-1761163200@dance.lv
SUMMARY:SĒRI KRĀCA JŪRAS VIĻŅI. Asa sižeta izrāde
DESCRIPTION:Vairāk info un biļetes: https://www.kvadrifrons.lv/play/62
URL:https://dance.lv/event/seri-kraca-juras-vilni-asa-sizeta-izrade/2025-10-22/
LOCATION:Merķeļa iela 4
END:VEVENT
END:VCALENDAR