BEGIN:VCALENDAR
VERSION:2.0
PRODID:-//DANCE.LV - ECPv6.15.20//NONSGML v1.0//EN
CALSCALE:GREGORIAN
METHOD:PUBLISH
X-WR-CALNAME:DANCE.LV
X-ORIGINAL-URL:https://dance.lv
X-WR-CALDESC:Events for DANCE.LV
REFRESH-INTERVAL;VALUE=DURATION:PT1H
X-Robots-Tag:noindex
X-PUBLISHED-TTL:PT1H
BEGIN:VTIMEZONE
TZID:Europe/Riga
BEGIN:DAYLIGHT
TZOFFSETFROM:+0200
TZOFFSETTO:+0300
TZNAME:EEST
DTSTART:20250330T010000
END:DAYLIGHT
BEGIN:STANDARD
TZOFFSETFROM:+0300
TZOFFSETTO:+0200
TZNAME:EET
DTSTART:20251026T010000
END:STANDARD
BEGIN:DAYLIGHT
TZOFFSETFROM:+0200
TZOFFSETTO:+0300
TZNAME:EEST
DTSTART:20260329T010000
END:DAYLIGHT
BEGIN:STANDARD
TZOFFSETFROM:+0300
TZOFFSETTO:+0200
TZNAME:EET
DTSTART:20261025T010000
END:STANDARD
BEGIN:DAYLIGHT
TZOFFSETFROM:+0200
TZOFFSETTO:+0300
TZNAME:EEST
DTSTART:20270328T010000
END:DAYLIGHT
BEGIN:STANDARD
TZOFFSETFROM:+0300
TZOFFSETTO:+0200
TZNAME:EET
DTSTART:20271031T010000
END:STANDARD
END:VTIMEZONE
BEGIN:VEVENT
DTSTART;TZID=Europe/Riga:20260312T190000
DTEND;TZID=Europe/Riga:20260312T210000
DTSTAMP:20260420T122559
CREATED:20250710T062456Z
LAST-MODIFIED:20260108T092005Z
UID:10000871-1773342000-1773349200@dance.lv
SUMMARY:ŅIŽINSKIS. Latvijas Nacionālā opera un balets
DESCRIPTION:“Ņižinskis” ir horeogrāfa Marko Gekes laikmetīgā baleta izrāde par baletdejotāju un horeogrāfu Vaclavu Ņižinski. Tā atklāj Ņižinska dzīves nozīmīgākos brīžus uz skatuves un ārpus tās\, parādot ciešo mākslas un neprāta saikni. \nDesmit gadus Vaclavs Ņižinskis (1890–1950) bija leģendārā Sergeja Djagiļeva vadītā Krievu baleta (Ballets Russes) vadošais solists un horeogrāfs. Viņa virtuozie lēcieni un androgīnā harisma apbūra skatītājus\, savukārt viņa pārdrošās horeogrāfijas provocēja skandālus. Mūža pēdējos trīsdesmit gadus mākslinieks pavadīja garīgās veselības ārstniecības iestādēs. \n“Ņižinskis” pasaules pirmizrādi piedzīvoja dejas kompānijā Gauthier Dance Štutgartē 2016. gadā. Kopš tā laika iestudējums plaši izrādīts viesizrādēs visā pasaulē. 2017. gadā Marko Geke par šo iestudējumu saņēmis Itālijas dejas balvu Danza&Danza. \nHoreogrāfs: Marko Geke \nMuzikālais vadītājs un diriģents: Mārtiņš Ozolinš \nDiriģents: Aivis Greters \nScenogrāfe un kostīmu māksliniece: Mihaela Špringere \nScenogrāfijas un kostīmu adaptācija LNOB:  Mārvins Ots \nBaleta dramaturģe: Estere Drēzene-Šabaka \nGaismu mākslinieks: Udo Hāberlands \nHoreogrāfs-inscenētājs: Fabio Palombo
URL:https://dance.lv/event/nizinskis-latvijas-nacionala-opera-un-balets-2/2026-03-12/
LOCATION:Teātra nams “Jūras vārti”\, Karlīnes iela 40\, Vantspils
CATEGORIES:BALETS
ATTACH;FMTTYPE=image/jpeg:https://dance.lv/wp-content/uploads/2025/07/Nizinskis_DARK_final.jpg
END:VEVENT
BEGIN:VEVENT
DTSTART;TZID=Europe/Riga:20260314T000000
DTEND;TZID=Europe/Riga:20260314T000000
DTSTAMP:20260420T122559
CREATED:20260328T145933Z
LAST-MODIFIED:20260328T145933Z
UID:10000961-1773446400-1773446400@dance.lv
SUMMARY:"Fresh Trades" hiphop un house batli
DESCRIPTION:Vairāk informācijas https://www.instagram.com/p/DTiAcuWDFLH/
URL:https://dance.lv/event/fresh-trades-hiphop-un-house-batli/
CATEGORIES:MŪSDIENU DEJAS
ATTACH;FMTTYPE=image/png:https://dance.lv/wp-content/uploads/2026/03/Ekranuznemums-2026-03-28-165655.png
END:VEVENT
BEGIN:VEVENT
DTSTART;TZID=Europe/Riga:20260314T160000
DTEND;TZID=Europe/Riga:20260314T170000
DTSTAMP:20260420T122559
CREATED:20260328T150330Z
LAST-MODIFIED:20260328T150330Z
UID:10000962-1773504000-1773507600@dance.lv
SUMMARY:"Mēs tiksimies martā..."
DESCRIPTION:Senioru deju kopa “TACIS” Carnikavā aicina uz deju kolektīvu koncertu ”Mēs tiksimies martā…”.
URL:https://dance.lv/event/mes-tiksimies-marta/
LOCATION:Carnikavas vidusskolas multizāle
CATEGORIES:SKATUVISKĀ TAUTAS DEJA
ATTACH;FMTTYPE=image/jpeg:https://dance.lv/wp-content/uploads/2026/03/649649126_1701732844598066_5946631955368704901_n.jpg
END:VEVENT
BEGIN:VEVENT
DTSTART;TZID=Europe/Riga:20260314T170000
DTEND;TZID=Europe/Riga:20260314T170000
DTSTAMP:20260420T122559
CREATED:20260301T193524Z
LAST-MODIFIED:20260301T193604Z
UID:10000942-1773507600-1773507600@dance.lv
SUMMARY:Dejas māja KURTUVĒ: ES ARĪ ESMU LATVIJA
DESCRIPTION:Latvija ir viena no valstīm\, kas pret LGBTQ+ kopienu vēl joprojām mēģina cīnīties. Spilgts piemērs tam ir 2023. gada 9. novembra Saeimas sēde\, kurā tika pieņemts Dzīvesbiedru likums. Tajā politiķis Edgars Tavars izteicās\, ka “partnerības institūta pamatmērķis ir viendzimuma locekļiem dibināt ģimeni [..]\, melone nav banāns\, ābols nav bumbieris”. Šāds izteikums skaidri norāda uz neizpratni par LGBTQ+ kopienas pārstāvjiem\, kā arī par bailēm no netipiskas ģimenes. Izrādes idejas autors\, horeogrāfs un izpildītājs Vladimirs Goršantovs saka\, ka tas kopumā norāda uz vēlmi it visus sabiedrības locekļus “ielikt vienādās kastītēs”\, un vēlas atkal atgādināt par sabiedrībā iesakņojušiem stereotipiem par dzimumlomām un LGBTQ+ kopienu. Aizvien nākas dzirdēt\, ka LGBTQ+ pārstāvji paši izvēlas savu seksualitāti\, jo\, piemēram\, tas tagad esot stilīgi. Ja jau šādi par šīm tēmām tiek diskutēts Saeimā\, kuru ievēl Latvijas sabiedrība\, skaidrs\, ka par šo tēmu ir aktuāli aizvien runāt. Ar savu darbu viņš vēlas pielikt roku homofobijas samazināšanai Latvijā. \nVairāk informācijas https://www.bilesuparadize.lv/lv/event/166590
URL:https://dance.lv/event/dejas-maja-kurtuve-es-ari-esmu-latvija-2/
LOCATION:KURTUVE\, Valmiera
CATEGORIES:LAIKMETĪGĀ DEJA
ATTACH;FMTTYPE=image/webp:https://dance.lv/wp-content/uploads/2026/03/ONOwCB6FBp6m4Kf2R0U4CcmvGeNy8YBt1dMSCR57.webp
END:VEVENT
BEGIN:VEVENT
DTSTART;TZID=Europe/Riga:20260314T170000
DTEND;TZID=Europe/Riga:20260314T170000
DTSTAMP:20260420T122559
CREATED:20260328T152346Z
LAST-MODIFIED:20260328T152524Z
UID:10000964-1773507600-1773507600@dance.lv
SUMMARY:Laikmetīgās dejas izrāde "Sava vieta"
DESCRIPTION:14. martā plkst. 17.00 Emīla Dārziņa koncertzālē notiks Dmitrija Gaitjukeviča laikmetīgās dejas izrāde “Sava vieta”\, kas tapusi sadarbībā ar Rīgas Baleta skolas laikmetīgās dejas programmas izlaiduma kursa audzēknēm. “Sava vieta” pēta piederības un identitātes tēmu mūsdienu pasaulē: tā risina robežas starp kolektīvo un individuālo — starp vēlmi būt daļai no kopuma un nepieciešamību saglabāt savu personisko balsi. \nVairāk informācijas https://dance.lv/atkartoti-iestudeta-dmitrija-gaitjukevica-izrade-sava-vieta/
URL:https://dance.lv/event/laikmetigas-dejas-izrade-sava-vieta/
LOCATION:Emīla Dārziņa koncertzāle
CATEGORIES:LAIKMETĪGĀ DEJA
ATTACH;FMTTYPE=image/jpeg:https://dance.lv/wp-content/uploads/2026/03/inline-scaled-1.jpg
END:VEVENT
BEGIN:VEVENT
DTSTART;TZID=Europe/Riga:20260314T180000
DTEND;TZID=Europe/Riga:20260314T180000
DTSTAMP:20260420T122559
CREATED:20260301T192904Z
LAST-MODIFIED:20260301T192937Z
UID:10000938-1773511200-1773511200@dance.lv
SUMMARY:DEJU KOLEKTĪVA "RAKSTI" KONCERTS "MĒS"
DESCRIPTION:MĒS – tas ir stāsts par kopā radušos spēku. Par to\, kā dažādi cilvēki\, dažādas pieredzes un dažādi ceļi savijas vienā ritmā. Mūsu kolektīvs nav tikai deja – tā ir vide\, kur dzimst draudzības\, kur top tradīcijas\, kur katra balss un katrs solis ir nozīmīgs. \nKoncertā piedalās VPDK “Raksti”\, VPDK “Augšup”\, VPDK “Gatve”\, VPDK “Laismena”\, VPDK “Līdums”\, VPDK “Ūsiņš”\, VPDK “Vektors”\, TDA “Ogre”\, TDA “Vektors”\, BJDK “Pīlādzītis” \nVairāk informācijas https://www.bilesuparadize.lv/lv/event/166569
URL:https://dance.lv/event/deju-kolektiva-raksti-koncerts-mes/
LOCATION:Ogres novada Kultūras centrs
CATEGORIES:SKATUVISKĀ TAUTAS DEJA
ATTACH;FMTTYPE=image/webp:https://dance.lv/wp-content/uploads/2026/03/ozH19VedzNOarYoQ304TqEbqElndQmigPFuYZwmr.webp
END:VEVENT
BEGIN:VEVENT
DTSTART;TZID=Europe/Riga:20260314T180000
DTEND;TZID=Europe/Riga:20260314T180000
DTSTAMP:20260420T122559
CREATED:20260328T151157Z
LAST-MODIFIED:20260328T151240Z
UID:10000963-1773511200-1773511200@dance.lv
SUMMARY:"Caur mākoņu lapiņām"
DESCRIPTION:JDK “Daugaviņa” aicina visus uz koncertu “Caur mākoņu lapiņām”
URL:https://dance.lv/event/caur-makonu-lapinam-2/
CATEGORIES:SKATUVISKĀ TAUTAS DEJA
ATTACH;FMTTYPE=image/jpeg:https://dance.lv/wp-content/uploads/2026/03/643894597_1793943931517173_8864169999478091040_n.jpg
END:VEVENT
BEGIN:VEVENT
DTSTART;TZID=Europe/Riga:20260314T183000
DTEND;TZID=Europe/Riga:20260314T183000
DTSTAMP:20260420T122559
CREATED:20260301T190124Z
LAST-MODIFIED:20260301T190216Z
UID:10000931-1773513000-1773513000@dance.lv
SUMMARY:Dejas māja KURTUVĒ: SAVĒJĀ UN SVEŠĀ
DESCRIPTION:Laikmetīgās dejas izrādē “Savējā un svešā” horeogrāfe un dejotāja Marija Saveiko\, apvienojot kustību\, dzīvo mūziku un gaismu\, dalās personīgajā pieredzē par savu identitāti un piederības izjūtu Latvijā. Marija nāk no krievu-baltkrievu ģimenes\, ir uzaugusi Latvijā – valstī\, kuras brīvība ir tikpat jauna kā viņas paaudze. Šodien viņa dzīvo laikā\, kad Krievijas karš Ukrainā vēl vairāk Latvijas kultūrtelpā saasinājis tā saukto “nacionālo jautājumu”. Šī izrāde ir Marijas personīgā refleksija par sevis meklējumiem laiktelpā\, kurā satiekas dažādi skatpunkti\, identitātes un kultūras. \nVairāk informācijas https://www.bilesuparadize.lv/lv/event/166590
URL:https://dance.lv/event/dejas-maja-kurtuve-saveja-un-svesa/
LOCATION:KURTUVE\, Valmiera
CATEGORIES:LAIKMETĪGĀ DEJA
ATTACH;FMTTYPE=image/webp:https://dance.lv/wp-content/uploads/2026/03/ONOwCB6FBp6m4Kf2R0U4CcmvGeNy8YBt1dMSCR57.webp
END:VEVENT
BEGIN:VEVENT
DTSTART;TZID=Europe/Riga:20260314T190000
DTEND;TZID=Europe/Riga:20260314T210000
DTSTAMP:20260420T122559
CREATED:20260108T091550Z
LAST-MODIFIED:20260108T091550Z
UID:10000864-1773514800-1773522000@dance.lv
SUMMARY:ŽIZELE. Latvijas Nacionālā opera un balets
DESCRIPTION:„Žizele” ir viens no pirmajiem lielajiem romantisma baletiem un viens no retajiem\, kas saglabājies līdz mūsdienām. Uz lauku ciemata idilles fona risinās stāsts par naivās meitenes nodoto mīlestību\, ārprātu un dzīvi pēc nāves baisi skaistajā pasaulē\, kurā valda vilas – atriebīgi pieviltu sieviešu rēgi.
URL:https://dance.lv/event/zizele-latvijas-nacionala-opera-un-balets/2026-03-14/
CATEGORIES:BALETS
END:VEVENT
BEGIN:VEVENT
DTSTART;VALUE=DATE:20260315
DTEND;VALUE=DATE:20260316
DTSTAMP:20260420T122559
CREATED:20260301T193254Z
LAST-MODIFIED:20260301T193254Z
UID:10000940-1773532800-1773619199@dance.lv
SUMMARY:HYPER WEEKEND BALTICS
DESCRIPTION:Vairāk info: https://www.facebook.com/events/1256782189630708?acontext=%7B%22event_action_history%22%3A[%7B%22surface%22%3A%22home%22%7D%2C%7B%22mechanism%22%3A%22search_results%22%2C%22surface%22%3A%22search%22%7D]%2C%22ref_notif_type%22%3Anull%7D
URL:https://dance.lv/event/hyper-weekend-baltics/
LOCATION:J. Asara iela 13
CATEGORIES:MŪSDIENU DEJAS
END:VEVENT
BEGIN:VEVENT
DTSTART;TZID=Europe/Riga:20260315T170000
DTEND;TZID=Europe/Riga:20260315T180000
DTSTAMP:20260420T122559
CREATED:20260301T192935Z
LAST-MODIFIED:20260301T192935Z
UID:10000937-1773594000-1773597600@dance.lv
SUMMARY:Dejas māja KURTUVĒ: Trauslais spēks
DESCRIPTION:15. martā plkst. 17.00 – laikmetīgās dejas izrāde “Trauslais spēks” | PIRMIZRĀDE\, horeogrāfe Lelde Feldmane \nIzrādes radošā komanda \nHoreogrāfe: Lelde Feldmane\nIzpildītājas: Lelde Feldmane\, Leonilla Upeniece\, Niola Ose\, Beāte Ēķe\, Elizabete Ļaksa \nGaismu māksliniece: Leilia Mukhamatgalieva\nTehnisko risinājumu autors: Andris Zeļonka\nProducente: Lelde Feldmane\nLīdzproducents: Rīgas cirks \nIzrādē “Trauslais spēks” māksliniece Lelde Feldmane caur kustību\, akrobātiku un vārdu transformē personisko pieredzi izteiksmes valodā\, ko caurvij spēks un jūtīgums\, izturība un ievainojamība. Izrādes centrā ir vertikāls pilons\, kas kļūst par pasaules asi – axis mundi –\, un vienlaikus ir gan balsts\, gan izaicinājums\, aicinot mākslinieci izzināt līdzsvaru starp spēku un trauslumu. Ciešā kontaktā ar dejotāju grupu\, caur savstarpēju uzticēšanos un kopīgu kustību Lelde Feldmane panāk levitācijas ilūziju – stāvokli\, kur ķermenis pretojas smagumam un atveras attiecībām. Šī fiziskā prakse kļūst par simbolisku telpu\, kurā iemiesojas rūpes\, atbildība un klusa\, bet spēcīga līdzcietība. \n“Trauslais spēks” ir dziedniecisks darbs par apzinātu līdzcietības spēku – par rūpēm\, atbildības uzņemšanos un sevis veltīšanu otram. Šī klusā\, bieži neredzamā pašatdeve iemieso vienu no drosmīgākajām un spēcīgākajām mīlestības formām. Tā ir brīdis\, kur rūpes kļūst redzamas – žests apzinātas līdzcietības spēkam\, par rūpēm\, atbildību un sevis veltīšanu otram.
URL:https://dance.lv/event/dejas-maja-kurtuve-trauslais-speks/
LOCATION:KURTUVE\, Valmiera
CATEGORIES:LAIKMETĪGĀ DEJA
END:VEVENT
BEGIN:VEVENT
DTSTART;TZID=Europe/Riga:20260315T183000
DTEND;TZID=Europe/Riga:20260315T193000
DTSTAMP:20260420T122559
CREATED:20260301T193049Z
LAST-MODIFIED:20260301T194607Z
UID:10000939-1773599400-1773603000@dance.lv
SUMMARY:Dejas māja KURTUVĒ: Ar acīm ciet
DESCRIPTION:15. martā plkst. 18.30 – laikmetīgās dejas izrāde “Ar acīm ciet”\, horeogrāfe Elīna Gaitjukeviča \nIzrādes radošā komanda \nIzrādes idejas autore: Elīna Gaitjukeviča\nIzrādes horeogrāfi: Elīna Gaitjukeviča\, Dmitrijs Gaitjukevičs un dejotāji\nMūzikas autors un izpildītājs: Martin. Jo. Johnsons (Mārtiņš Jansons\, latviešu indie mūzikas grupas “100 baltas dvēseles” līderis)\nGaismu mākslinieks: Niks Cipruss\nIzpildītāji: deju grupas “Ritms” pamatsastāva dejotāji \nIzrādes pamats ir veidojies\, tieši caur jauniešu sajūtu prizmu pētot bailes. Ar kādām baiļu izjūtām mūsdienās saskaras jaunieši\, kā viņi izprot šo baiļu cēloņus un mēģina ar tiem tikt galā?
URL:https://dance.lv/event/dejas-maja-kurtuve-trauslais-speks-2/
LOCATION:KURTUVE\, Valmiera
CATEGORIES:LAIKMETĪGĀ DEJA
END:VEVENT
END:VCALENDAR