BEGIN:VCALENDAR
VERSION:2.0
PRODID:-//DANCE.LV - ECPv6.15.20//NONSGML v1.0//EN
CALSCALE:GREGORIAN
METHOD:PUBLISH
X-ORIGINAL-URL:https://dance.lv
X-WR-CALDESC:Events for DANCE.LV
REFRESH-INTERVAL;VALUE=DURATION:PT1H
X-Robots-Tag:noindex
X-PUBLISHED-TTL:PT1H
BEGIN:VTIMEZONE
TZID:Europe/Riga
BEGIN:DAYLIGHT
TZOFFSETFROM:+0200
TZOFFSETTO:+0300
TZNAME:EEST
DTSTART:20250330T010000
END:DAYLIGHT
BEGIN:STANDARD
TZOFFSETFROM:+0300
TZOFFSETTO:+0200
TZNAME:EET
DTSTART:20251026T010000
END:STANDARD
BEGIN:DAYLIGHT
TZOFFSETFROM:+0200
TZOFFSETTO:+0300
TZNAME:EEST
DTSTART:20260329T010000
END:DAYLIGHT
BEGIN:STANDARD
TZOFFSETFROM:+0300
TZOFFSETTO:+0200
TZNAME:EET
DTSTART:20261025T010000
END:STANDARD
BEGIN:DAYLIGHT
TZOFFSETFROM:+0200
TZOFFSETTO:+0300
TZNAME:EEST
DTSTART:20270328T010000
END:DAYLIGHT
BEGIN:STANDARD
TZOFFSETFROM:+0300
TZOFFSETTO:+0200
TZNAME:EET
DTSTART:20271031T010000
END:STANDARD
END:VTIMEZONE
BEGIN:VEVENT
DTSTART;TZID=Europe/Riga:20260225T190000
DTEND;TZID=Europe/Riga:20260225T210000
DTSTAMP:20260420T161229
CREATED:20250710T162508Z
LAST-MODIFIED:20260108T083954Z
UID:10000846-1772046000-1772053200@dance.lv
SUMMARY:KONCERTS (JEB BRIESMAS IKVIENAM). KAKTUSI
DESCRIPTION:KONCERTS (JEB BRIESMAS IKVIENAM) \nAmerikāņu horeogrāfa Džeroma Robinsa (1918-1998) balets Koncerts (jeb Briesmas ikvienam) ir komiska parodija par klasiskās mūzikas klausītājiem. Izrādes darbība norisinās Friderika Šopēna klaviermūzikas koncertā\, kas tā apmeklētājus aizvilina domu un iztēles dzīlēs. Iedomu tēli atdzīvojas\, atklājot cilvēku vājības un fantāzijas plašumus. Koncerts (jeb Briesmas ikvienam)\, radīts 1956. gadā\, ir publiku priecējošs darbs\, kas ar smaidu ļauj paskatīties uz mūsu pašu burvīgajiem trūkumiem un īpatnībām. \nDžeroms Robinss ir rakstījis: “Viena no koncerta apmeklējuma baudām ir iespēja pilnībā iegrimt mūzikas klausīšanās procesā. Mūsu iztēlē neapzināti sāk veidoties tēli un ainas\, kuru formu un virzienus ietekmē gan dzirdētā mūzika\, gan programmiņas saturs\, gan klausītāja personīgie sapņi\, problēmas un fantāzijas. Tieši Šopēna mūzikai ir raksturīgi izdomāti\, “ieprogrammēti” nosaukumi\, piemēram\, Tauriņa etīde\, Minūtes valsis\, Lietus lāšu prelūdija un citi.” \nKAKTUSI \nZviedru jaunā horeogrāfa Aleksandra Ekmaņa (1984) laikmetīgais balets Kaktusi ir veltīts mākslas kritikai. “Šis darbs ir par to\, kā mēs vērojam mākslu un bieži jūtam vajadzību to analizēt un “saprast”. Ticu\, ka nav viena pareiza veida\, kā to darīt\, un ka katrs mākslu var interpretēt un pieredzēt tā\, kā vēlas. Iespējams\, tā būs tikai sajūta\, ko nevar izskaidrot\, vai varbūt vēstījums būs labi saprotams. [..] KAKTUSI radās manas dzīves periodā\, kad biju ļoti apjucis un apbēdināts ikreiz\, kad kāds rakstīja par manu darbu. Man šķita\, nav godīgi\, ka viens cilvēks sēž un savā ziņā izlemj visu citu vietā\, par ko ir izrāde\,” stāsta horeogrāfs Aleksandrs Ekmans. \nIzrādē stīgu kvarteta izpildījumā skan Franča Jozefa Haidna\, Ludviga van Bēthovena un Franča Šūberta mūzika. Iestudējums pirmizrādīts Nīderlandes dejas teātrī II 2010. gadā.
URL:https://dance.lv/event/koncerts-jeb-briesmas-ikvienam-kaktusi-4/2026-02-25/
LOCATION:Latvijas Nacionālā opera un balets\, Aspazijas bulvāris 3\, Rīga\, LV-1050\, Latvia
CATEGORIES:BALETS
END:VEVENT
BEGIN:VEVENT
DTSTART;TZID=Europe/Riga:20260227T190000
DTEND;TZID=Europe/Riga:20260227T210000
DTSTAMP:20260420T161229
CREATED:20260108T091733Z
LAST-MODIFIED:20260108T091733Z
UID:10000865-1772218800-1772226000@dance.lv
SUMMARY:APBURTĀ PRINCESE. Latvijas Nacionālā opera un balets
DESCRIPTION:Pasaka par simtgadu miegā aizmigušu skaistu princesi\, ko atmodina drosmīga prinča skūpsts. Čaikovska brīnišķīgā mūzika un iestudējuma krāšņais skatuves noformējums ved uz brīnumzemi\, kurā mīt fejas\, pasaku tēli\, princeses un ļaundari. Baletā saglabāta Mariusa Petipā oriģinālā horeogrāfija.
URL:https://dance.lv/event/apburta-princese-latvijas-nacionala-opera-un-balets-3/2026-02-27/
CATEGORIES:BALETS
END:VEVENT
BEGIN:VEVENT
DTSTART;TZID=Europe/Riga:20260228T150000
DTEND;TZID=Europe/Riga:20260228T170000
DTSTAMP:20260420T161229
CREATED:20260108T091733Z
LAST-MODIFIED:20260108T091733Z
UID:10000866-1772290800-1772298000@dance.lv
SUMMARY:APBURTĀ PRINCESE. Latvijas Nacionālā opera un balets
DESCRIPTION:Pasaka par simtgadu miegā aizmigušu skaistu princesi\, ko atmodina drosmīga prinča skūpsts. Čaikovska brīnišķīgā mūzika un iestudējuma krāšņais skatuves noformējums ved uz brīnumzemi\, kurā mīt fejas\, pasaku tēli\, princeses un ļaundari. Baletā saglabāta Mariusa Petipā oriģinālā horeogrāfija.
URL:https://dance.lv/event/apburta-princese-latvijas-nacionala-opera-un-balets-3/2026-02-28/
CATEGORIES:BALETS
END:VEVENT
BEGIN:VEVENT
DTSTART;TZID=Europe/Riga:20260228T170000
DTEND;TZID=Europe/Riga:20260228T190000
DTSTAMP:20260420T161229
CREATED:20260301T191914Z
LAST-MODIFIED:20260301T191914Z
UID:10000932-1772298000-1772305200@dance.lv
SUMMARY:POLKA PILĪ. Tautas deju ansambļa KALVE koncerts
DESCRIPTION:
URL:https://dance.lv/event/polka-pili-tautas-deju-ansambla-kalve-koncerts/
LOCATION:Jelgavas pils
CATEGORIES:SKATUVISKĀ TAUTAS DEJA
ATTACH;FMTTYPE=image/jpeg:https://dance.lv/wp-content/uploads/2026/03/616599649_1493572615852985_3283265332837509899_n.jpg
END:VEVENT
BEGIN:VEVENT
DTSTART;TZID=Europe/Riga:20260228T180000
DTEND;TZID=Europe/Riga:20260228T200000
DTSTAMP:20260420T161229
CREATED:20260128T092344Z
LAST-MODIFIED:20260128T092344Z
UID:10000906-1772301600-1772308800@dance.lv
SUMMARY:SIRDĪS DEJA MIRDZ. Koncerts
DESCRIPTION:Pārdaugavas kultūras apvienības Kultūras centra “Imanta” jauniešu deju kolektīvs “Imanta” turpina tradīciju un aicina uz koncertu\, kurā tiksies ar draugu kolektīviem no Jelgavas\, Lielvārdes\, Ādažiem\, Ķekavas un Rīgas. Koncertā varēs ielūkoties arī gaidāmajā Tautas deju ansambļu un jauniešu dejotāju svētku programmā\, kas 2026. gada maijā notiks Liepājā\, kā arī varēs skatīt horeogrāfijas no koncerta dalībnieku repertuāra. \nKoncertā piedalīsies: Tautas deju ansambļi “Jaunība” (Jelgava)\, “Sprigulītis”(Ādaži)\, “Teiksma”(Rīga)\, “Zīle” (Ķekava)\, jauniešu deju kolektīvi “Imanta”(Rīga) un “Pūpolītis” (Lielvārde)\, vidējās paaudzes deju kolektīvi “Imanta” un “DeTeiksma” (Rīga). \nPasākumu organizē Rīgas valstspilsētas pašvaldības iestāde “Pārdaugavas kultūras apvienība”.
URL:https://dance.lv/event/sirdis-deja-mirdz-koncerts/
LOCATION:Kultūras pils ZIEMEĻBLĀZMA
CATEGORIES:SKATUVISKĀ TAUTAS DEJA
END:VEVENT
BEGIN:VEVENT
DTSTART;TZID=Europe/Riga:20260228T180000
DTEND;TZID=Europe/Riga:20260228T200000
DTSTAMP:20260420T161229
CREATED:20260128T093144Z
LAST-MODIFIED:20260128T093144Z
UID:10000910-1772301600-1772308800@dance.lv
SUMMARY:RUDZU DANČI. Koncerts
DESCRIPTION:
URL:https://dance.lv/event/rudzu-danci-koncerts/
LOCATION:Ropažu kultūras centrs
CATEGORIES:SKATUVISKĀ TAUTAS DEJA
ATTACH;FMTTYPE=image/jpeg:https://dance.lv/wp-content/uploads/2026/01/615966669_1486563966808335_4218119024019482888_n.jpg
END:VEVENT
BEGIN:VEVENT
DTSTART;TZID=Europe/Riga:20260228T180000
DTEND;TZID=Europe/Riga:20260228T200000
DTSTAMP:20260420T161229
CREATED:20260301T192110Z
LAST-MODIFIED:20260301T192110Z
UID:10000933-1772301600-1772308800@dance.lv
SUMMARY:VISI CEĻI VED UZ KULDĪGU. Koncerts
DESCRIPTION:
URL:https://dance.lv/event/visi-celi-ved-uz-kuldigu-koncerts-2/
LOCATION:Kuldīgas kultūras centrs
CATEGORIES:SKATUVISKĀ TAUTAS DEJA
ATTACH;FMTTYPE=image/jpeg:https://dance.lv/wp-content/uploads/2026/03/620021239_1570592754535189_9021848528122910833_n.jpg
END:VEVENT
BEGIN:VEVENT
DTSTART;TZID=Europe/Riga:20260228T180000
DTEND;TZID=Europe/Riga:20260228T200000
DTSTAMP:20260420T161229
CREATED:20260301T192330Z
LAST-MODIFIED:20260301T192330Z
UID:10000934-1772301600-1772308800@dance.lv
SUMMARY:DEJU SOĻI PAAUDZĒS. Latviešu skatuviskās dejas koncerts
DESCRIPTION:28. februārī plkst. 18.00 Burtnieku Kultūras centrā amatierkolektīvu deju koncerts “Deju soļi paaudzēs”. Ielūdz Valmieras Kultūras centra jauniešu deju kolektīvs “Sadancis” un draugi. Ieejas maksa 3 EUR.
URL:https://dance.lv/event/deju-soli-paaudzes-latviesu-skatuviskas-dejas-koncerts/
LOCATION:Burtnieku kultūras centrs
CATEGORIES:SKATUVISKĀ TAUTAS DEJA
ATTACH;FMTTYPE=image/jpeg:https://dance.lv/wp-content/uploads/2026/03/635316028_1324805453011834_3179429848190841291_n.jpg
END:VEVENT
BEGIN:VEVENT
DTSTART;TZID=Europe/Riga:20260228T183000
DTEND;TZID=Europe/Riga:20260228T190000
DTSTAMP:20260420T161229
CREATED:20260128T093547Z
LAST-MODIFIED:20260128T093547Z
UID:10000912-1772303400-1772305200@dance.lv
SUMMARY:ES SKATOS UZ SEVI. Laikmetīgās dejas izrāde
DESCRIPTION:“Man diemžēl ļoti patīk aizdomāties par visām tām alternatīvajām pieredzēm\, kuras varētu notikt\, ja vien es sevī nejustu to trauksmi. Un tieši tā ar laika mašīnu savā prātā es bieži aizceļoju. Vai Tu arī tā ceļo?” \nLaikmetīgās dejas izrāde “Es skatos uz sevi” apskata trauksmes radītās grūtības būt klātesošam\, caur fiziskām idejām pētot trauksmaino stāvokli. Izrādes dejotāji šo izaicinājumu izjūt ar savstarpējām attiecībām\, kas aicina nepadoties pirmajai reakcijai\, pieņemt notiekošo un veikt darbības\, kad tās tiek pieprasītas\, kamēr skatītājs tiek aicināts būt klātesošs jau nonākot izrādes norises vietā. \nHoreogrāfs: Nauris Miķelis Goba \nDejotāji: Anna Marija Puķe\, Sabīne Neilande\, Edvards Kurmiņš\, Aigars Larionovs\, Poļina Filippova\, Mārīte Supe\, Mārtiņš Emīls Aržanovskis \nDramaturģe: Elise Kundi-Matvejeva \nMūzikas autori: Erasmus Džons Talbots\, Frederiks Rīds \nScenogrāfe: Margarita Germane \nŪnijas iela 8-K3\, Rīga (Veizāna dejas skolas koncertzāle)
URL:https://dance.lv/event/es-skatos-uz-sevi-laikmetigas-dejas-izrade/2026-02-28/
LOCATION:VEIZĀNA DEJU SKOLA
CATEGORIES:LAIKMETĪGĀ DEJA
ATTACH;FMTTYPE=image/png:https://dance.lv/wp-content/uploads/2026/01/9e98c0291f731b33aa9a5281d02c7012.png
END:VEVENT
BEGIN:VEVENT
DTSTART;TZID=Europe/Riga:20260228T190000
DTEND;TZID=Europe/Riga:20260228T200000
DTSTAMP:20260420T161229
CREATED:20260128T093323Z
LAST-MODIFIED:20260128T093323Z
UID:10000911-1772305200-1772308800@dance.lv
SUMMARY:BEZSVARA KLUSUMS. Laikmetīgās dejas muzikāla izrāde
DESCRIPTION:Starp ieelpu un izelpu rodas bezsvara klusums. \nMēs vēlamies dāvāt mirkli miera mūsdienu trauksmainajā pasaulē. Dejas izrāde “Bezsvara klusums” ir laikmetīgās dejas un dzīvas mūzikas sadarbība. Cieņa. Cilvēcība. Saskaņa. \nIzrādē piedalās divi dejotāji un divi mūziķi\, kuri kopā veido vienotu māksliniecisko telpu. \nDeja: Linda Lejiņa-Grebina\, Ģirts Bisenieks \nMūzika: Rihards Lībietis\, Mārtiņš Miļevskis \n\n\n\n\nOrganizē: Radošās izaugsmes bulvāris
URL:https://dance.lv/event/bezsvara-klusums-laikmetigas-dejas-muzikala-izrade/
LOCATION:Dailes teātris
CATEGORIES:LAIKMETĪGĀ DEJA
END:VEVENT
BEGIN:VEVENT
DTSTART;TZID=Europe/Riga:20260228T190000
DTEND;TZID=Europe/Riga:20260228T210000
DTSTAMP:20260420T161229
CREATED:20260128T092633Z
LAST-MODIFIED:20260128T092633Z
UID:10000907-1772305200-1772312400@dance.lv
SUMMARY:IZ ZAĻA ZORA. Muzikāla skatuviskās dejas izrāde
DESCRIPTION:​​Latviešu skatuviskās dejas izrāde dzīvās mūzikas pavadījumā par mēslu talku Latgalē\, kas ir veltīta Latgales cilvēkam. \nGaišas\, priecīgas un enerģiskas 80 minūtes. Stāsta centrā ir meitene\, kura apstiprina savu emocionālo piederību Latgalei un savām acīm izstāsta talkas stāstu\, kas norisinās viņas pašas sētā. Izrāde balstās Latgales folkloras materiālos un cilvēku pieredzes stāstos\, tāpēc izrādes valoda – latgaliešu. \nPiedalās Latvijas Universitātes deju ansamblis “Pērle” un 13 dažādi mūziķi – muzikālā apvienība “Upes muzikanti”\, grupa “Rūžupis veiri” un muzikālā apvienība Trio “Bille”. \nDarba procesā un arī pirms tam ir secināts\, ka latgalietis ir karsts\, patiess un dabu mīlošs cilvēks. Cilvēks\, kuram no sirds rūp cits cilvēks. Talka\, īpaši mēslu talka ir kā svētki\, kuri beidzas ar dzīrēm – puiši noskata meitas un otrādi – tā ir draiska un priecīga. \nHoreogrāfs: Juris Gogulis \nRežisori: Elīna Apsīte un Juris Gogulis \nScenogrāfe: Laura Šalma \nMūzikas aranžija: muzikālā apvienība “Upes muzikanti” \nTērpu detaļu mākslinieks: Rihards Pelnēns \nBrauc tolkā-jem leidze draugus i kaimiņus. Ja nesagrib struodot\, tad vysmoz pasver iz ļusteigu dzeivuošonu. \n  \nLU deju ansambļa “Pērle” mākslinieciskais vadītājs Raimonds Dzintars\, repetitori Ignats Ančāns un Juris Gogulis \nIzrādi rīko nodibinājums “Deju un dziesmu fonds” \nFoto mākslinieks: Jānis Romanovskis \nGrafikas dizains: Agate Salna
URL:https://dance.lv/event/iz-zala-zora-muzikala-skatuviskas-dejas-izrade/
LOCATION:Liepājas Olimpiskais centrs
END:VEVENT
BEGIN:VEVENT
DTSTART;TZID=Europe/Riga:20260301T163000
DTEND;TZID=Europe/Riga:20260301T170000
DTSTAMP:20260420T161229
CREATED:20260128T093547Z
LAST-MODIFIED:20260128T093547Z
UID:10000913-1772382600-1772384400@dance.lv
SUMMARY:ES SKATOS UZ SEVI. Laikmetīgās dejas izrāde
DESCRIPTION:“Man diemžēl ļoti patīk aizdomāties par visām tām alternatīvajām pieredzēm\, kuras varētu notikt\, ja vien es sevī nejustu to trauksmi. Un tieši tā ar laika mašīnu savā prātā es bieži aizceļoju. Vai Tu arī tā ceļo?” \nLaikmetīgās dejas izrāde “Es skatos uz sevi” apskata trauksmes radītās grūtības būt klātesošam\, caur fiziskām idejām pētot trauksmaino stāvokli. Izrādes dejotāji šo izaicinājumu izjūt ar savstarpējām attiecībām\, kas aicina nepadoties pirmajai reakcijai\, pieņemt notiekošo un veikt darbības\, kad tās tiek pieprasītas\, kamēr skatītājs tiek aicināts būt klātesošs jau nonākot izrādes norises vietā. \nHoreogrāfs: Nauris Miķelis Goba \nDejotāji: Anna Marija Puķe\, Sabīne Neilande\, Edvards Kurmiņš\, Aigars Larionovs\, Poļina Filippova\, Mārīte Supe\, Mārtiņš Emīls Aržanovskis \nDramaturģe: Elise Kundi-Matvejeva \nMūzikas autori: Erasmus Džons Talbots\, Frederiks Rīds \nScenogrāfe: Margarita Germane \nŪnijas iela 8-K3\, Rīga (Veizāna dejas skolas koncertzāle)
URL:https://dance.lv/event/es-skatos-uz-sevi-laikmetigas-dejas-izrade/2026-03-01/
LOCATION:VEIZĀNA DEJU SKOLA
CATEGORIES:LAIKMETĪGĀ DEJA
ATTACH;FMTTYPE=image/png:https://dance.lv/wp-content/uploads/2026/01/9e98c0291f731b33aa9a5281d02c7012.png
END:VEVENT
END:VCALENDAR