BEGIN:VCALENDAR
VERSION:2.0
PRODID:-//DANCE.LV - ECPv6.15.20//NONSGML v1.0//EN
CALSCALE:GREGORIAN
METHOD:PUBLISH
X-ORIGINAL-URL:https://dance.lv
X-WR-CALDESC:Events for DANCE.LV
REFRESH-INTERVAL;VALUE=DURATION:PT1H
X-Robots-Tag:noindex
X-PUBLISHED-TTL:PT1H
BEGIN:VTIMEZONE
TZID:Europe/Riga
BEGIN:DAYLIGHT
TZOFFSETFROM:+0300
TZOFFSETTO:+0400
TZNAME:MSD
DTSTART:19810331T210000
END:DAYLIGHT
BEGIN:STANDARD
TZOFFSETFROM:+0400
TZOFFSETTO:+0300
TZNAME:MSK
DTSTART:19810930T200000
END:STANDARD
BEGIN:DAYLIGHT
TZOFFSETFROM:+0300
TZOFFSETTO:+0400
TZNAME:MSD
DTSTART:19820331T210000
END:DAYLIGHT
BEGIN:STANDARD
TZOFFSETFROM:+0400
TZOFFSETTO:+0300
TZNAME:MSK
DTSTART:19820930T200000
END:STANDARD
BEGIN:DAYLIGHT
TZOFFSETFROM:+0300
TZOFFSETTO:+0400
TZNAME:MSD
DTSTART:19830331T210000
END:DAYLIGHT
BEGIN:STANDARD
TZOFFSETFROM:+0400
TZOFFSETTO:+0300
TZNAME:MSK
DTSTART:19830930T200000
END:STANDARD
BEGIN:DAYLIGHT
TZOFFSETFROM:+0300
TZOFFSETTO:+0400
TZNAME:MSD
DTSTART:19840331T210000
END:DAYLIGHT
BEGIN:STANDARD
TZOFFSETFROM:+0400
TZOFFSETTO:+0300
TZNAME:MSK
DTSTART:19840929T230000
END:STANDARD
BEGIN:DAYLIGHT
TZOFFSETFROM:+0300
TZOFFSETTO:+0400
TZNAME:MSD
DTSTART:19850330T230000
END:DAYLIGHT
BEGIN:STANDARD
TZOFFSETFROM:+0400
TZOFFSETTO:+0300
TZNAME:MSK
DTSTART:19850928T230000
END:STANDARD
BEGIN:DAYLIGHT
TZOFFSETFROM:+0300
TZOFFSETTO:+0400
TZNAME:MSD
DTSTART:19860329T230000
END:DAYLIGHT
BEGIN:STANDARD
TZOFFSETFROM:+0400
TZOFFSETTO:+0300
TZNAME:MSK
DTSTART:19860927T230000
END:STANDARD
BEGIN:DAYLIGHT
TZOFFSETFROM:+0300
TZOFFSETTO:+0400
TZNAME:MSD
DTSTART:19870328T230000
END:DAYLIGHT
BEGIN:STANDARD
TZOFFSETFROM:+0400
TZOFFSETTO:+0300
TZNAME:MSK
DTSTART:19870926T230000
END:STANDARD
BEGIN:DAYLIGHT
TZOFFSETFROM:+0300
TZOFFSETTO:+0400
TZNAME:MSD
DTSTART:19880326T230000
END:DAYLIGHT
BEGIN:STANDARD
TZOFFSETFROM:+0400
TZOFFSETTO:+0300
TZNAME:MSK
DTSTART:19880924T230000
END:STANDARD
BEGIN:DAYLIGHT
TZOFFSETFROM:+0300
TZOFFSETTO:+0300
TZNAME:EEST
DTSTART:19890325T230000
END:DAYLIGHT
BEGIN:STANDARD
TZOFFSETFROM:+0300
TZOFFSETTO:+0200
TZNAME:EET
DTSTART:19890924T000000
END:STANDARD
BEGIN:DAYLIGHT
TZOFFSETFROM:+0200
TZOFFSETTO:+0300
TZNAME:EEST
DTSTART:19900325T000000
END:DAYLIGHT
BEGIN:STANDARD
TZOFFSETFROM:+0300
TZOFFSETTO:+0200
TZNAME:EET
DTSTART:19900930T000000
END:STANDARD
BEGIN:DAYLIGHT
TZOFFSETFROM:+0200
TZOFFSETTO:+0300
TZNAME:EEST
DTSTART:19910331T000000
END:DAYLIGHT
BEGIN:STANDARD
TZOFFSETFROM:+0300
TZOFFSETTO:+0200
TZNAME:EET
DTSTART:19910929T000000
END:STANDARD
BEGIN:DAYLIGHT
TZOFFSETFROM:+0200
TZOFFSETTO:+0300
TZNAME:EEST
DTSTART:19920329T000000
END:DAYLIGHT
BEGIN:STANDARD
TZOFFSETFROM:+0300
TZOFFSETTO:+0200
TZNAME:EET
DTSTART:19920927T000000
END:STANDARD
BEGIN:DAYLIGHT
TZOFFSETFROM:+0200
TZOFFSETTO:+0300
TZNAME:EEST
DTSTART:19930328T000000
END:DAYLIGHT
BEGIN:STANDARD
TZOFFSETFROM:+0300
TZOFFSETTO:+0200
TZNAME:EET
DTSTART:19930926T000000
END:STANDARD
BEGIN:DAYLIGHT
TZOFFSETFROM:+0200
TZOFFSETTO:+0300
TZNAME:EEST
DTSTART:19940327T000000
END:DAYLIGHT
BEGIN:STANDARD
TZOFFSETFROM:+0300
TZOFFSETTO:+0200
TZNAME:EET
DTSTART:19940925T000000
END:STANDARD
BEGIN:DAYLIGHT
TZOFFSETFROM:+0200
TZOFFSETTO:+0300
TZNAME:EEST
DTSTART:19950326T000000
END:DAYLIGHT
BEGIN:STANDARD
TZOFFSETFROM:+0300
TZOFFSETTO:+0200
TZNAME:EET
DTSTART:19950924T000000
END:STANDARD
BEGIN:DAYLIGHT
TZOFFSETFROM:+0200
TZOFFSETTO:+0300
TZNAME:EEST
DTSTART:19960331T000000
END:DAYLIGHT
BEGIN:STANDARD
TZOFFSETFROM:+0300
TZOFFSETTO:+0200
TZNAME:EET
DTSTART:19960929T000000
END:STANDARD
BEGIN:DAYLIGHT
TZOFFSETFROM:+0200
TZOFFSETTO:+0300
TZNAME:EEST
DTSTART:19970330T010000
END:DAYLIGHT
BEGIN:STANDARD
TZOFFSETFROM:+0300
TZOFFSETTO:+0200
TZNAME:EET
DTSTART:19971026T010000
END:STANDARD
BEGIN:DAYLIGHT
TZOFFSETFROM:+0200
TZOFFSETTO:+0300
TZNAME:EEST
DTSTART:19980329T010000
END:DAYLIGHT
BEGIN:STANDARD
TZOFFSETFROM:+0300
TZOFFSETTO:+0200
TZNAME:EET
DTSTART:19981025T010000
END:STANDARD
BEGIN:DAYLIGHT
TZOFFSETFROM:+0200
TZOFFSETTO:+0300
TZNAME:EEST
DTSTART:19990328T010000
END:DAYLIGHT
BEGIN:STANDARD
TZOFFSETFROM:+0300
TZOFFSETTO:+0200
TZNAME:EET
DTSTART:19991031T010000
END:STANDARD
BEGIN:STANDARD
TZOFFSETFROM:+0200
TZOFFSETTO:+0200
TZNAME:EET
DTSTART:20010101T220000
END:STANDARD
BEGIN:DAYLIGHT
TZOFFSETFROM:+0200
TZOFFSETTO:+0300
TZNAME:EEST
DTSTART:20010325T010000
END:DAYLIGHT
BEGIN:STANDARD
TZOFFSETFROM:+0300
TZOFFSETTO:+0200
TZNAME:EET
DTSTART:20011028T010000
END:STANDARD
BEGIN:DAYLIGHT
TZOFFSETFROM:+0200
TZOFFSETTO:+0300
TZNAME:EEST
DTSTART:20020331T010000
END:DAYLIGHT
BEGIN:STANDARD
TZOFFSETFROM:+0300
TZOFFSETTO:+0200
TZNAME:EET
DTSTART:20021027T010000
END:STANDARD
BEGIN:DAYLIGHT
TZOFFSETFROM:+0200
TZOFFSETTO:+0300
TZNAME:EEST
DTSTART:20030330T010000
END:DAYLIGHT
BEGIN:STANDARD
TZOFFSETFROM:+0300
TZOFFSETTO:+0200
TZNAME:EET
DTSTART:20031026T010000
END:STANDARD
BEGIN:DAYLIGHT
TZOFFSETFROM:+0200
TZOFFSETTO:+0300
TZNAME:EEST
DTSTART:20040328T010000
END:DAYLIGHT
BEGIN:STANDARD
TZOFFSETFROM:+0300
TZOFFSETTO:+0200
TZNAME:EET
DTSTART:20041031T010000
END:STANDARD
BEGIN:DAYLIGHT
TZOFFSETFROM:+0200
TZOFFSETTO:+0300
TZNAME:EEST
DTSTART:20050327T010000
END:DAYLIGHT
BEGIN:STANDARD
TZOFFSETFROM:+0300
TZOFFSETTO:+0200
TZNAME:EET
DTSTART:20051030T010000
END:STANDARD
BEGIN:DAYLIGHT
TZOFFSETFROM:+0200
TZOFFSETTO:+0300
TZNAME:EEST
DTSTART:20060326T010000
END:DAYLIGHT
BEGIN:STANDARD
TZOFFSETFROM:+0300
TZOFFSETTO:+0200
TZNAME:EET
DTSTART:20061029T010000
END:STANDARD
BEGIN:DAYLIGHT
TZOFFSETFROM:+0200
TZOFFSETTO:+0300
TZNAME:EEST
DTSTART:20070325T010000
END:DAYLIGHT
BEGIN:STANDARD
TZOFFSETFROM:+0300
TZOFFSETTO:+0200
TZNAME:EET
DTSTART:20071028T010000
END:STANDARD
BEGIN:DAYLIGHT
TZOFFSETFROM:+0200
TZOFFSETTO:+0300
TZNAME:EEST
DTSTART:20080330T010000
END:DAYLIGHT
BEGIN:STANDARD
TZOFFSETFROM:+0300
TZOFFSETTO:+0200
TZNAME:EET
DTSTART:20081026T010000
END:STANDARD
BEGIN:DAYLIGHT
TZOFFSETFROM:+0200
TZOFFSETTO:+0300
TZNAME:EEST
DTSTART:20090329T010000
END:DAYLIGHT
BEGIN:STANDARD
TZOFFSETFROM:+0300
TZOFFSETTO:+0200
TZNAME:EET
DTSTART:20091025T010000
END:STANDARD
BEGIN:DAYLIGHT
TZOFFSETFROM:+0200
TZOFFSETTO:+0300
TZNAME:EEST
DTSTART:20100328T010000
END:DAYLIGHT
BEGIN:STANDARD
TZOFFSETFROM:+0300
TZOFFSETTO:+0200
TZNAME:EET
DTSTART:20101031T010000
END:STANDARD
BEGIN:DAYLIGHT
TZOFFSETFROM:+0200
TZOFFSETTO:+0300
TZNAME:EEST
DTSTART:20110327T010000
END:DAYLIGHT
BEGIN:STANDARD
TZOFFSETFROM:+0300
TZOFFSETTO:+0200
TZNAME:EET
DTSTART:20111030T010000
END:STANDARD
BEGIN:DAYLIGHT
TZOFFSETFROM:+0200
TZOFFSETTO:+0300
TZNAME:EEST
DTSTART:20120325T010000
END:DAYLIGHT
BEGIN:STANDARD
TZOFFSETFROM:+0300
TZOFFSETTO:+0200
TZNAME:EET
DTSTART:20121028T010000
END:STANDARD
BEGIN:DAYLIGHT
TZOFFSETFROM:+0200
TZOFFSETTO:+0300
TZNAME:EEST
DTSTART:20130331T010000
END:DAYLIGHT
BEGIN:STANDARD
TZOFFSETFROM:+0300
TZOFFSETTO:+0200
TZNAME:EET
DTSTART:20131027T010000
END:STANDARD
BEGIN:DAYLIGHT
TZOFFSETFROM:+0200
TZOFFSETTO:+0300
TZNAME:EEST
DTSTART:20140330T010000
END:DAYLIGHT
BEGIN:STANDARD
TZOFFSETFROM:+0300
TZOFFSETTO:+0200
TZNAME:EET
DTSTART:20141026T010000
END:STANDARD
BEGIN:DAYLIGHT
TZOFFSETFROM:+0200
TZOFFSETTO:+0300
TZNAME:EEST
DTSTART:20150329T010000
END:DAYLIGHT
BEGIN:STANDARD
TZOFFSETFROM:+0300
TZOFFSETTO:+0200
TZNAME:EET
DTSTART:20151025T010000
END:STANDARD
BEGIN:DAYLIGHT
TZOFFSETFROM:+0200
TZOFFSETTO:+0300
TZNAME:EEST
DTSTART:20160327T010000
END:DAYLIGHT
BEGIN:STANDARD
TZOFFSETFROM:+0300
TZOFFSETTO:+0200
TZNAME:EET
DTSTART:20161030T010000
END:STANDARD
BEGIN:DAYLIGHT
TZOFFSETFROM:+0200
TZOFFSETTO:+0300
TZNAME:EEST
DTSTART:20170326T010000
END:DAYLIGHT
BEGIN:STANDARD
TZOFFSETFROM:+0300
TZOFFSETTO:+0200
TZNAME:EET
DTSTART:20171029T010000
END:STANDARD
BEGIN:DAYLIGHT
TZOFFSETFROM:+0200
TZOFFSETTO:+0300
TZNAME:EEST
DTSTART:20180325T010000
END:DAYLIGHT
BEGIN:STANDARD
TZOFFSETFROM:+0300
TZOFFSETTO:+0200
TZNAME:EET
DTSTART:20181028T010000
END:STANDARD
BEGIN:DAYLIGHT
TZOFFSETFROM:+0200
TZOFFSETTO:+0300
TZNAME:EEST
DTSTART:20190331T010000
END:DAYLIGHT
BEGIN:STANDARD
TZOFFSETFROM:+0300
TZOFFSETTO:+0200
TZNAME:EET
DTSTART:20191027T010000
END:STANDARD
BEGIN:DAYLIGHT
TZOFFSETFROM:+0200
TZOFFSETTO:+0300
TZNAME:EEST
DTSTART:20200329T010000
END:DAYLIGHT
BEGIN:STANDARD
TZOFFSETFROM:+0300
TZOFFSETTO:+0200
TZNAME:EET
DTSTART:20201025T010000
END:STANDARD
BEGIN:DAYLIGHT
TZOFFSETFROM:+0200
TZOFFSETTO:+0300
TZNAME:EEST
DTSTART:20210328T010000
END:DAYLIGHT
BEGIN:STANDARD
TZOFFSETFROM:+0300
TZOFFSETTO:+0200
TZNAME:EET
DTSTART:20211031T010000
END:STANDARD
BEGIN:DAYLIGHT
TZOFFSETFROM:+0200
TZOFFSETTO:+0300
TZNAME:EEST
DTSTART:20220327T010000
END:DAYLIGHT
BEGIN:STANDARD
TZOFFSETFROM:+0300
TZOFFSETTO:+0200
TZNAME:EET
DTSTART:20221030T010000
END:STANDARD
BEGIN:DAYLIGHT
TZOFFSETFROM:+0200
TZOFFSETTO:+0300
TZNAME:EEST
DTSTART:20230326T010000
END:DAYLIGHT
BEGIN:STANDARD
TZOFFSETFROM:+0300
TZOFFSETTO:+0200
TZNAME:EET
DTSTART:20231029T010000
END:STANDARD
BEGIN:DAYLIGHT
TZOFFSETFROM:+0200
TZOFFSETTO:+0300
TZNAME:EEST
DTSTART:20240331T010000
END:DAYLIGHT
BEGIN:STANDARD
TZOFFSETFROM:+0300
TZOFFSETTO:+0200
TZNAME:EET
DTSTART:20241027T010000
END:STANDARD
BEGIN:DAYLIGHT
TZOFFSETFROM:+0200
TZOFFSETTO:+0300
TZNAME:EEST
DTSTART:20250330T010000
END:DAYLIGHT
BEGIN:STANDARD
TZOFFSETFROM:+0300
TZOFFSETTO:+0200
TZNAME:EET
DTSTART:20251026T010000
END:STANDARD
BEGIN:DAYLIGHT
TZOFFSETFROM:+0200
TZOFFSETTO:+0300
TZNAME:EEST
DTSTART:20260329T010000
END:DAYLIGHT
BEGIN:STANDARD
TZOFFSETFROM:+0300
TZOFFSETTO:+0200
TZNAME:EET
DTSTART:20261025T010000
END:STANDARD
BEGIN:DAYLIGHT
TZOFFSETFROM:+0200
TZOFFSETTO:+0300
TZNAME:EEST
DTSTART:20270328T010000
END:DAYLIGHT
BEGIN:STANDARD
TZOFFSETFROM:+0300
TZOFFSETTO:+0200
TZNAME:EET
DTSTART:20271031T010000
END:STANDARD
END:VTIMEZONE
BEGIN:VEVENT
DTSTART;TZID=Europe/Riga:20260422T200613
DTEND;TZID=Europe/Riga:20260124T200000
DTSTAMP:20260422T200613
CREATED:20260127T093024Z
LAST-MODIFIED:20260127T093024Z
UID:10000883-0-1769284800@dance.lv
SUMMARY:ZIEMAS DANČI. Koncerts
DESCRIPTION:24. janvārī plkst.18.00 Skrundas kultūras namā aicinām baudīt tautas deju kolektīvu koncertu “Ziemas danči”.\nKoncertā piedalīsies: VPDK Snēpele\, SDK “Virši”\, VPDK “Laika Upe”\, VPDK Bandava\, VPDK Meždzirnas\, JDK “Imuliņa”\, JDK Spararats\, VPDK DimDari\, VPDK “Ozolāji”\, BDK Jautrais dancis\, BDK Kuldīdzēni\, VPDK Bandzenieki\, VPDK “Kurzemnieks”\, SDK Misiņš.
URL:https://dance.lv/event/ziemas-danci-koncerts/
LOCATION:Skrundas kultūras nams
CATEGORIES:SKATUVISKĀ TAUTAS DEJA
ATTACH;FMTTYPE=image/jpeg:https://dance.lv/wp-content/uploads/2026/01/611665757_1195970336015126_8469252880454727490_n.jpg
END:VEVENT
BEGIN:VEVENT
DTSTART;TZID=Europe/Riga:20251126T190000
DTEND;TZID=Europe/Riga:20251126T200000
DTSTAMP:20260422T200613
CREATED:20250805T114137Z
LAST-MODIFIED:20251229T121212Z
UID:10000715-1764183600-1764187200@dance.lv
SUMMARY:HA. Smieklu performance
DESCRIPTION:Horeogrāfe/ Izpildītāja: Jana Jacuka\nMentors: Miguels Melgaress\nKonsultants: Bruno Listopads\nDramaturģiskais atbalsts: Eva Susova un Toni Stefens\nTeksta konsultants: Joahims Robrehts\nTeksta redakcija sadarbībā ar: Nikolass Lange\nVokālie pasniedzēji: Moa Holgersone\, Monica Jansena\, Maria Magdalena Kozlovska\nGrafikas dizainere: Estere Betija Grāvere\nFotogrāfs: Pēteris Vīksna \nIedvesmas avoti: Stina Forsa un Amparo Gonzaless \nLīdzproducents: Ģertrūdes ielas teātris\nPirmizrāde Latvijā: 28/08/25\nIlgums: 50 min.\nValoda: izrāde angļu valodā ar tulkojumu latviešu valodā \nDarbs nebūtu iespējams bez Samas Šoeiermanes\, Veronikas Abdulas-Visockas\, DAS teātra pasniedzēju un kursabiedru atbalsta. \nIzrāde tapusi DAS Theatre maģistra programmas ietvaros\, ar finansiālu ATD-Aart Janszen fonda (Nīderlande) un Valsts Kultūrkapitāla fonda (Latvija) atbalstu. \nValoda:Angļu valodā ar tulkojumu latviešu valodā!
URL:https://dance.lv/event/ha-izrade/2025-11-26/
CATEGORIES:LAIKMETĪGĀ DEJA
END:VEVENT
BEGIN:VEVENT
DTSTART;TZID=Europe/Riga:20251126T190000
DTEND;TZID=Europe/Riga:20251126T200000
DTSTAMP:20260422T200613
CREATED:20250926T095725Z
LAST-MODIFIED:20251229T120949Z
UID:10000749-1764183600-1764187200@dance.lv
SUMMARY:PLĒSOŅAS. Kustību izrāde
DESCRIPTION:“Pienāca diena\, kad pasaule man kļuva par smagu un es noslīgu uz ceļiem. Te\, tuvāk pie zemes\, izrādījās vieglāk būt. Es neredzēju tik tālu uz priekšu. Neizjutu atbildību. Atmetu domas\, ka varu visu kontrolēt. Un sāku pārvietoties uz četrām.” \n  \n\nDaži cilvēki pazūd seriālos\, grāmatās vai teātrī\, citi aizraujas ar datorspēlēm vai iepirkšanos\, un daudzi atrod piepildījumu spēcīgās ideoloģijās\, reliģijās vai subkultūrās. Šī izrāde stāsta par cilvēkiem\, kuri meklē mierinājumu\, attālinoties no cilvēciskās prātuļošanas un sociuma uzslāņojumiem\, tā vietā pievēršoties instinktiem\, impulsiem un maņām\, kas biežāk sastopami dzīvnieku pasaulē. \n  \nIzrāde “Plēsoņas”\, kas balstīta dokumentālās liecībās un ķermeņa kustību pētniecībā\, ielūkojas kvadroberu subkultūrā\, kura interesējas par dzīvnieku fizisko eksistenci\, cenšoties izkopt zvēriem raksturīgo pārvietošanos uz četrām kājām. Šī identitāte kļūst arvien redzamāka jauniešu vidū\, piedāvājot savdabīgu patvērumu no civilizācijas radītās realitātes. \n  \nPievienojoties iestudējumam\, skatītāji piedzīvos sava veida spēles tiešraidi\, kurā trīs dejotāji un viens aktieris\, iejūtoties kvadroberu ādā\, savā starpā sacentīsies. Testējot savu ķermeņu spēkus un limitus\, viņi atklās svarīgākos aspektus ik vienā kopienā vai hobijā – azartu\, piederības sajūtu un iespēju sevi pierādīt ārpus darba\, skolas vai māju vides. \n  \nPaldies Jēkabam Čivlim par konsultāciju!\nIzrādē tiek izmantoti dūmi un stroboskops.\nIzrādē tiek izmatota necenzēta leksika.\nIzrāde piemērota no 16 gadu vecuma.
URL:https://dance.lv/event/plesonas-kustibu-izrade/2025-11-26/
LOCATION:Dirty Deal teatro
END:VEVENT
BEGIN:VEVENT
DTSTART;TZID=Europe/Riga:20251126T190000
DTEND;TZID=Europe/Riga:20251126T200000
DTSTAMP:20260422T200613
CREATED:20251127T083008Z
LAST-MODIFIED:20251127T083008Z
UID:10000803-1764183600-1764187200@dance.lv
SUMMARY:BŪT. Laikmetīgas dejas izrāde
DESCRIPTION:Būt būtnei- tas nozīmē noteikti būt. Es nemaz nevaru vairs nebūt. Es jau esmu! Es te esmu\, re\, es esmu! Te uz pasaules. Man te patīk. \n/ I.Ziedonis / \n​Izrāde par būšanām un nebūšanām. Par to\, kā mēs esam un kā reizēm neesam. Cik svarīgi ir būt? \n​Izrādes idejas autore: Monta Vandere \n​Horeogrāfija: Monta Vandere un Elīna Gaitjukeviča \n​Gaismu māksliniece: Leila Mukhamatgalieva \n​Muzikālā konsultante: Aija Pāsa\n​Dejo: deju grupas RITMS C grupas dejotāji
URL:https://dance.lv/event/but-laikmetigas-dejas-izrade/
LOCATION:VEF kultūras pils
CATEGORIES:LAIKMETĪGĀ DEJA
ATTACH;FMTTYPE=image/jpeg:https://dance.lv/wp-content/uploads/2025/11/I4PsgNMmxT3H9aqBzNyLOXdNcKJrKdDeuFbhlE0s.jpg
END:VEVENT
BEGIN:VEVENT
DTSTART;TZID=Europe/Riga:20251127T190000
DTEND;TZID=Europe/Riga:20251127T200000
DTSTAMP:20260422T200613
CREATED:20250805T114137Z
LAST-MODIFIED:20251229T121212Z
UID:10000716-1764270000-1764273600@dance.lv
SUMMARY:HA. Smieklu performance
DESCRIPTION:Horeogrāfe/ Izpildītāja: Jana Jacuka\nMentors: Miguels Melgaress\nKonsultants: Bruno Listopads\nDramaturģiskais atbalsts: Eva Susova un Toni Stefens\nTeksta konsultants: Joahims Robrehts\nTeksta redakcija sadarbībā ar: Nikolass Lange\nVokālie pasniedzēji: Moa Holgersone\, Monica Jansena\, Maria Magdalena Kozlovska\nGrafikas dizainere: Estere Betija Grāvere\nFotogrāfs: Pēteris Vīksna \nIedvesmas avoti: Stina Forsa un Amparo Gonzaless \nLīdzproducents: Ģertrūdes ielas teātris\nPirmizrāde Latvijā: 28/08/25\nIlgums: 50 min.\nValoda: izrāde angļu valodā ar tulkojumu latviešu valodā \nDarbs nebūtu iespējams bez Samas Šoeiermanes\, Veronikas Abdulas-Visockas\, DAS teātra pasniedzēju un kursabiedru atbalsta. \nIzrāde tapusi DAS Theatre maģistra programmas ietvaros\, ar finansiālu ATD-Aart Janszen fonda (Nīderlande) un Valsts Kultūrkapitāla fonda (Latvija) atbalstu. \nValoda:Angļu valodā ar tulkojumu latviešu valodā!
URL:https://dance.lv/event/ha-izrade/2025-11-27/
CATEGORIES:LAIKMETĪGĀ DEJA
END:VEVENT
BEGIN:VEVENT
DTSTART;TZID=Europe/Riga:20251127T190000
DTEND;TZID=Europe/Riga:20251127T200000
DTSTAMP:20260422T200613
CREATED:20250926T095725Z
LAST-MODIFIED:20251229T120949Z
UID:10000750-1764270000-1764273600@dance.lv
SUMMARY:PLĒSOŅAS. Kustību izrāde
DESCRIPTION:“Pienāca diena\, kad pasaule man kļuva par smagu un es noslīgu uz ceļiem. Te\, tuvāk pie zemes\, izrādījās vieglāk būt. Es neredzēju tik tālu uz priekšu. Neizjutu atbildību. Atmetu domas\, ka varu visu kontrolēt. Un sāku pārvietoties uz četrām.” \n  \n\nDaži cilvēki pazūd seriālos\, grāmatās vai teātrī\, citi aizraujas ar datorspēlēm vai iepirkšanos\, un daudzi atrod piepildījumu spēcīgās ideoloģijās\, reliģijās vai subkultūrās. Šī izrāde stāsta par cilvēkiem\, kuri meklē mierinājumu\, attālinoties no cilvēciskās prātuļošanas un sociuma uzslāņojumiem\, tā vietā pievēršoties instinktiem\, impulsiem un maņām\, kas biežāk sastopami dzīvnieku pasaulē. \n  \nIzrāde “Plēsoņas”\, kas balstīta dokumentālās liecībās un ķermeņa kustību pētniecībā\, ielūkojas kvadroberu subkultūrā\, kura interesējas par dzīvnieku fizisko eksistenci\, cenšoties izkopt zvēriem raksturīgo pārvietošanos uz četrām kājām. Šī identitāte kļūst arvien redzamāka jauniešu vidū\, piedāvājot savdabīgu patvērumu no civilizācijas radītās realitātes. \n  \nPievienojoties iestudējumam\, skatītāji piedzīvos sava veida spēles tiešraidi\, kurā trīs dejotāji un viens aktieris\, iejūtoties kvadroberu ādā\, savā starpā sacentīsies. Testējot savu ķermeņu spēkus un limitus\, viņi atklās svarīgākos aspektus ik vienā kopienā vai hobijā – azartu\, piederības sajūtu un iespēju sevi pierādīt ārpus darba\, skolas vai māju vides. \n  \nPaldies Jēkabam Čivlim par konsultāciju!\nIzrādē tiek izmantoti dūmi un stroboskops.\nIzrādē tiek izmatota necenzēta leksika.\nIzrāde piemērota no 16 gadu vecuma.
URL:https://dance.lv/event/plesonas-kustibu-izrade/2025-11-27/
LOCATION:Dirty Deal teatro
END:VEVENT
BEGIN:VEVENT
DTSTART;TZID=Europe/Riga:20251128T200000
DTEND;TZID=Europe/Riga:20251128T210000
DTSTAMP:20260422T200613
CREATED:20250710T161306Z
LAST-MODIFIED:20250710T161411Z
UID:10000682-1764360000-1764363600@dance.lv
SUMMARY:VĀRNA. Lidojums vienā cēlienā
DESCRIPTION:Mūziķa un komponista Reiņa Sējāna un Latvijas Nacionālā baleta vadošās solistes un horeogrāfes Elzas Leimanes kopdarbs “VĀRNA. LIDOJUMS VIENĀ CĒLIENĀ” Dailes teātrī izskanēs ar simfonisku vērienu. Tas ir stāsts par cilvēku – ne par vārnu – par cilvēka iekšējo cīņu\, par neglīto skaistajā un skaisto neglītajā\, tuvošanos bīstamajam un sevis no jauna iepazīšanu. Vārna kā simbols\, kā ārkārtīgi intelektuāli attīstīts un skaists putns šo stāstu palīdz izstāstīt tā\, lai katrs tajā ieraudzītu sevi. \n”Iemiesot vārnu\, iedzīvināt to kustībās un pētīt iespējas\, ko sniedz šis tēls\, man sagādā lielu jaunrades prieku un patiesu iedvesmu\,” stāsta dejotāja un horeogrāfe Elza Leimane. \nProgrammā: Reinis Sējāns (1984) “Vārna. Lidojums vienā cēlienā” \nPiedalās: \nReinis Sējāns\, Elza Leimane \nValsts kamerorķestris “Sinfonietta Rīga”\, diriģents – Kaspars Ādamsons \nMaija Sējāne\, Anrijs Grinbergs \nLatvijas Nacionālā baleta vadošie solisti:\nKristaps Jaunžeikars\, Dariuss Florians Katana\, Roberts Naje\, Finians Patriks Heptings \nLibreta autore – Lāsma Olte\, režisors – Uģis Olte\, komponists – Reinis Sējāns\, kostīmi – Madara Botmane\, māksla – Lāsma Olte\, Kristaps Epners\, orķestrācija – Andris Sējāns\, horeogrāfe – Elza Leimane\, horeogrāfes asistents – Dmitrijs Gaitjukevičs\, grims – Līva Drešere
URL:https://dance.lv/event/varna-lidojums-viena-celiena-3/
LOCATION:Dailes teātris
CATEGORIES:BALETS
END:VEVENT
BEGIN:VEVENT
DTSTART;TZID=Europe/Riga:20251129T180000
DTEND;TZID=Europe/Riga:20251129T200000
DTSTAMP:20260422T200613
CREATED:20251024T100434Z
LAST-MODIFIED:20251024T100539Z
UID:10000774-1764439200-1764446400@dance.lv
SUMMARY:LAI RUNĀ PUTNI. Dejas izrāde
DESCRIPTION:Tā dzīve\, kam pietiek drosmes. \n  \nDejas izrāde “Lai runā putni” ir emocionāls un vizuāli izteiksmīgs stāsts par iekšējo brīvību\, drosmi spert soli nezināmajā un spēju pārvarēt robežas redzamās un neredzamās robežas. Tā ir atzīšanās par savām bailēm\, sapņiem un izvēli ieskrieties un lidot. \n  \n“Manos būros dzīvo putni. \nJo es jau ar putniem. \nTad lai runā mani putni.” \nDejotājas: Rūta Lāce\, Anna Anča\, Lote Neimane\, Zanda Freimane\, Elizabete Stola\, Ance Prokopova\, Marija Cvirkovska\, Sanda Ukstiņa\, Beāta Fokina. \nIzrādes režisore un horeogrāfe – Oļesja Putnāne. \nNotikumu būs iespējams piedzīvot Dobeles Pilsētas Kultūras namā 26. oktobrī un 29. novembrī. \nIzrādi organizē deju studija “PAnda.Dance Factory” ar Dobeles novada Kultūras pārvaldes un Dobeles Pašvaldības atbalstu. \nPapildu informācija šeit. \nFoto: Anete Podvinska
URL:https://dance.lv/event/lai-runa-putni-dejas-izrade-2/
CATEGORIES:MŪSDIENU DEJAS
ATTACH;FMTTYPE=image/jpeg:https://dance.lv/wp-content/uploads/2025/10/569052108_1398625368935000_3586357119319167296_n.jpg
END:VEVENT
BEGIN:VEVENT
DTSTART;TZID=Europe/Riga:20251129T180000
DTEND;TZID=Europe/Riga:20251129T200000
DTSTAMP:20260422T200613
CREATED:20251127T083201Z
LAST-MODIFIED:20251127T083201Z
UID:10000804-1764439200-1764446400@dance.lv
SUMMARY:LAI RUNĀ PUTNI. Dejas izrāde
DESCRIPTION:Mēs dzīvojam to dzīvi\, kurai mums pietika drosmes.\nIeskrieties un lidot. \n“Manos būros dzīvo putni.\nJo es jau ar putniem.\nTad lai runā mani putni.” \nRežija un horeogrāfija: Oļesja Putnāne\nOrganizators: PAnda.Dance factory\nDejotāji: Rūta Lāce\, Anna Anča\, Lote Neimane\, Zanda Freimane\, Elizabete Stola\, Ance Prokopova\, Marija Cvirkovska\, Sanda Ukstiņa\, Beāta Fokina \nAtbalstītāji: Dobeles novada Kultūras pārvalde\, Dobeles Pašvaldība
URL:https://dance.lv/event/lai-runa-putni-dejas-izrade-3/
LOCATION:Dobeles pilsētas kultūras nams
CATEGORIES:MŪSDIENU DEJAS
ATTACH;FMTTYPE=image/jpeg:https://dance.lv/wp-content/uploads/2025/11/EWe14TKhnFGOopawBhxIMvOmi4TnQgos1QBGikeE.jpg
END:VEVENT
BEGIN:VEVENT
DTSTART;TZID=Europe/Riga:20251129T180000
DTEND;TZID=Europe/Riga:20251129T201500
DTSTAMP:20260422T200613
CREATED:20250710T161921Z
LAST-MODIFIED:20260108T083611Z
UID:10000700-1764439200-1764447300@dance.lv
SUMMARY:RIEKSTKODIS. Latvijas Nacionālā opera un balets
DESCRIPTION:Pētera Čaikovska balets divos cēlienos \nAivara Leimaņa horeogrāfija un iestudējums pēc Vasilija Vainonena iestudējuma\nDiriģents Farhads Stade\nScenogrāfs un kostīmu mākslinieks Aleksandrs Vasiļjevs \nUz skatuves uzburta kāda pilsēta slavenajā un senajā Hanzas savienībā 19. gadsimta beigās. Varbūt Lībeka? Brēmene? Bet varbūt Rīga? Te Ziemassvētku naktī\, kad zemi apciemo brīnumi\, piedzimst un gaiša pareģojuma spēku iegūst kādas jaunas meitenes Ziemassvētku sapnis. Svētku vakarā ierodas Ziemassvētku vecītis ar dāvanu maisu. Kad maisā palikusi vairs viena dāvana – dīvaina lelle Riekstkodis – vecītis noslēpumaini izgaist. Tikai mazā Marija izjūt pret to maigumu un līdzcietību. Svētku naktī ierodas Peļu ķēniņš ar savu armiju. Viņu nolūks ir iegūt svētku egli. Pelēm drosmīgi pretim stājas Alvas zaldātiņi un Riekstkodis\, kurš tiek nāvīgi ievainots. Te parādās tēvocis Droselmeiers\, atdzīvina Marijas pasaku bruņinieku un pārvērš neglīto Riekstkodi princī\, bet pašu Mariju – princesē. Abi varoņi nokļūst pils ballē. Viņi dejo\, slavinot jaunību\, draudzību un mīlestību… Bet – aust rīts. Mazā Marija pamostas. Vai redzētais bijis tikai sapnis?
URL:https://dance.lv/event/riekstkodis-latvijas-nacionala-opera-un-balets-5/2025-11-29/
LOCATION:Latvijas Nacionālā opera un balets\, Aspazijas bulvāris 3\, Rīga\, LV-1050\, Latvia
CATEGORIES:BALETS
ATTACH;FMTTYPE=image/jpeg:https://dance.lv/wp-content/uploads/2018/12/riekstkodis.jpg
END:VEVENT
BEGIN:VEVENT
DTSTART;TZID=Europe/Riga:20251129T190000
DTEND;TZID=Europe/Riga:20251129T210000
DTSTAMP:20260422T200613
CREATED:20251201T093714Z
LAST-MODIFIED:20251201T093714Z
UID:10000818-1764442800-1764450000@dance.lv
SUMMARY:SVEIKA\, ZIEMA! SVEIKI\, DRAUGI! Koncerts
DESCRIPTION:Kad koku zari kļuvuši kaili un sals maigi pieskaras zemei\, gaisā jūtama ziemas elpa — tas nozīmē\, ka tuvojas ikgadējais sadraudzības deju koncerts “Sveika\, ziema! Sveiki\, draugi!” \nŠogad kopā dejosim ar:\n@jdk_daardari \, @usins_jdk \, @jdk_austrins \, @balvuvilcins \, @de_teiksma \, @vip_ievina \, kā arī mūsu mazajiem brāļiem un māsām — @bdk_bucini . \nCītīgi gatavojamies\, lai radītu siltu un sirsnīgu koncertu Jums – skatītāji. ❤️\nTiekamies 29. novembrī plkst. 19.00 Smiltenes novada Kultūras centrā! \nBiļetes: biļešuparadīze.lv vai Smiltenes novada Kultūras centra kasē.
URL:https://dance.lv/event/sveika-ziema-sveiki-draugi-koncerts/
LOCATION:Smiltenes novada kultūras centrs
CATEGORIES:SKATUVISKĀ TAUTAS DEJA
ATTACH;FMTTYPE=image/png:https://dance.lv/wp-content/uploads/2025/12/Screenshot-2025-12-01-113415.png
END:VEVENT
BEGIN:VEVENT
DTSTART;TZID=Europe/Riga:20251129T200000
DTEND;TZID=Europe/Riga:20251129T210000
DTSTAMP:20260422T200613
CREATED:20250710T161804Z
LAST-MODIFIED:20250710T161804Z
UID:10000684-1764446400-1764450000@dance.lv
SUMMARY:VĀRNA. Lidojums vienā cēlienā
DESCRIPTION:Mūziķa un komponista Reiņa Sējāna un Latvijas Nacionālā baleta vadošās solistes un horeogrāfes Elzas Leimanes kopdarbs “VĀRNA. LIDOJUMS VIENĀ CĒLIENĀ” Dailes teātrī izskanēs ar simfonisku vērienu. Tas ir stāsts par cilvēku – ne par vārnu – par cilvēka iekšējo cīņu\, par neglīto skaistajā un skaisto neglītajā\, tuvošanos bīstamajam un sevis no jauna iepazīšanu. Vārna kā simbols\, kā ārkārtīgi intelektuāli attīstīts un skaists putns šo stāstu palīdz izstāstīt tā\, lai katrs tajā ieraudzītu sevi. \n”Iemiesot vārnu\, iedzīvināt to kustībās un pētīt iespējas\, ko sniedz šis tēls\, man sagādā lielu jaunrades prieku un patiesu iedvesmu\,” stāsta dejotāja un horeogrāfe Elza Leimane. \nProgrammā: Reinis Sējāns (1984) “Vārna. Lidojums vienā cēlienā” \nPiedalās: \nReinis Sējāns\, Elza Leimane \nValsts kamerorķestris “Sinfonietta Rīga”\, diriģents – Kaspars Ādamsons \nMaija Sējāne\, Anrijs Grinbergs \nLatvijas Nacionālā baleta vadošie solisti:\nKristaps Jaunžeikars\, Dariuss Florians Katana\, Roberts Naje\, Finians Patriks Heptings \nLibreta autore – Lāsma Olte\, režisors – Uģis Olte\, komponists – Reinis Sējāns\, kostīmi – Madara Botmane\, māksla – Lāsma Olte\, Kristaps Epners\, orķestrācija – Andris Sējāns\, horeogrāfe – Elza Leimane\, horeogrāfes asistents – Dmitrijs Gaitjukevičs\, grims – Līva Drešere
URL:https://dance.lv/event/varna-lidojums-viena-celiena-4/
LOCATION:Latvijas Nacionālā opera un balets\, Aspazijas bulvāris 3\, Rīga\, LV-1050\, Latvia
CATEGORIES:BALETS
END:VEVENT
BEGIN:VEVENT
DTSTART;TZID=Europe/Riga:20251130T180000
DTEND;TZID=Europe/Riga:20251130T201500
DTSTAMP:20260422T200613
CREATED:20250710T161921Z
LAST-MODIFIED:20260108T083611Z
UID:10000701-1764525600-1764533700@dance.lv
SUMMARY:RIEKSTKODIS. Latvijas Nacionālā opera un balets
DESCRIPTION:Pētera Čaikovska balets divos cēlienos \nAivara Leimaņa horeogrāfija un iestudējums pēc Vasilija Vainonena iestudējuma\nDiriģents Farhads Stade\nScenogrāfs un kostīmu mākslinieks Aleksandrs Vasiļjevs \nUz skatuves uzburta kāda pilsēta slavenajā un senajā Hanzas savienībā 19. gadsimta beigās. Varbūt Lībeka? Brēmene? Bet varbūt Rīga? Te Ziemassvētku naktī\, kad zemi apciemo brīnumi\, piedzimst un gaiša pareģojuma spēku iegūst kādas jaunas meitenes Ziemassvētku sapnis. Svētku vakarā ierodas Ziemassvētku vecītis ar dāvanu maisu. Kad maisā palikusi vairs viena dāvana – dīvaina lelle Riekstkodis – vecītis noslēpumaini izgaist. Tikai mazā Marija izjūt pret to maigumu un līdzcietību. Svētku naktī ierodas Peļu ķēniņš ar savu armiju. Viņu nolūks ir iegūt svētku egli. Pelēm drosmīgi pretim stājas Alvas zaldātiņi un Riekstkodis\, kurš tiek nāvīgi ievainots. Te parādās tēvocis Droselmeiers\, atdzīvina Marijas pasaku bruņinieku un pārvērš neglīto Riekstkodi princī\, bet pašu Mariju – princesē. Abi varoņi nokļūst pils ballē. Viņi dejo\, slavinot jaunību\, draudzību un mīlestību… Bet – aust rīts. Mazā Marija pamostas. Vai redzētais bijis tikai sapnis?
URL:https://dance.lv/event/riekstkodis-latvijas-nacionala-opera-un-balets-5/2025-11-30/
LOCATION:Latvijas Nacionālā opera un balets\, Aspazijas bulvāris 3\, Rīga\, LV-1050\, Latvia
CATEGORIES:BALETS
ATTACH;FMTTYPE=image/jpeg:https://dance.lv/wp-content/uploads/2018/12/riekstkodis.jpg
END:VEVENT
END:VCALENDAR