BEGIN:VCALENDAR
VERSION:2.0
PRODID:-//DANCE.LV - ECPv6.15.20//NONSGML v1.0//EN
CALSCALE:GREGORIAN
METHOD:PUBLISH
X-WR-CALNAME:DANCE.LV
X-ORIGINAL-URL:https://dance.lv
X-WR-CALDESC:Events for DANCE.LV
REFRESH-INTERVAL;VALUE=DURATION:PT1H
X-Robots-Tag:noindex
X-PUBLISHED-TTL:PT1H
BEGIN:VTIMEZONE
TZID:Europe/Riga
BEGIN:DAYLIGHT
TZOFFSETFROM:+0300
TZOFFSETTO:+0400
TZNAME:MSD
DTSTART:19810331T210000
END:DAYLIGHT
BEGIN:STANDARD
TZOFFSETFROM:+0400
TZOFFSETTO:+0300
TZNAME:MSK
DTSTART:19810930T200000
END:STANDARD
BEGIN:DAYLIGHT
TZOFFSETFROM:+0300
TZOFFSETTO:+0400
TZNAME:MSD
DTSTART:19820331T210000
END:DAYLIGHT
BEGIN:STANDARD
TZOFFSETFROM:+0400
TZOFFSETTO:+0300
TZNAME:MSK
DTSTART:19820930T200000
END:STANDARD
BEGIN:DAYLIGHT
TZOFFSETFROM:+0300
TZOFFSETTO:+0400
TZNAME:MSD
DTSTART:19830331T210000
END:DAYLIGHT
BEGIN:STANDARD
TZOFFSETFROM:+0400
TZOFFSETTO:+0300
TZNAME:MSK
DTSTART:19830930T200000
END:STANDARD
BEGIN:DAYLIGHT
TZOFFSETFROM:+0300
TZOFFSETTO:+0400
TZNAME:MSD
DTSTART:19840331T210000
END:DAYLIGHT
BEGIN:STANDARD
TZOFFSETFROM:+0400
TZOFFSETTO:+0300
TZNAME:MSK
DTSTART:19840929T230000
END:STANDARD
BEGIN:DAYLIGHT
TZOFFSETFROM:+0300
TZOFFSETTO:+0400
TZNAME:MSD
DTSTART:19850330T230000
END:DAYLIGHT
BEGIN:STANDARD
TZOFFSETFROM:+0400
TZOFFSETTO:+0300
TZNAME:MSK
DTSTART:19850928T230000
END:STANDARD
BEGIN:DAYLIGHT
TZOFFSETFROM:+0300
TZOFFSETTO:+0400
TZNAME:MSD
DTSTART:19860329T230000
END:DAYLIGHT
BEGIN:STANDARD
TZOFFSETFROM:+0400
TZOFFSETTO:+0300
TZNAME:MSK
DTSTART:19860927T230000
END:STANDARD
BEGIN:DAYLIGHT
TZOFFSETFROM:+0300
TZOFFSETTO:+0400
TZNAME:MSD
DTSTART:19870328T230000
END:DAYLIGHT
BEGIN:STANDARD
TZOFFSETFROM:+0400
TZOFFSETTO:+0300
TZNAME:MSK
DTSTART:19870926T230000
END:STANDARD
BEGIN:DAYLIGHT
TZOFFSETFROM:+0300
TZOFFSETTO:+0400
TZNAME:MSD
DTSTART:19880326T230000
END:DAYLIGHT
BEGIN:STANDARD
TZOFFSETFROM:+0400
TZOFFSETTO:+0300
TZNAME:MSK
DTSTART:19880924T230000
END:STANDARD
BEGIN:DAYLIGHT
TZOFFSETFROM:+0300
TZOFFSETTO:+0300
TZNAME:EEST
DTSTART:19890325T230000
END:DAYLIGHT
BEGIN:STANDARD
TZOFFSETFROM:+0300
TZOFFSETTO:+0200
TZNAME:EET
DTSTART:19890924T000000
END:STANDARD
BEGIN:DAYLIGHT
TZOFFSETFROM:+0200
TZOFFSETTO:+0300
TZNAME:EEST
DTSTART:19900325T000000
END:DAYLIGHT
BEGIN:STANDARD
TZOFFSETFROM:+0300
TZOFFSETTO:+0200
TZNAME:EET
DTSTART:19900930T000000
END:STANDARD
BEGIN:DAYLIGHT
TZOFFSETFROM:+0200
TZOFFSETTO:+0300
TZNAME:EEST
DTSTART:19910331T000000
END:DAYLIGHT
BEGIN:STANDARD
TZOFFSETFROM:+0300
TZOFFSETTO:+0200
TZNAME:EET
DTSTART:19910929T000000
END:STANDARD
BEGIN:DAYLIGHT
TZOFFSETFROM:+0200
TZOFFSETTO:+0300
TZNAME:EEST
DTSTART:19920329T000000
END:DAYLIGHT
BEGIN:STANDARD
TZOFFSETFROM:+0300
TZOFFSETTO:+0200
TZNAME:EET
DTSTART:19920927T000000
END:STANDARD
BEGIN:DAYLIGHT
TZOFFSETFROM:+0200
TZOFFSETTO:+0300
TZNAME:EEST
DTSTART:19930328T000000
END:DAYLIGHT
BEGIN:STANDARD
TZOFFSETFROM:+0300
TZOFFSETTO:+0200
TZNAME:EET
DTSTART:19930926T000000
END:STANDARD
BEGIN:DAYLIGHT
TZOFFSETFROM:+0200
TZOFFSETTO:+0300
TZNAME:EEST
DTSTART:19940327T000000
END:DAYLIGHT
BEGIN:STANDARD
TZOFFSETFROM:+0300
TZOFFSETTO:+0200
TZNAME:EET
DTSTART:19940925T000000
END:STANDARD
BEGIN:DAYLIGHT
TZOFFSETFROM:+0200
TZOFFSETTO:+0300
TZNAME:EEST
DTSTART:19950326T000000
END:DAYLIGHT
BEGIN:STANDARD
TZOFFSETFROM:+0300
TZOFFSETTO:+0200
TZNAME:EET
DTSTART:19950924T000000
END:STANDARD
BEGIN:DAYLIGHT
TZOFFSETFROM:+0200
TZOFFSETTO:+0300
TZNAME:EEST
DTSTART:19960331T000000
END:DAYLIGHT
BEGIN:STANDARD
TZOFFSETFROM:+0300
TZOFFSETTO:+0200
TZNAME:EET
DTSTART:19960929T000000
END:STANDARD
BEGIN:DAYLIGHT
TZOFFSETFROM:+0200
TZOFFSETTO:+0300
TZNAME:EEST
DTSTART:19970330T010000
END:DAYLIGHT
BEGIN:STANDARD
TZOFFSETFROM:+0300
TZOFFSETTO:+0200
TZNAME:EET
DTSTART:19971026T010000
END:STANDARD
BEGIN:DAYLIGHT
TZOFFSETFROM:+0200
TZOFFSETTO:+0300
TZNAME:EEST
DTSTART:19980329T010000
END:DAYLIGHT
BEGIN:STANDARD
TZOFFSETFROM:+0300
TZOFFSETTO:+0200
TZNAME:EET
DTSTART:19981025T010000
END:STANDARD
BEGIN:DAYLIGHT
TZOFFSETFROM:+0200
TZOFFSETTO:+0300
TZNAME:EEST
DTSTART:19990328T010000
END:DAYLIGHT
BEGIN:STANDARD
TZOFFSETFROM:+0300
TZOFFSETTO:+0200
TZNAME:EET
DTSTART:19991031T010000
END:STANDARD
BEGIN:STANDARD
TZOFFSETFROM:+0200
TZOFFSETTO:+0200
TZNAME:EET
DTSTART:20010101T220000
END:STANDARD
BEGIN:DAYLIGHT
TZOFFSETFROM:+0200
TZOFFSETTO:+0300
TZNAME:EEST
DTSTART:20010325T010000
END:DAYLIGHT
BEGIN:STANDARD
TZOFFSETFROM:+0300
TZOFFSETTO:+0200
TZNAME:EET
DTSTART:20011028T010000
END:STANDARD
BEGIN:DAYLIGHT
TZOFFSETFROM:+0200
TZOFFSETTO:+0300
TZNAME:EEST
DTSTART:20020331T010000
END:DAYLIGHT
BEGIN:STANDARD
TZOFFSETFROM:+0300
TZOFFSETTO:+0200
TZNAME:EET
DTSTART:20021027T010000
END:STANDARD
BEGIN:DAYLIGHT
TZOFFSETFROM:+0200
TZOFFSETTO:+0300
TZNAME:EEST
DTSTART:20030330T010000
END:DAYLIGHT
BEGIN:STANDARD
TZOFFSETFROM:+0300
TZOFFSETTO:+0200
TZNAME:EET
DTSTART:20031026T010000
END:STANDARD
BEGIN:DAYLIGHT
TZOFFSETFROM:+0200
TZOFFSETTO:+0300
TZNAME:EEST
DTSTART:20040328T010000
END:DAYLIGHT
BEGIN:STANDARD
TZOFFSETFROM:+0300
TZOFFSETTO:+0200
TZNAME:EET
DTSTART:20041031T010000
END:STANDARD
BEGIN:DAYLIGHT
TZOFFSETFROM:+0200
TZOFFSETTO:+0300
TZNAME:EEST
DTSTART:20050327T010000
END:DAYLIGHT
BEGIN:STANDARD
TZOFFSETFROM:+0300
TZOFFSETTO:+0200
TZNAME:EET
DTSTART:20051030T010000
END:STANDARD
BEGIN:DAYLIGHT
TZOFFSETFROM:+0200
TZOFFSETTO:+0300
TZNAME:EEST
DTSTART:20060326T010000
END:DAYLIGHT
BEGIN:STANDARD
TZOFFSETFROM:+0300
TZOFFSETTO:+0200
TZNAME:EET
DTSTART:20061029T010000
END:STANDARD
BEGIN:DAYLIGHT
TZOFFSETFROM:+0200
TZOFFSETTO:+0300
TZNAME:EEST
DTSTART:20070325T010000
END:DAYLIGHT
BEGIN:STANDARD
TZOFFSETFROM:+0300
TZOFFSETTO:+0200
TZNAME:EET
DTSTART:20071028T010000
END:STANDARD
BEGIN:DAYLIGHT
TZOFFSETFROM:+0200
TZOFFSETTO:+0300
TZNAME:EEST
DTSTART:20080330T010000
END:DAYLIGHT
BEGIN:STANDARD
TZOFFSETFROM:+0300
TZOFFSETTO:+0200
TZNAME:EET
DTSTART:20081026T010000
END:STANDARD
BEGIN:DAYLIGHT
TZOFFSETFROM:+0200
TZOFFSETTO:+0300
TZNAME:EEST
DTSTART:20090329T010000
END:DAYLIGHT
BEGIN:STANDARD
TZOFFSETFROM:+0300
TZOFFSETTO:+0200
TZNAME:EET
DTSTART:20091025T010000
END:STANDARD
BEGIN:DAYLIGHT
TZOFFSETFROM:+0200
TZOFFSETTO:+0300
TZNAME:EEST
DTSTART:20100328T010000
END:DAYLIGHT
BEGIN:STANDARD
TZOFFSETFROM:+0300
TZOFFSETTO:+0200
TZNAME:EET
DTSTART:20101031T010000
END:STANDARD
BEGIN:DAYLIGHT
TZOFFSETFROM:+0200
TZOFFSETTO:+0300
TZNAME:EEST
DTSTART:20110327T010000
END:DAYLIGHT
BEGIN:STANDARD
TZOFFSETFROM:+0300
TZOFFSETTO:+0200
TZNAME:EET
DTSTART:20111030T010000
END:STANDARD
BEGIN:DAYLIGHT
TZOFFSETFROM:+0200
TZOFFSETTO:+0300
TZNAME:EEST
DTSTART:20120325T010000
END:DAYLIGHT
BEGIN:STANDARD
TZOFFSETFROM:+0300
TZOFFSETTO:+0200
TZNAME:EET
DTSTART:20121028T010000
END:STANDARD
BEGIN:DAYLIGHT
TZOFFSETFROM:+0200
TZOFFSETTO:+0300
TZNAME:EEST
DTSTART:20130331T010000
END:DAYLIGHT
BEGIN:STANDARD
TZOFFSETFROM:+0300
TZOFFSETTO:+0200
TZNAME:EET
DTSTART:20131027T010000
END:STANDARD
BEGIN:DAYLIGHT
TZOFFSETFROM:+0200
TZOFFSETTO:+0300
TZNAME:EEST
DTSTART:20140330T010000
END:DAYLIGHT
BEGIN:STANDARD
TZOFFSETFROM:+0300
TZOFFSETTO:+0200
TZNAME:EET
DTSTART:20141026T010000
END:STANDARD
BEGIN:DAYLIGHT
TZOFFSETFROM:+0200
TZOFFSETTO:+0300
TZNAME:EEST
DTSTART:20150329T010000
END:DAYLIGHT
BEGIN:STANDARD
TZOFFSETFROM:+0300
TZOFFSETTO:+0200
TZNAME:EET
DTSTART:20151025T010000
END:STANDARD
BEGIN:DAYLIGHT
TZOFFSETFROM:+0200
TZOFFSETTO:+0300
TZNAME:EEST
DTSTART:20160327T010000
END:DAYLIGHT
BEGIN:STANDARD
TZOFFSETFROM:+0300
TZOFFSETTO:+0200
TZNAME:EET
DTSTART:20161030T010000
END:STANDARD
BEGIN:DAYLIGHT
TZOFFSETFROM:+0200
TZOFFSETTO:+0300
TZNAME:EEST
DTSTART:20170326T010000
END:DAYLIGHT
BEGIN:STANDARD
TZOFFSETFROM:+0300
TZOFFSETTO:+0200
TZNAME:EET
DTSTART:20171029T010000
END:STANDARD
BEGIN:DAYLIGHT
TZOFFSETFROM:+0200
TZOFFSETTO:+0300
TZNAME:EEST
DTSTART:20180325T010000
END:DAYLIGHT
BEGIN:STANDARD
TZOFFSETFROM:+0300
TZOFFSETTO:+0200
TZNAME:EET
DTSTART:20181028T010000
END:STANDARD
BEGIN:DAYLIGHT
TZOFFSETFROM:+0200
TZOFFSETTO:+0300
TZNAME:EEST
DTSTART:20190331T010000
END:DAYLIGHT
BEGIN:STANDARD
TZOFFSETFROM:+0300
TZOFFSETTO:+0200
TZNAME:EET
DTSTART:20191027T010000
END:STANDARD
BEGIN:DAYLIGHT
TZOFFSETFROM:+0200
TZOFFSETTO:+0300
TZNAME:EEST
DTSTART:20200329T010000
END:DAYLIGHT
BEGIN:STANDARD
TZOFFSETFROM:+0300
TZOFFSETTO:+0200
TZNAME:EET
DTSTART:20201025T010000
END:STANDARD
BEGIN:DAYLIGHT
TZOFFSETFROM:+0200
TZOFFSETTO:+0300
TZNAME:EEST
DTSTART:20210328T010000
END:DAYLIGHT
BEGIN:STANDARD
TZOFFSETFROM:+0300
TZOFFSETTO:+0200
TZNAME:EET
DTSTART:20211031T010000
END:STANDARD
BEGIN:DAYLIGHT
TZOFFSETFROM:+0200
TZOFFSETTO:+0300
TZNAME:EEST
DTSTART:20220327T010000
END:DAYLIGHT
BEGIN:STANDARD
TZOFFSETFROM:+0300
TZOFFSETTO:+0200
TZNAME:EET
DTSTART:20221030T010000
END:STANDARD
BEGIN:DAYLIGHT
TZOFFSETFROM:+0200
TZOFFSETTO:+0300
TZNAME:EEST
DTSTART:20230326T010000
END:DAYLIGHT
BEGIN:STANDARD
TZOFFSETFROM:+0300
TZOFFSETTO:+0200
TZNAME:EET
DTSTART:20231029T010000
END:STANDARD
BEGIN:DAYLIGHT
TZOFFSETFROM:+0200
TZOFFSETTO:+0300
TZNAME:EEST
DTSTART:20240331T010000
END:DAYLIGHT
BEGIN:STANDARD
TZOFFSETFROM:+0300
TZOFFSETTO:+0200
TZNAME:EET
DTSTART:20241027T010000
END:STANDARD
BEGIN:DAYLIGHT
TZOFFSETFROM:+0200
TZOFFSETTO:+0300
TZNAME:EEST
DTSTART:20250330T010000
END:DAYLIGHT
BEGIN:STANDARD
TZOFFSETFROM:+0300
TZOFFSETTO:+0200
TZNAME:EET
DTSTART:20251026T010000
END:STANDARD
BEGIN:DAYLIGHT
TZOFFSETFROM:+0200
TZOFFSETTO:+0300
TZNAME:EEST
DTSTART:20260329T010000
END:DAYLIGHT
BEGIN:STANDARD
TZOFFSETFROM:+0300
TZOFFSETTO:+0200
TZNAME:EET
DTSTART:20261025T010000
END:STANDARD
BEGIN:DAYLIGHT
TZOFFSETFROM:+0200
TZOFFSETTO:+0300
TZNAME:EEST
DTSTART:20270328T010000
END:DAYLIGHT
BEGIN:STANDARD
TZOFFSETFROM:+0300
TZOFFSETTO:+0200
TZNAME:EET
DTSTART:20271031T010000
END:STANDARD
END:VTIMEZONE
BEGIN:VEVENT
DTSTART;TZID=Europe/Riga:20260423T015311
DTEND;TZID=Europe/Riga:20260124T200000
DTSTAMP:20260423T015311
CREATED:20260127T093024Z
LAST-MODIFIED:20260127T093024Z
UID:10000883-0-1769284800@dance.lv
SUMMARY:ZIEMAS DANČI. Koncerts
DESCRIPTION:24. janvārī plkst.18.00 Skrundas kultūras namā aicinām baudīt tautas deju kolektīvu koncertu “Ziemas danči”.\nKoncertā piedalīsies: VPDK Snēpele\, SDK “Virši”\, VPDK “Laika Upe”\, VPDK Bandava\, VPDK Meždzirnas\, JDK “Imuliņa”\, JDK Spararats\, VPDK DimDari\, VPDK “Ozolāji”\, BDK Jautrais dancis\, BDK Kuldīdzēni\, VPDK Bandzenieki\, VPDK “Kurzemnieks”\, SDK Misiņš.
URL:https://dance.lv/event/ziemas-danci-koncerts/
LOCATION:Skrundas kultūras nams
CATEGORIES:SKATUVISKĀ TAUTAS DEJA
ATTACH;FMTTYPE=image/jpeg:https://dance.lv/wp-content/uploads/2026/01/611665757_1195970336015126_8469252880454727490_n.jpg
END:VEVENT
BEGIN:VEVENT
DTSTART;TZID=Europe/Riga:20251103T190000
DTEND;TZID=Europe/Riga:20251103T200000
DTSTAMP:20260423T015311
CREATED:20251101T150725Z
LAST-MODIFIED:20251101T150725Z
UID:10000791-1762196400-1762200000@dance.lv
SUMMARY:BRĪVPRĀTĪGĀ VERDZĪBA. Izrāde
DESCRIPTION:Pēdējā laikā šķiet\, ka pilnmēness nekad nenoriet. Cilvēki uzvedas tik savādi. Varētu pat teikt zvērīgi. \nVai cīņas par lielāko ekonomisko ieguvumu\, varu\, popularitāti tiešām ir cilvēces attīstības kronis? Vai tas ir evolucionārās inteliģences rezultāts? Vai tomēr konkurenci izraisa gēnos iekodētā informācija cīnīties par izdzīvošanu un savas ģenētiskās informācijas izplatīšanu? Vai ir iespējams pretoties gēnu egoismam? Un kas tad ir tas\, uz ko empātiskai sabiedrībai būtu jāvirzās? \nHoreogrāfs Vladimirs Goršantovs kopā ar radošo komandu\, iedvesmojoties no Ričarda Dokinsa grāmatas “Egoistiskais gēns’’\, pētījis\, kā cilvēku uzvedība sasaucas vai tieši atšķiras no dzīvniekiem. Ar ironiskiem elementiem\, atsaucēm uz ikdienišķām un globālām situācijām un National Geographic cienīgu atspoguļojumu tiks parādīta cīņa starp indivīda gribu un gēnu pavēlēm. \nSaite uz tīzeri: https://youtube.com/shorts/VkSoYNmksXA?si=_XKnq7tfeKCj6Vv2
URL:https://dance.lv/event/brivpratiga-verdziba-izrade/
LOCATION:Ģertrūdes ielas teātris
END:VEVENT
BEGIN:VEVENT
DTSTART;TZID=Europe/Riga:20251104T190000
DTEND;TZID=Europe/Riga:20251104T203000
DTSTAMP:20260423T015311
CREATED:20251024T131710Z
LAST-MODIFIED:20251024T131710Z
UID:10000779-1762282800-1762288200@dance.lv
SUMMARY:Starptautiskais Baltijas Baleta festivāls. GERSHWIN IN B
DESCRIPTION:30. Baltijas Baleta festivāla laikā VEF Kultūras pilī uzstāsies viena no ikoniskākajām Amerikas džeza deju kompānijām – Giordano Dance Chicago – ar izrādi Gershwin in B. Šis iestudējums ir aizraujošs un emocionāli piesātināts ceļojums džeza pasaulē\, kur Džordža Gēršvina mūzikas klasika savijas ar dinamisku un novatorisku horeogrāfiju\, atklājot jaunu skatījumu uz amerikāņu sapni un džeza enerģiju.\n\nKompānija Giordano Dance Chicago ir spilgta Amerikas kultūras vēstnese ar vairāk nekā pusgadsimtu ilgu vēsturi. No dibinātāja Gusa Džordāno deju skolas nelielajā Evanstonas pilsētā līdz mūsdienu pasaules līmeņa trupai Čikāgā – GDC ir kļuvusi par vienu no atpazīstamākajām džeza dejas kompānijām pasaulē. Tās kontā ir izrādes 28 valstīs\, 47 ASV štatos un vairāk nekā 1300 pilsētās\, un visur tās mērķis ir viens – ar deju iedvesmot\, aizraut un atdzīvināt skatītāju emocijas.\n\nGiordano Dance Chicago ir pazīstama ar savu spilgto un enerģētisko horeogrāfiju\, kas apvieno eleganci\, kaisli un spēku. Šī deju valoda ir universāla – tā runā par dzīvi\, kustību un cilvēka iekšējo enerģiju\, kas pārvēršas dejā.\n\nSkatītāji piedzīvos izrādi “Gershwin in B”\, kas tapusi\, iedvesmojoties no amerikāņu komponista Džordža Gēršvina radošā mantojuma. Tajā Gēršvina mūzikas ekstātiskā brīvība un ritmiskā daudzveidība atklājas kustībā – dejotāji uz skatuves rada veselu pasauli\, kurā mijas izmisums un kaisle\, degsme un drosme. Šī ir deja\, kas liek dzīvot līdz katram ritmam un notij.
URL:https://dance.lv/event/starptautiskais-baltijas-baleta-festivals-gershwin-in-b-2/
LOCATION:Koncertzāle CĒSIS
CATEGORIES:BALETS
ATTACH;FMTTYPE=image/jpeg:https://dance.lv/wp-content/uploads/2025/10/Gershwin-in-B.jpg
END:VEVENT
BEGIN:VEVENT
DTSTART;TZID=Europe/Riga:20251104T190000
DTEND;TZID=Europe/Riga:20251104T210000
DTSTAMP:20260423T015311
CREATED:20251101T145024Z
LAST-MODIFIED:20251101T145024Z
UID:10000784-1762282800-1762290000@dance.lv
SUMMARY:PA SAVAM. Izrāde
DESCRIPTION:Mūsdienu deju studijas “Buras” pamatsastāva izrāde “[PA]SAVAM” ir brīvs un krāsains kliedziens – dejas valodā izteikts aicinājums būt drosmīgiem\, ļauties kustībai un uzdrīkstēties dzīvot pēc saviem noteikumiem.\nTā ir deja priekam! Deja tiem\, kuri nebaidās būt drosmīgi\, nebaidās riskēt un iegriezt pasauli sev apkārt.\nŠī izrāde aicina katru atrast savu vietu dzīves virpulī\, atvērt acis\, sajust un pieņemt citus tādus\, kādi viņi ir.\nMums ir tik daudz dažādu slāņu aiz kā mēs slēpjamies – bet kad esam atklāti un brīvi\, vajag atbalstu un sapratni\, lai varam būt mēs paši! \nDejas izrādi veidoja: \nIdeja un režija Edīte Ābeltiņa\,\nHoreogrāfija Edīte Ābeltiņa\, Ksenija Simanova\, Glorija Špica\nMūziku pieradināja Nikita Turubanovs (Funky Dj Elegant)\nScenogrāfija Liena Šiliņa\nGaismas dizains Aleksejs Podžuks \n[Pa] SAVAM dejos: \nEnija Čiščakova\, Elīna Audze\, Kristiāna Zemīte\, Amēlija Čiščakova\, Dārta Džesika Skutule\, Dāvis Imants Ozoliņš\, Imants Ilgažs\, Lauris Treibahs\, Uvis Alonderis\, Artjoms Vasjoha\, Andris Lapiņš.
URL:https://dance.lv/event/pa-savam-izrade/
LOCATION:Hanzas perons
CATEGORIES:MŪSDIENU DEJAS
ATTACH;FMTTYPE=image/jpeg:https://dance.lv/wp-content/uploads/2025/11/W83Np4CJVlPhXzvHiesQre5ODzwBwM7I8yjL5Hvf.jpg
END:VEVENT
BEGIN:VEVENT
DTSTART;TZID=Europe/Riga:20251105T190000
DTEND;TZID=Europe/Riga:20251105T200000
DTSTAMP:20260423T015311
CREATED:20250805T114340Z
LAST-MODIFIED:20250805T114340Z
UID:10000717-1762369200-1762372800@dance.lv
SUMMARY:TAS IR VISS KO MĒS VARA. Izrāde
DESCRIPTION:režija: Andrejs Jarovojs\nkustību mākslinieki\, dejotāji: Emīlija Berga vai Simona Ozola\, Vladimirs Goršantovs\, Ramona Levane\, Darja Turčenko\nkostīmi: Sintija Jēkabsone\nmūzika: m.a.t.a.d.a.t.a.\ngaismas: d’n’a\nskaņa: Normunds Balodis\nvizuālā identitāte: Aleksejs Beļeckis\nproducents: Ģertrūdes ielas teātris\npirmizrāde: 20/12/2023\nilgums: 45 min \nizrāde tapusi ar Rīgas domes un Valsts Kultūrkapitāla fonda finansiālu atbalstu. \npaldies par atbalstu izrādes tapšanā: Erica Synths un Sonarworks
URL:https://dance.lv/event/tas-ir-viss-ko-mes-vara-izrade/
CATEGORIES:LAIKMETĪGĀ DEJA
END:VEVENT
BEGIN:VEVENT
DTSTART;TZID=Europe/Riga:20251106T190000
DTEND;TZID=Europe/Riga:20251106T200000
DTSTAMP:20260423T015311
CREATED:20251101T145249Z
LAST-MODIFIED:20251101T145249Z
UID:10000785-1762455600-1762459200@dance.lv
SUMMARY:CIK SKAISTI ZIED MAN’ ROŽU DĀRZS! Koncerts
DESCRIPTION:TDA “Zelta sietiņš”\, JDK “Sudraba stīgas” un VPDK “Mana Rotaļa” aicina uz deju sezonas atklāšanas koncertu CIK SKAISTI ZIED MAN’ ROŽU DĀRZS\, kas norisināsies 6. novembrī plkst. 19.00 VEF Kultūras pils Lielajā zālē. \nAnsambļa Zelta Sietiņš darbības pamatā vienmēr bijusi radoša pieeja un nemitīga jaunrade un tā ikkatra jauna sezona nes jaunus izaicinājumus un svaigas idejas! \nProgrammā – jaunas horeogrāfijas no tādiem pazīstamiem autoriem kā Taiga Ludborža\, Dāvis Ērglis\,  Diāna Gavare \, Baiba Šteina\, Elīna Kovaļevska\, Inga Čakāne un Dace Adviljone. Deju programmas mūzika oriģināla grupas Viedais Fonogrāfs mūziķu  radīta un izpildīta. Vakars solās būt dinamisks\, krāsains un ar smaidu – dejas ar humoru\, vieglumu un nelielu ironijas devu. \nKoncerta režisors: Kārlis Anitens
URL:https://dance.lv/event/cik-skaisti-zied-man-rozu-darzs-koncerts/
LOCATION:VEF kultūras pils
CATEGORIES:SKATUVISKĀ TAUTAS DEJA
ATTACH;FMTTYPE=image/jpeg:https://dance.lv/wp-content/uploads/2025/11/N2NioTE751UWPhKWXic0Idx1MkAUjGzGMZ0ToSw4.jpg
END:VEVENT
BEGIN:VEVENT
DTSTART;TZID=Europe/Riga:20251108T200000
DTEND;TZID=Europe/Riga:20251108T220000
DTSTAMP:20260423T015311
CREATED:20251101T145731Z
LAST-MODIFIED:20251101T145731Z
UID:10000786-1762632000-1762639200@dance.lv
SUMMARY:...KUR SAJŪTAS DEJO. Koncerts
DESCRIPTION:8. novembrī plkst. 20.00 Valmieras Kultūras centrā notiks TDA “Gauja” koncerts “…kur sajūtas dejo”. \nKoncertā piedalīsies: TDA “Gauja”\, VPDK “Gauja”\, “Gauja FIX”\, JDK “Sadancis”\, TDA “Teiksma”\, VPDK “Teiksma”\, VPDK “DeTeiksma”\, TDA “Līgo”\, VPDK “Līgo”\, TDA “Ačkups”. \nIeeja: 8-12 EUR\, ar Valmieras kultūras karti 1 EUR atlaide.
URL:https://dance.lv/event/kur-sajutas-dejo-koncerts/
LOCATION:Valmieras kultūras centrs
CATEGORIES:SKATUVISKĀ TAUTAS DEJA
ATTACH;FMTTYPE=image/jpeg:https://dance.lv/wp-content/uploads/2025/11/1tfpS6TNpdur5A8uY5sJFvPMXTq4JRc3ZWgmny1w.jpg
END:VEVENT
END:VCALENDAR