BEGIN:VCALENDAR
VERSION:2.0
PRODID:-//DANCE.LV - ECPv6.15.20//NONSGML v1.0//EN
CALSCALE:GREGORIAN
METHOD:PUBLISH
X-WR-CALNAME:DANCE.LV
X-ORIGINAL-URL:https://dance.lv
X-WR-CALDESC:Events for DANCE.LV
REFRESH-INTERVAL;VALUE=DURATION:PT1H
X-Robots-Tag:noindex
X-PUBLISHED-TTL:PT1H
BEGIN:VTIMEZONE
TZID:Europe/Riga
BEGIN:DAYLIGHT
TZOFFSETFROM:+0200
TZOFFSETTO:+0300
TZNAME:EEST
DTSTART:20250330T010000
END:DAYLIGHT
BEGIN:STANDARD
TZOFFSETFROM:+0300
TZOFFSETTO:+0200
TZNAME:EET
DTSTART:20251026T010000
END:STANDARD
BEGIN:DAYLIGHT
TZOFFSETFROM:+0200
TZOFFSETTO:+0300
TZNAME:EEST
DTSTART:20260329T010000
END:DAYLIGHT
BEGIN:STANDARD
TZOFFSETFROM:+0300
TZOFFSETTO:+0200
TZNAME:EET
DTSTART:20261025T010000
END:STANDARD
BEGIN:DAYLIGHT
TZOFFSETFROM:+0200
TZOFFSETTO:+0300
TZNAME:EEST
DTSTART:20270328T010000
END:DAYLIGHT
BEGIN:STANDARD
TZOFFSETFROM:+0300
TZOFFSETTO:+0200
TZNAME:EET
DTSTART:20271031T010000
END:STANDARD
END:VTIMEZONE
BEGIN:VEVENT
DTSTART;TZID=Europe/Riga:20260606T190000
DTEND;TZID=Europe/Riga:20260606T210000
DTSTAMP:20260423T192035
CREATED:20250710T061657Z
LAST-MODIFIED:20260108T092238Z
UID:10000875-1780772400-1780779600@dance.lv
SUMMARY:PĒRS GINTS. Latvijas Nacionālā opera un balets
DESCRIPTION:Baleta sižeta pamatā – Henrika Ibsena slavenā drāma\, kas tapusi 1867. gadā: dēkainis un laimes meklētājs Pērs Gints pēc daudziem piedzīvojumiem tālās pasaules malās kā vecs vīrs atgriežas mājās\, kur viņu vienmēr gaidījusi uzticīgā Solveiga. Vai mīlestība kļūs par Pēra Ginta pēdējo patvērumu? Starptautiski atzītais slovēņu horeogrāfs Edvards Klugs savā neoklasiskajā baletā apvienojis pašironiju\, absurdu un sirreālismu ar Edvarda Grīga valdzinošo melodiju poētiskajiem sapņiem. \nMuzikālais vadītājs un diriģents: Mārtiņš Ozoliņš\nHoreogrāfs un koncepcijas autors: Edvards Klūgs\nScenogrāfs: Marko Japels\nKostīmu mākslinieks: Leo Kulašs
URL:https://dance.lv/event/pers-gints-latvijas-nacionala-opera-un-balets-2/2026-06-06/
LOCATION:Latvijas Nacionālā opera un balets\, Aspazijas bulvāris 3\, Rīga\, LV-1050\, Latvia
CATEGORIES:BALETS
END:VEVENT
END:VCALENDAR