BEGIN:VCALENDAR
VERSION:2.0
PRODID:-//DANCE.LV - ECPv6.15.20//NONSGML v1.0//EN
CALSCALE:GREGORIAN
METHOD:PUBLISH
X-WR-CALNAME:DANCE.LV
X-ORIGINAL-URL:https://dance.lv
X-WR-CALDESC:Events for DANCE.LV
REFRESH-INTERVAL;VALUE=DURATION:PT1H
X-Robots-Tag:noindex
X-PUBLISHED-TTL:PT1H
BEGIN:VTIMEZONE
TZID:Europe/Riga
BEGIN:DAYLIGHT
TZOFFSETFROM:+0200
TZOFFSETTO:+0300
TZNAME:EEST
DTSTART:20250330T010000
END:DAYLIGHT
BEGIN:STANDARD
TZOFFSETFROM:+0300
TZOFFSETTO:+0200
TZNAME:EET
DTSTART:20251026T010000
END:STANDARD
BEGIN:DAYLIGHT
TZOFFSETFROM:+0200
TZOFFSETTO:+0300
TZNAME:EEST
DTSTART:20260329T010000
END:DAYLIGHT
BEGIN:STANDARD
TZOFFSETFROM:+0300
TZOFFSETTO:+0200
TZNAME:EET
DTSTART:20261025T010000
END:STANDARD
BEGIN:DAYLIGHT
TZOFFSETFROM:+0200
TZOFFSETTO:+0300
TZNAME:EEST
DTSTART:20270328T010000
END:DAYLIGHT
BEGIN:STANDARD
TZOFFSETFROM:+0300
TZOFFSETTO:+0200
TZNAME:EET
DTSTART:20271031T010000
END:STANDARD
END:VTIMEZONE
BEGIN:VEVENT
DTSTART;TZID=Europe/Riga:20260410T152247
DTEND;TZID=Europe/Riga:20260410T152247
DTSTAMP:20260421T065841
CREATED:20260410T121903Z
LAST-MODIFIED:20260410T122247Z
UID:10000991-1775834567-1775834567@dance.lv
SUMMARY:Ūsiņdienas koncerts
DESCRIPTION:Vairāk informācijas https://www.bilesuparadize.lv/lv/event/168781
URL:https://dance.lv/event/usindienas-koncerts/
LOCATION:Salaspils kultūras nams Rīgava
CATEGORIES:SKATUVISKĀ TAUTAS DEJA
ATTACH;FMTTYPE=image/jpeg:https://dance.lv/wp-content/uploads/2026/04/BmsDf9nvlY1DhRjS1P3f7K3qxQvagb1tDe6P7GMG.jpg
END:VEVENT
BEGIN:VEVENT
DTSTART;TZID=Europe/Riga:20260411T180000
DTEND;TZID=Europe/Riga:20260411T180000
DTSTAMP:20260421T065841
CREATED:20260408T151504Z
LAST-MODIFIED:20260408T151741Z
UID:10000987-1775930400-1775930400@dance.lv
SUMMARY:"Lustīgs te\, lustīgs tur"
DESCRIPTION:Senioru deju kolektīvs “Senbiguļi” aicina uz Deju kolektīvu sadraudzības koncerts “Lustīgs te\, lustīgs tur”! Koncertā piedalīsies SDK “Senbiguļi” (Bauska)\, SDK “Vecie vilki” (Vilce)\, SDK “Savinge” (Lietuva)\, SDK “Vijūnas” (Lietuva)\, DK “Rota” (Grenctāle) un JDK “Līdums” (Īslīce). \nVairāk informācijas https://www.facebook.com/events/2096066491239040/
URL:https://dance.lv/event/lustigs-te-lustigs-tur/
LOCATION:Bauskas kultūras centrs
CATEGORIES:SKATUVISKĀ TAUTAS DEJA
ATTACH;FMTTYPE=image/jpeg:https://dance.lv/wp-content/uploads/2026/04/659634367_1775028550618701_4144647793328020250_n.jpg
END:VEVENT
BEGIN:VEVENT
DTSTART;TZID=Europe/Riga:20260411T190000
DTEND;TZID=Europe/Riga:20260411T190000
DTSTAMP:20260421T065841
CREATED:20260408T150518Z
LAST-MODIFIED:20260408T150703Z
UID:10000986-1775934000-1775934000@dance.lv
SUMMARY:Saldus sadancis
DESCRIPTION:Brocēnos notiks tradicionālais “Saldus sadancis”\, kas pulcēs Saldus novada deju kolektīvus\, lai kopīgi svinētu dejas prieku un pavasara noskaņu. \nKoncertā piedalīsies TDA “Kursa”\, JDK “Blīdene”\, JDK “Puzurs”\, JDK “Puzurs studija”\, DK “Jaunauce”\, DK “Kursa”\, DK “Bandava”\, VPDK “Druva” un DK “Diždruva”.
URL:https://dance.lv/event/32329/
LOCATION:Brocēnu kultūras nams
CATEGORIES:SKATUVISKĀ TAUTAS DEJA
ATTACH;FMTTYPE=image/jpeg:https://dance.lv/wp-content/uploads/2026/04/661660547_1426317252842535_1001723246873976098_n.jpg
END:VEVENT
END:VCALENDAR