BEGIN:VCALENDAR
VERSION:2.0
PRODID:-//DANCE.LV - ECPv6.15.20//NONSGML v1.0//EN
CALSCALE:GREGORIAN
METHOD:PUBLISH
X-WR-CALNAME:DANCE.LV
X-ORIGINAL-URL:https://dance.lv
X-WR-CALDESC:Events for DANCE.LV
REFRESH-INTERVAL;VALUE=DURATION:PT1H
X-Robots-Tag:noindex
X-PUBLISHED-TTL:PT1H
BEGIN:VTIMEZONE
TZID:Europe/Riga
BEGIN:DAYLIGHT
TZOFFSETFROM:+0200
TZOFFSETTO:+0300
TZNAME:EEST
DTSTART:20250330T010000
END:DAYLIGHT
BEGIN:STANDARD
TZOFFSETFROM:+0300
TZOFFSETTO:+0200
TZNAME:EET
DTSTART:20251026T010000
END:STANDARD
BEGIN:DAYLIGHT
TZOFFSETFROM:+0200
TZOFFSETTO:+0300
TZNAME:EEST
DTSTART:20260329T010000
END:DAYLIGHT
BEGIN:STANDARD
TZOFFSETFROM:+0300
TZOFFSETTO:+0200
TZNAME:EET
DTSTART:20261025T010000
END:STANDARD
BEGIN:DAYLIGHT
TZOFFSETFROM:+0200
TZOFFSETTO:+0300
TZNAME:EEST
DTSTART:20270328T010000
END:DAYLIGHT
BEGIN:STANDARD
TZOFFSETFROM:+0300
TZOFFSETTO:+0200
TZNAME:EET
DTSTART:20271031T010000
END:STANDARD
END:VTIMEZONE
BEGIN:VEVENT
DTSTART;TZID=Europe/Riga:20260214T080000
DTEND;TZID=Europe/Riga:20260214T170000
DTSTAMP:20260421T063435
CREATED:20260223T104500Z
LAST-MODIFIED:20260223T104500Z
UID:10000921-1771056000-1771088400@dance.lv
SUMMARY:JĀDEJO\, LAI BŪTU PRIEKS. Deju koncerts
DESCRIPTION:14.februārī plkst.18.00 Carnikavas Vidusskolas multizālē norisināsies deju koncerts “Jādejo\, lai būtu prieks”.Koncertā piedalīsies:TDA “Gatve”\, VPDK “Gatve E” un VPDK “Artava” no RīgasVPDK “Mēmele” un JDK “Mēmelīte” no BauskasVPDK “Atāls” no BērzaunesVPDK “Vēlreiz” no KauguriemVPDK “Arnika” no CarnikavasTUURIT-TUURIT no Pērnavas\, Igaunijas
URL:https://dance.lv/event/jadejo-lai-butu-prieks-deju-koncerts/2026-02-14/1/
LOCATION:Carnikavas vidusskolas multizāle
CATEGORIES:SKATUVISKĀ TAUTAS DEJA
END:VEVENT
BEGIN:VEVENT
DTSTART;TZID=Europe/Riga:20260214T180000
DTEND;TZID=Europe/Riga:20260214T190000
DTSTAMP:20260421T063435
CREATED:20260128T090354Z
LAST-MODIFIED:20260128T091039Z
UID:10000899-1771092000-1771095600@dance.lv
SUMMARY:FUCKING LOVE PART II
DESCRIPTION:“Fucking love. PART II” ir laikmetīgās dejas  notikums\, kurā pieredzēt  intensīvu un neaizmirstamu klātbūtnes pieredzi\, cauri mīlestības daudzveidīgajām izpausmēm – kaislei\, sāpēm\, alkām un beznosacījuma tuvībai. Dejotāju ķermeņa valoda savīsies kopā ar mūziku\, radot intensīvu un neaizmirstamu klātbūtnes pieredzi. \nDejas notikuma “Dance&Perform” veidotāji\, komanda “Deja Today”\, aicina uz laikmetīgās dejas randiņu “Fucking love” otro daļu.\n“Fucking love” ir intīms un neparasts piedzīvojums\, kas neatstās vienaldzīgu. \n14. februāris | plkst. 18:00 un 20.00 | PER Form studio\, Vagonu iela 21. \nPRODUCĒ:\nBiedrība “Deja Today”
URL:https://dance.lv/event/isa-pamaciba-milesana-videjas-paaudzes-deju-kopas-usa-un-draugu-koncerts/2026-02-14/1/
LOCATION:Vagonu iela 21
CATEGORIES:LAIKMETĪGĀ DEJA,SKATUVISKĀ TAUTAS DEJA
ATTACH;FMTTYPE=image/png:https://dance.lv/wp-content/uploads/2026/01/Ekranuznemums-2026-01-28-110734.png
END:VEVENT
BEGIN:VEVENT
DTSTART;TZID=Europe/Riga:20260214T180000
DTEND;TZID=Europe/Riga:20260214T200000
DTSTAMP:20260421T063435
CREATED:20251230T082728Z
LAST-MODIFIED:20251230T082728Z
UID:10000835-1771092000-1771099200@dance.lv
SUMMARY:MĒS MĪLAM DEJĀ! Latviešu skatuviskās dejas koncerts
DESCRIPTION:Koncertā “Mēs mīlam dejā!” piedalās tautas deju ansambļi “Daiļrade”\, “Dancis”\, “Rotaļa”\, “Teiksma”\, “Vektors”\, “Lielupe”. \nKoncerta mākslinieciskā vadītāja Elita Simsone.
URL:https://dance.lv/event/mes-milam-deja-latviesu-skatuviskas-dejas-koncerts/
LOCATION:Jelgavas kultūras nams
CATEGORIES:SKATUVISKĀ TAUTAS DEJA
END:VEVENT
BEGIN:VEVENT
DTSTART;TZID=Europe/Riga:20260214T180000
DTEND;TZID=Europe/Riga:20260214T200000
DTSTAMP:20260421T063435
CREATED:20260128T091258Z
LAST-MODIFIED:20260128T091258Z
UID:10000901-1771092000-1771099200@dance.lv
SUMMARY:MĪLESTĪBAS EKSPRESIS. Deju kolektīvu koncerts
DESCRIPTION:
URL:https://dance.lv/event/milestibas-ekspresis-deju-kolektivu-koncerts/
LOCATION:Ropažu kultūras centrs
CATEGORIES:SKATUVISKĀ TAUTAS DEJA
ATTACH;FMTTYPE=image/jpeg:https://dance.lv/wp-content/uploads/2026/01/611843770_1480091414122257_427555077148883287_n.jpg
END:VEVENT
BEGIN:VEVENT
DTSTART;TZID=Europe/Riga:20260214T180000
DTEND;TZID=Europe/Riga:20260214T200000
DTSTAMP:20260421T063435
CREATED:20260128T091530Z
LAST-MODIFIED:20260128T091530Z
UID:10000902-1771092000-1771099200@dance.lv
SUMMARY:VECA MĪLESTĪBA NERŪS! Senioru tautas deju koncerts
DESCRIPTION:
URL:https://dance.lv/event/veca-milestiba-nerus-senioru-tautas-deju-koncerts/
LOCATION:Mārupes kultūras nams
CATEGORIES:SKATUVISKĀ TAUTAS DEJA
ATTACH;FMTTYPE=image/jpeg:https://dance.lv/wp-content/uploads/2026/01/612271069_924187940134168_2960960746442194891_n.jpg
END:VEVENT
BEGIN:VEVENT
DTSTART;TZID=Europe/Riga:20260214T180000
DTEND;TZID=Europe/Riga:20260214T200000
DTSTAMP:20260421T063435
CREATED:20260128T091808Z
LAST-MODIFIED:20260128T091808Z
UID:10000903-1771092000-1771099200@dance.lv
SUMMARY:SIRSNĪGAIS SADANCIS. Skatuviskās tautas dejas koncerts
DESCRIPTION:
URL:https://dance.lv/event/sirsnigais-sadancis-skatuviskas-tautas-dejas-koncerts/
LOCATION:Ādažu kultūras centrs
CATEGORIES:SKATUVISKĀ TAUTAS DEJA
ATTACH;FMTTYPE=image/jpeg:https://dance.lv/wp-content/uploads/2026/01/615084188_1451108277020907_5531355859068771593_n.jpg
END:VEVENT
BEGIN:VEVENT
DTSTART;TZID=Europe/Riga:20260214T180000
DTEND;TZID=Europe/Riga:20260214T200000
DTSTAMP:20260421T063435
CREATED:20260223T103900Z
LAST-MODIFIED:20260223T103900Z
UID:10000918-1771092000-1771099200@dance.lv
SUMMARY:MĪLESTĪBA RADA DEJU. Tautas deju kolektīvu koncerts
DESCRIPTION:Koncertā piedalīsies tautas deju kolektīvi no Latvijas un Lietuvas:\n• “Gervė” (Lietuva)\n• “Vilnis” (Lietuva)\n• SDK “Senči” (Kalnagravas)\n• SDK “Klabdancis” (Barkava)\n• BDK “Kriksis” (Barkava)\n• SDK “Sendancis” (Rīga)\n• VPDK “Rokraksti” un bērni (Meirāni)\n• SDK “Vasalinki” (Rogovka)\n• SDK “Kumiņš” (Varakļāni)\n• SDK “Mūžīgais dzinējs” (Atašiene)\n• SDK “Krustpilietis” (Jēkabpils)\n* SDK “Šurpu turpu” (Svitene)
URL:https://dance.lv/event/milestiba-rada-deju-tautas-deju-kolektivu-koncerts/
LOCATION:Barkavas kultūras nams
CATEGORIES:SKATUVISKĀ TAUTAS DEJA
END:VEVENT
BEGIN:VEVENT
DTSTART;TZID=Europe/Riga:20260214T180000
DTEND;TZID=Europe/Riga:20260214T200000
DTSTAMP:20260421T063435
CREATED:20260223T104048Z
LAST-MODIFIED:20260223T104048Z
UID:10000919-1771092000-1771099200@dance.lv
SUMMARY:SIRDS LIEK DEJOT. Koncerts
DESCRIPTION:
URL:https://dance.lv/event/sirds-liek-dejot-koncerts/
LOCATION:Malienas tautas nams
CATEGORIES:SKATUVISKĀ TAUTAS DEJA
END:VEVENT
BEGIN:VEVENT
DTSTART;TZID=Europe/Riga:20260214T180000
DTEND;TZID=Europe/Riga:20260214T200000
DTSTAMP:20260421T063435
CREATED:20260223T104255Z
LAST-MODIFIED:20260223T104255Z
UID:10000920-1771092000-1771099200@dance.lv
SUMMARY:KĀZAS. Mīlestības dienas sadancis
DESCRIPTION:Mīlestības dienas sadancis “KĀZAS” \nKāzu rituālus izdejos VPDK “Augšup”\, VPDK “Dūka”\, VPDK “‘Madara”\, VPDK “Stopiņš”\, VPDK “Daugava”\, VPDK “Saime”\, VPDK “Raksti” un VPDK “Mundags” \nKāzu tradīcijās dalīsies televīzijas un radio ētera personība Rūta Dvinska
URL:https://dance.lv/event/kazas-milestibas-dienas-sadancis/
LOCATION:Vangažu kultūras nams
CATEGORIES:SKATUVISKĀ TAUTAS DEJA
END:VEVENT
BEGIN:VEVENT
DTSTART;TZID=Europe/Riga:20260214T180000
DTEND;TZID=Europe/Riga:20260214T200000
DTSTAMP:20260421T063435
CREATED:20260223T104500Z
LAST-MODIFIED:20260223T104500Z
UID:10000922-1771092000-1771099200@dance.lv
SUMMARY:JĀDEJO\, LAI BŪTU PRIEKS. Deju koncerts
DESCRIPTION:14.februārī plkst.18.00 Carnikavas Vidusskolas multizālē norisināsies deju koncerts “Jādejo\, lai būtu prieks”.Koncertā piedalīsies:TDA “Gatve”\, VPDK “Gatve E” un VPDK “Artava” no RīgasVPDK “Mēmele” un JDK “Mēmelīte” no BauskasVPDK “Atāls” no BērzaunesVPDK “Vēlreiz” no KauguriemVPDK “Arnika” no CarnikavasTUURIT-TUURIT no Pērnavas\, Igaunijas
URL:https://dance.lv/event/jadejo-lai-butu-prieks-deju-koncerts/2026-02-14/2/
LOCATION:Carnikavas vidusskolas multizāle
CATEGORIES:SKATUVISKĀ TAUTAS DEJA
END:VEVENT
BEGIN:VEVENT
DTSTART;TZID=Europe/Riga:20260214T180000
DTEND;TZID=Europe/Riga:20260214T200000
DTSTAMP:20260421T063435
CREATED:20260227T090826Z
LAST-MODIFIED:20260227T090826Z
UID:10000923-1771092000-1771099200@dance.lv
SUMMARY:JĀDEJO\, LAI BŪTU PRIEKS. Deju koncerts
DESCRIPTION:14.februārī plkst.18.00 Carnikavas Vidusskolas multizālē norisināsies deju koncerts “Jādejo\, lai būtu prieks”.Koncertā piedalīsies:TDA “Gatve”\, VPDK “Gatve E” un VPDK “Artava” no RīgasVPDK “Mēmele” un JDK “Mēmelīte” no BauskasVPDK “Atāls” no BērzaunesVPDK “Vēlreiz” no KauguriemVPDK “Arnika” no CarnikavasTUURIT-TUURIT no Pērnavas\, IgaunijasIeeja bez maksas.
URL:https://dance.lv/event/jadejo-lai-butu-prieks-deju-koncerts-2/
LOCATION:Carnikavas tautas nams “Ozolaine”
CATEGORIES:SKATUVISKĀ TAUTAS DEJA
ATTACH;FMTTYPE=image/jpeg:https://dance.lv/wp-content/uploads/2026/02/623268030_1226029119627692_909677647660057670_n.jpg
END:VEVENT
BEGIN:VEVENT
DTSTART;TZID=Europe/Riga:20260214T200000
DTEND;TZID=Europe/Riga:20260214T210000
DTSTAMP:20260421T063435
CREATED:20260128T090354Z
LAST-MODIFIED:20260128T091039Z
UID:10000900-1771099200-1771102800@dance.lv
SUMMARY:FUCKING LOVE PART II
DESCRIPTION:“Fucking love. PART II” ir laikmetīgās dejas  notikums\, kurā pieredzēt  intensīvu un neaizmirstamu klātbūtnes pieredzi\, cauri mīlestības daudzveidīgajām izpausmēm – kaislei\, sāpēm\, alkām un beznosacījuma tuvībai. Dejotāju ķermeņa valoda savīsies kopā ar mūziku\, radot intensīvu un neaizmirstamu klātbūtnes pieredzi. \nDejas notikuma “Dance&Perform” veidotāji\, komanda “Deja Today”\, aicina uz laikmetīgās dejas randiņu “Fucking love” otro daļu.\n“Fucking love” ir intīms un neparasts piedzīvojums\, kas neatstās vienaldzīgu. \n14. februāris | plkst. 18:00 un 20.00 | PER Form studio\, Vagonu iela 21. \nPRODUCĒ:\nBiedrība “Deja Today”
URL:https://dance.lv/event/isa-pamaciba-milesana-videjas-paaudzes-deju-kopas-usa-un-draugu-koncerts/2026-02-14/2/
LOCATION:Vagonu iela 21
CATEGORIES:LAIKMETĪGĀ DEJA,SKATUVISKĀ TAUTAS DEJA
ATTACH;FMTTYPE=image/png:https://dance.lv/wp-content/uploads/2026/01/Ekranuznemums-2026-01-28-110734.png
END:VEVENT
END:VCALENDAR