BEGIN:VCALENDAR
VERSION:2.0
PRODID:-//DANCE.LV - ECPv6.15.20//NONSGML v1.0//EN
CALSCALE:GREGORIAN
METHOD:PUBLISH
X-ORIGINAL-URL:https://dance.lv
X-WR-CALDESC:Events for DANCE.LV
REFRESH-INTERVAL;VALUE=DURATION:PT1H
X-Robots-Tag:noindex
X-PUBLISHED-TTL:PT1H
BEGIN:VTIMEZONE
TZID:Europe/Riga
BEGIN:DAYLIGHT
TZOFFSETFROM:+0200
TZOFFSETTO:+0300
TZNAME:EEST
DTSTART:20250330T010000
END:DAYLIGHT
BEGIN:STANDARD
TZOFFSETFROM:+0300
TZOFFSETTO:+0200
TZNAME:EET
DTSTART:20251026T010000
END:STANDARD
BEGIN:DAYLIGHT
TZOFFSETFROM:+0200
TZOFFSETTO:+0300
TZNAME:EEST
DTSTART:20260329T010000
END:DAYLIGHT
BEGIN:STANDARD
TZOFFSETFROM:+0300
TZOFFSETTO:+0200
TZNAME:EET
DTSTART:20261025T010000
END:STANDARD
BEGIN:DAYLIGHT
TZOFFSETFROM:+0200
TZOFFSETTO:+0300
TZNAME:EEST
DTSTART:20270328T010000
END:DAYLIGHT
BEGIN:STANDARD
TZOFFSETFROM:+0300
TZOFFSETTO:+0200
TZNAME:EET
DTSTART:20271031T010000
END:STANDARD
END:VTIMEZONE
BEGIN:VEVENT
DTSTART;TZID=Europe/Riga:20260207T170000
DTEND;TZID=Europe/Riga:20260207T190000
DTSTAMP:20260421T063520
CREATED:20260128T084909Z
LAST-MODIFIED:20260128T084909Z
UID:10000893-1770483600-1770490800@dance.lv
SUMMARY:ROTĀ PA-SAULĪT! Koncerts
DESCRIPTION:
URL:https://dance.lv/event/rota-pa-saulit-koncerts/
LOCATION:Brocēnu kultūras nams
CATEGORIES:SKATUVISKĀ TAUTAS DEJA
ATTACH;FMTTYPE=image/jpeg:https://dance.lv/wp-content/uploads/2026/01/617934767_18447114925097759_3780708065324424822_n.jpg
END:VEVENT
BEGIN:VEVENT
DTSTART;TZID=Europe/Riga:20260207T180000
DTEND;TZID=Europe/Riga:20260207T200000
DTSTAMP:20260421T063520
CREATED:20260128T085051Z
LAST-MODIFIED:20260128T085051Z
UID:10000894-1770487200-1770494400@dance.lv
SUMMARY:SATIKŠANĀS DEJĀ. Tautas deju kolektīvu koncerts.
DESCRIPTION:
URL:https://dance.lv/event/satiksanas-deja-tautas-deju-kolektivu-koncerts/
LOCATION:Grenctāles kultūras nams
CATEGORIES:SKATUVISKĀ TAUTAS DEJA
ATTACH;FMTTYPE=image/jpeg:https://dance.lv/wp-content/uploads/2026/01/616448949_1453566343133266_2161572006586061991_n.jpg
END:VEVENT
BEGIN:VEVENT
DTSTART;TZID=Europe/Riga:20260207T180000
DTEND;TZID=Europe/Riga:20260207T200000
DTSTAMP:20260421T063520
CREATED:20260223T092118Z
LAST-MODIFIED:20260223T092118Z
UID:10000914-1770487200-1770494400@dance.lv
SUMMARY:30 GADI DEJĀ. JDK "Dīdeklis" koncerts
DESCRIPTION:Jauniešu deju kolektīvs “Dīdeklis” aicina kopā svinēt 30 gadus dejā – kustībā\, ritmā un latviskā garā! Šis būs koncerts\, kurā satiksies draugi\, deju mīļotāji un kolektīvi\, lai dalītos priekā par kopā nodejotajiem gadiem.Viļķenes kultūras namā\, 7. februārī plkst. 18:00 Piedalās:Jauniešu TDK “Rits”JDK DaugaviņaTdk KaspīneTDK “Dzīpars”JDK IdumejaJDK KodoliņšJDK Dīdeklis
URL:https://dance.lv/event/30-gadi-deja-jdk-dideklis-koncerts/
LOCATION:Viļķenes kultūras nams
CATEGORIES:SKATUVISKĀ TAUTAS DEJA
END:VEVENT
BEGIN:VEVENT
DTSTART;TZID=Europe/Riga:20260207T180000
DTEND;TZID=Europe/Riga:20260207T200000
DTSTAMP:20260421T063521
CREATED:20260223T092518Z
LAST-MODIFIED:20260223T092518Z
UID:10000915-1770487200-1770494400@dance.lv
SUMMARY:DEJU DZIRKSTS. Sadraudzības koncerts
DESCRIPTION:
URL:https://dance.lv/event/deju-dzirksts-sadraudzibas-koncerts/
LOCATION:Svitenes kultūras nams
CATEGORIES:SKATUVISKĀ TAUTAS DEJA
END:VEVENT
BEGIN:VEVENT
DTSTART;TZID=Europe/Riga:20260207T180000
DTEND;TZID=Europe/Riga:20260207T200000
DTSTAMP:20260421T063521
CREATED:20260223T092637Z
LAST-MODIFIED:20260223T092637Z
UID:10000916-1770487200-1770494400@dance.lv
SUMMARY:ES VARĒJU SADEJOT. Deju ansambļa "Liedags" sadancis
DESCRIPTION:Jau 19. reizi skatītājus uz krāšņu un enerģijas pilnu deju sadanci aicina TDA “Liedags”. Uz skatuves satiksies deju kolektīvi no dažādiem Latvijas novadiem:• TDA “Kursa” un deju kopa “Bandava” (Saldus)• TDK “Zalktis” (Rīga)• JDK “Tracis” (Eleja)• VPDK “Medaga” (Vilce)• TDA “Vaduguns” (Liepāja)• VPDK “Līdums” (Bauskas novads)• VPDK un JDK “Liedags” (Ventspils)
URL:https://dance.lv/event/es-vareju-sadejot-deju-ansambla-liedags-sadancis/
LOCATION:“Jūras vārti”
CATEGORIES:SKATUVISKĀ TAUTAS DEJA
END:VEVENT
BEGIN:VEVENT
DTSTART;TZID=Europe/Riga:20260207T180000
DTEND;TZID=Europe/Riga:20260207T200000
DTSTAMP:20260421T063521
CREATED:20260223T103648Z
LAST-MODIFIED:20260223T103648Z
UID:10000917-1770487200-1770494400@dance.lv
SUMMARY:IELŪDZ RADI - RADIEM 25! Koncerts
DESCRIPTION:7. februārī\, pulksten 18.00\, Aizkraukles kultūras centrā\, deju kolektīvu koncerts “Ielūdz Radi – Radiem 25”.Koncertā piedalās:TDA “GATVE” (RĪGA)VPDK “TREJDEVIŅI” (BALOŽI)VPDK “LĀČPLĒSIS” (LIELVĀRDE)SDK “ĶEGUMS” (ĶEGUMS)JDK “ZEĻĻI” (AIZKRAUKLE)Jubilāri VPDK “Radi” un SDK “Radi”
URL:https://dance.lv/event/ieludz-radi-radiem-25-koncerts/
LOCATION:Aizkraukles kultūras centrs
CATEGORIES:SKATUVISKĀ TAUTAS DEJA
END:VEVENT
END:VCALENDAR