BEGIN:VCALENDAR
VERSION:2.0
PRODID:-//DANCE.LV - ECPv6.15.20//NONSGML v1.0//EN
CALSCALE:GREGORIAN
METHOD:PUBLISH
X-ORIGINAL-URL:https://dance.lv
X-WR-CALDESC:Events for DANCE.LV
REFRESH-INTERVAL;VALUE=DURATION:PT1H
X-Robots-Tag:noindex
X-PUBLISHED-TTL:PT1H
BEGIN:VTIMEZONE
TZID:Europe/Riga
BEGIN:DAYLIGHT
TZOFFSETFROM:+0200
TZOFFSETTO:+0300
TZNAME:EEST
DTSTART:20240331T010000
END:DAYLIGHT
BEGIN:STANDARD
TZOFFSETFROM:+0300
TZOFFSETTO:+0200
TZNAME:EET
DTSTART:20241027T010000
END:STANDARD
BEGIN:DAYLIGHT
TZOFFSETFROM:+0200
TZOFFSETTO:+0300
TZNAME:EEST
DTSTART:20250330T010000
END:DAYLIGHT
BEGIN:STANDARD
TZOFFSETFROM:+0300
TZOFFSETTO:+0200
TZNAME:EET
DTSTART:20251026T010000
END:STANDARD
BEGIN:DAYLIGHT
TZOFFSETFROM:+0200
TZOFFSETTO:+0300
TZNAME:EEST
DTSTART:20260329T010000
END:DAYLIGHT
BEGIN:STANDARD
TZOFFSETFROM:+0300
TZOFFSETTO:+0200
TZNAME:EET
DTSTART:20261025T010000
END:STANDARD
END:VTIMEZONE
BEGIN:VEVENT
DTSTART;TZID=Europe/Riga:20251102T190000
DTEND;TZID=Europe/Riga:20251102T200000
DTSTAMP:20260421T131136
CREATED:20251101T150456Z
LAST-MODIFIED:20251230T083147Z
UID:10000790-1762110000-1762113600@dance.lv
SUMMARY:SAVĒJĀ UN SVEŠĀ. Izrāde
DESCRIPTION:Cik daudz mēs varam izvēlēties\, kas esam\, un cik daudz mūsos vienmēr paliks tas\, kas bijis pirms mums? Žans Pols Sartrs ir teicis: “Cilvēks ir tas\, ko viņš pats no sevis izveido”\, tomēr ikvienam no mums ir konkrēts sākumpunkts – ķermenis\, vide\, kultūra un tā brīža vēsturiskais konteksts\, kurā piedzimstam. Vai iespējams pilnībā atbrīvoties no tā\, kas mūs veidojis? Kā savu dzīvi izjūt cilvēks\, kas ir piederīgs divām kultūrām\, divām valodām? \nLaikmetīgās dejas izrādē “Savējā un svešā” horeogrāfe un dejotāja Marijas Saveiko apvienojot kustību\, dzīvo mūziku un gaismu dalās personīgajā pieredzē par savu identitāti un piederības izjūtu Latvijā. Marija nākusi no krievu-baltkrievu ģimenes\, uzaugusi Latvijā – valstī\, kuras brīvība ir tikpat jauna kā viņas paaudze. Šodien viņa dzīvo laikā\, kad Krievijas karš Ukrainā vēl vairāk Latvijas kultūrtelpā saasinājis tā saukto “nacionālo jautājumu”. Šī izrāde ir Marijas personīgā refleksija par sevis meklējumiem laiktelpā\, kurā satiekas dažādi skatpunkti\, identitātes un kultūras. \nMēs dzīvojam laikā\, kad pasauli šķeļ konflikti\, kad senie jautājumi par to\, kas ir “mūsējie” un kas – “svešie”\, atkal un atkal atgriežas. Bet varbūt svešais nav kāds cits? Varbūt reizēm svešais ir tas\, kurš pats sevi par tādu uzskata? Vai piederība ir kaut kas\, ko mums piešķir citi\, vai arī tā ir izvēle\, kas dzimst mūsos pašos? \n“Savējā un svešā” ir aicinājums sajust – ar ķermeni\, ar sirdi. Šī izrāde nav tikai stāsts par vienu cilvēku – tā ir atbalss no tiem\, kas turpina meklēt un rast sevi pasaulē\, kas nemitīgi mainās. Izrāde uzdod jautājumus\, kas skar ne tikai Latviju\, bet arī pasauli kopumā\, atgādinot – neatkarīgi no etniskās izcelsmes\, dzimuma vai reliģijas\, mēs visi esam daļa no kopīgas cilvēces pieredzes. \nPēc izrādes skatītāji ir aicināti uzkavēties uz sarunu ar radošo komandu\, lai reflektētu par redzēto. \n  \nPar izrādi
URL:https://dance.lv/event/saveja-un-svesa-izrade/2025-11-02/
LOCATION:Ģertrūdes ielas teātris
CATEGORIES:LAIKMETĪGĀ DEJA
END:VEVENT
BEGIN:VEVENT
DTSTART;TZID=Europe/Riga:20251105T190000
DTEND;TZID=Europe/Riga:20251105T200000
DTSTAMP:20260421T131136
CREATED:20250805T114340Z
LAST-MODIFIED:20250805T114340Z
UID:10000717-1762369200-1762372800@dance.lv
SUMMARY:TAS IR VISS KO MĒS VARA. Izrāde
DESCRIPTION:režija: Andrejs Jarovojs\nkustību mākslinieki\, dejotāji: Emīlija Berga vai Simona Ozola\, Vladimirs Goršantovs\, Ramona Levane\, Darja Turčenko\nkostīmi: Sintija Jēkabsone\nmūzika: m.a.t.a.d.a.t.a.\ngaismas: d’n’a\nskaņa: Normunds Balodis\nvizuālā identitāte: Aleksejs Beļeckis\nproducents: Ģertrūdes ielas teātris\npirmizrāde: 20/12/2023\nilgums: 45 min \nizrāde tapusi ar Rīgas domes un Valsts Kultūrkapitāla fonda finansiālu atbalstu. \npaldies par atbalstu izrādes tapšanā: Erica Synths un Sonarworks
URL:https://dance.lv/event/tas-ir-viss-ko-mes-vara-izrade/
CATEGORIES:LAIKMETĪGĀ DEJA
END:VEVENT
BEGIN:VEVENT
DTSTART;TZID=Europe/Riga:20251114T190000
DTEND;TZID=Europe/Riga:20251114T200000
DTSTAMP:20260421T131137
CREATED:20251101T150313Z
LAST-MODIFIED:20251101T150313Z
UID:10000789-1763146800-1763150400@dance.lv
SUMMARY:MADE BY PERSON. Izrāde
DESCRIPTION:Dejas izrādē “Made by Person” trīs dejotājas saskaras ar saviem instinktiem un centieniem tos kontrolēt\, mijiedarbojoties ar griestos iekārtiem svarbumbām. Tā ir cilvēka kolāža\, kas izpaužas caur emocijām\, instinktiem un ķermeņa patiesajām reakcijām. Dejotāju ķermeņi tiek provocēti un izaicināti\, lai atklātos nepastarpināta cilvēciskā pieredze. Laikā\, kad informācija\, teksti un idejas tiek ģenerētas sekundes laikā\, “Made by Person” cenšas atgūt nepieciešamību apstāties – sajust\, iepazīt no jauna gan sevi\, gan tos\, kas ir blakus. No ātruma\, precizitātes un sistemātiskuma notiek virzība pretī reakcijām\, ķermenim un trauslumam. \nRadošā komanda:\nHoreogrāfs – Artūrs Nīgalis\nIzpildītāji – Poļina Filippova\, Anastasija Čornaja\, Mārīte Supe\nScenogrāfija un kostīmi – Marianna Lapiņa\nMūzika – Kaspars Niklasons\nGaismu mākslinieks – Reinis Zalte\nProducente – Anna Ulberte\nLīdzproducents – Horeogrāfu asociācija\nFinansiālais atbalstītājs – Valsts kultūrkapitāla fonds \nIzrādes idejas autors un horeogrāfs Artūrs Nīgalis ir dejotājs un horeogrāfs\, kurš pārstāv Septīto Latvijas laikmetīgās dejas paaudzi. Artūrs kopš 2018. gada strādā kā profesionāls dejotājs un kopš 2023. gada – kā profesionāls horeogrāfs. Artūra nozīmīgākie karjeras pieturpunkti ir “Dejas balva 2023-2024” saņemšana kategorijā “Laikmetīgās dejas horeogrāfs”\, kā arī kļūšana par pirmo latviešu horeogrāfu\, kura darbs  “Silueta burti” ir iekļuvis prestižajā starptautiskajā izrāžu tīklā “Aerowaves”\, tādējādi iznesot Latvijas laikmetīgās dejas vārdu pasaules līmenī. \nIeteicamais vecums: 12+\nIzrādes garums: 60 min.
URL:https://dance.lv/event/made-by-person-izrade/
LOCATION:Rīgas cirks
CATEGORIES:LAIKMETĪGĀ DEJA
ATTACH;FMTTYPE=image/jpeg:https://dance.lv/wp-content/uploads/2025/11/1000088887.jpg
END:VEVENT
BEGIN:VEVENT
DTSTART;TZID=Europe/Riga:20251122T170000
DTEND;TZID=Europe/Riga:20251122T180000
DTSTAMP:20260421T131137
CREATED:20251105T072839Z
LAST-MODIFIED:20251105T074709Z
UID:10000792-1763830800-1763834400@dance.lv
SUMMARY:DEJAS MĀJA. Izrāde "Oblicus"
DESCRIPTION:Autori/izpildītāji: IevaKrish\nMūzika: Kārlis Tone\nGaismas: Jūlija Bondarenko\nNestandarta gaismu risinājumi: Jānis Bukovskis / Those guys lighting\nKostīmi: Ieva G.-Sants\nProducents: Tuvumi \nIzrādes ilgums: 40 min \nŠis ir mans un Tavs laikmetīgais mīlas stāsts\, mūsu laikmetīgā sutartīne.\nMūsu ambīciju\, ievainojamības un izdeguma pašportrets.\nTas ir mans mēģinājums būt kopā ar Tevi. Mēģinājums saplūst ar Tevi\, saglabājot sevi. Izgaist Tevī\, ielocīt Tevi sevī. Mākslā nav kompromisu – ir tikai patiesība – mana un Tava. Mana vai Tava.\nTieši tāpēc\, ka es Tevi mīlu\, es vairs negribu izvēlēties – mana vai Tava. Mans laika šķitums vai Tavs laika šķitums.\nKur ir mūsu kopīgais laiks? \n“Oblicus” ir aizrautīgs pētījums polifoniskās dejas pasaulē\, ar mērķi radīt hipnotizējošu duetu\, kurā savītos paralēli ritmi un tiktu izcelta sajūta par personīgo un kopējo laika ritējumu pretstatīšanu. Koncepts “oblicus” – nedz paralēli\, nedz taisni\, bet arī nedz kopā\, nedz atsevišķi (no latīņu valodas slīpi vai šķībi)\, caurvij dejas\, skaņas un gaismas kopējo kompozīciju ar elegantu asimetriju\, metaforiski atspoguļojot divu cilvēku savstarpējo attiecību nianses un centienus saprasties. Iespaidīgajā horeogrāfijas gobelēnā divbalsīgās (kontrapunktētās) kustību ķēžu struktūras veidojas kā izteiksmes pamatelementi\, atspoguļojot ilgas pēc absolūtas saprašanās un neiespējamas saplūšanas vienā veselumā. Šīs dejas Visumā laiks nav lineāra\, nemainīga dimensija\, bet drīzāk individuāli defragmentēts process\, kas attīstās. “Oblicus” ir metafizisks mīlas duets. \nAtbalsta: Valsts Kultūrkapitāla fonds\, Valmieras novada pašvaldība\, Valmieras \nTeātris\, Valmieras Kultūras centrs \nIzrāde “Oblicus” ir šīs sezonas viens no nozīmīgākajiem jauniestudējumiem Latvijas laikmetīgajā dejā. Starptautiska žūrija darbu iekļāvusi arī Baltijas Dejas platformas programmā\, kas no 2026. gada 22. līdz 25. aprīlim notiks Viļņā. \n  \nDejas māja laikmetīgās mākslas telpā KURTUVE\, Valmierā\, tika atklāta 13. un 14. septembrī ar plašu divu dienu programmu\, kas bija viens no pirmajiem notikumiem\, sagaidot laikmetīgās dejas 30 gadu jubileju Latvijā 2026. gadā\, kā ietvaros Latvijas Dejas informācijas centrs ir uzsācis īpašu projektu “Laikmetīgajai dejai Latvijā – 30”.
URL:https://dance.lv/event/dejas-maja-izrade-oblicus/
LOCATION:KURTUVE\, Valmiera
CATEGORIES:LAIKMETĪGĀ DEJA
ATTACH;FMTTYPE=image/jpeg:https://dance.lv/wp-content/uploads/2025/11/NLaoJJ6r1By3xiI3zfHHgVEoXhjvvQMZAL8vCeoL.jpg
END:VEVENT
BEGIN:VEVENT
DTSTART;TZID=Europe/Riga:20251122T190000
DTEND;TZID=Europe/Riga:20251122T200000
DTSTAMP:20260421T131137
CREATED:20251105T074857Z
LAST-MODIFIED:20251105T074857Z
UID:10000793-1763838000-1763841600@dance.lv
SUMMARY:DEJAS MĀJA. Izrāde "Manu acu tulkojums"
DESCRIPTION:Horeogrāfe / idejas autore: Alise Madara Bokaldere\nLīdzautores: Laura Kušķe\, Jana Jacuka\nIzpildītājas: Kitija Geidāne\, Kristīne Brīniņa\nMūzikas izpildījums ierakstā: Aurēlija Rancāne\, Asnate Rancāne\, Ilona Dzērve\nIzmantotā mūzika: Midnight Tale – Huun-Huur-Tu\nProducents: Latvijas Kultūras akadēmija\nIzrādes ilgums: 30 min \nIzrāde ir vērotāja redzējums par blakusesošajiem. Kas tiek uztverts\, tas tiek pamanīts. Pamanītais tulkots no redzētā uz verbāli izteiktu redzējumu\, uz diviem dejotājiem\, kas šo vēstīto tulkojumu pārvērš kustībā. \nMēs visi pazīstam prieku un visi pazīstam arī skumjas. Mums tās ir saprotamas. Mēs tās pieņemam. Bet kas notiek tad\, kad vairs pašam nav saprotams\, kādēļ tās mūs apciemo? Cik ilgi mēs šo viesi pieņemam un paciešam\, un pavedinām uz ilgāku palikšanu? Kad šī kontrole pazūd? Par sāpēm\, par smagumu\, par izmisumu. Izrāde ir balstīta tajā\, ko es redzu. Kā meita\, kā draugs\, kā paziņa\, kā nepazīstams cilvēks. Tas\, ko es spēju uztvert\, pati tajā nekāpjot. Pamanītais tulkots no redzēta uz izteiktu. \n​Izrāde “Manu acu tulkojums” iekļauta Dejas mājas KURTUVĒ programmā\, turpinot iepazīstināt skatītājus ar Dejas balvai nominētajiem darbiem. Izrāde tika nominēta pirmajai Dejas balvai 2017–2018 kategorijā “Laikmetīgās dejas iestudējums vai notikums”\, savukārt Alise par darbu pie šīs izrādes tika nominēta kā “Laikmetīgās dejas horeogrāfe/-s”. \nDejas māja laikmetīgās mākslas telpā KURTUVE\, Valmierā\, tika atklāta 13. un 14. septembrī ar plašu divu dienu programmu\, kas bija viens no pirmajiem notikumiem\, sagaidot laikmetīgās dejas 30 gadu jubileju Latvijā 2026. gadā\, kā ietvaros Latvijas Dejas informācijas centrs ir uzsācis īpašu projektu “Laikmetīgajai dejai Latvijā – 30”.
URL:https://dance.lv/event/dejas-maja-izrade-manu-acu-tulkojums/
LOCATION:KURTUVE\, Valmiera
CATEGORIES:LAIKMETĪGĀ DEJA
ATTACH;FMTTYPE=image/jpeg:https://dance.lv/wp-content/uploads/2025/11/SAAF5mSpKYpIaYRVudjKpHFRQxsoLrGr74MWQDvt.jpg
END:VEVENT
BEGIN:VEVENT
DTSTART;TZID=Europe/Riga:20251123T140000
DTEND;TZID=Europe/Riga:20251123T170000
DTSTAMP:20260421T131137
CREATED:20251105T075429Z
LAST-MODIFIED:20251105T075429Z
UID:10000794-1763906400-1763917200@dance.lv
SUMMARY:DEJAS MĀJA. Laikmetīgās dejas izrāžu programma “Trīs”
DESCRIPTION:Dejas mājā satiksies Valmieras deju grupa “Baltā” horeogrāfes Lindas Mīļās vadībā\, horeogrāfes Ilzes Zīriņas izveidotais laikmetīgās dejas kolektīvs “Lidoņi” no Smiltenes novada un Rīgas Baleta skolas laikmetīgās dejas programmas audzēknes horeogrāfa Dmitrija Gaitjukeviča vadībā. “Baltā” un “Lidoņi” ir spilgti piemēri tam\, kā laikmetīgā deja kļūst par jēgpilnu brīvā laika pavadīšanas veidu jauniešiem\, audzinot domājošus un iejūtīgus cilvēkus un iedodot spēcīgu pamatu izvēlēties deju arī kā nākotnes profesiju\, dodoties mācīties uz Rīgas Baleta skolu un Latvijas Kultūras akadēmiju. \nKopējais programmas ilgums\, ieskaitot sarunas un kopīgu dejošanu: 2h 30min \n  \n“Paradīze” \n  \nHoreogrāfija: Ģirts Dubults \nIestudējums: Linda Mīļā \nDejo: deju grupa “Baltā” \nPar sapņošanu\, par to\, kas ir īsts\, un par ko ir vērts brīnīties. Vienmēr nevajag nopietni \nIzrādes ilgums: 10 min \n  \n“Skrējiens” \n  \nHoreogrāfija: Ilze Zīriņa\, Evija Bišere \nMūzikas autori: Laima Jansone\, Uldis Cīrulis \nDejo: Smiltenes novada BJIIC laikmetīgās dejas kolektīvs “Lidoņi”: Rūta Rutka\, Mundra Bērziņa\, Herta Riekstiņa\, Marta Lapšāne\, Linda Andiņa\, Viola Plētiena\, Elza Leite\, Alise Vanesa Vītola\, Luīze Plūme\, Elza Kārkliņa\, Rebeka Ērgle\, Santa Ķūķe\, Maija Povožajeva\, Lelde Draule\, Ērika Ozoliņa\, Ance Patrīcija Plētiena \nIzrādes ilgums: 20 min \n…viņas pieņēma izaicinājumu skrējienam. Katra pati\, tik saviem spēkiem vai kopā ar domu biedriem. Augstāk\, tālāk\, ātrāk\, skaistāk\, gudrāk. Pārāk. Ir latviešu teiciens: ” Kamēr elpa\, tikmēr jāmēro ceļš.” CEĻŠ- piedzīvojams kopā. Vai tāpēc\, lai to veiktu PĀRĀK? \n  \nLaikmetīgās dejas kolektīvs “Lidoņi” darbojas Raunā kopš 2020.gada. Tajā dejo bērni un jaunieši 6-15 gadu vecumā no Raunas pagasta un kaimiņu ciemiem un pilsētām. Kolektīva darbības pamatā ir radošums un visaptveroša pieeja dejotāju izaugsmei\, kas veicina ne vien katra dalībnieka dejot prasmi\, bet arī personīgo attīstību. Lidoņi apgūst dažādas dejas tehnikas\, apmeklē mācību ekskursijas\, kurās vēro profesionālus priekšnesumus un papildina prasmes meistarklasēs pie labiem skolotājiem. Ar degsmi un aizrautību jaunie dejotāji iesaistās radošajos procesos\, veidojot savas izrādes un krājot skatuvisko pieredzi. \nLīdz šim Lidoņi savu dejas ceļu ir mērojuši līdz Tallinai\, kur gūta vērtīga pieredze Eesti Tantsuagentuur. Ir izcīnīta vieta XIII Latvijas skolu jaunatnes dziesmu un deju svētku dalībnieku pulkā. Taču viņu sapņu ceļš stiepjas tālāk… \n  \n“Sava vieta” \n  \nDarba autori: Dmitrijs Gaitjukevičs\, Elīna Gaitjukeviča\, Marija Burceva\, Matē Mezsāroš (Máté Mészáros) \nGaismu mākslinieks: Leilia Mukhamatgalieva (Leila Muhamategalieva) \nIzpildītājas: Mākslu izglītības kompetenču centra “Nacionālā mākslu vidusskola” Rīgas Baleta skolas Laikmetīgās dejas izglītības programmas 3. kursa audzēknes: Marija Lubgāne\, Sofija Pidgorodecka\, Aleksandra Balašova\, Kerija Zāģere\, Hanna Bula\, Annija Liene Tontegoda\, Luīze Einause\, Estere Kokareviča \nMūzika: Rhythm Scott\, Ori Lichtik\, Davidson Jaconello\, Machinefabriek\, Richard Skelton\, \nTom van Wee \nIzrādes ilgums: 45 min \nSava vieta — ir dziļi personisks stāsts par jaunas sievietes pašizziņas un identitātes meklējumiem. Izrāde ir stāsts par sevis meklējumiem pasaulē\, kurā valda pretrunas\, sabiedrības gaidas un nepārtrauktas pārmaiņas. Tā ir dziļi personiskā refleksija par pieaugšanu\, iekšējo spēku un vēlmi atrast savu vietu sabiedrībā. \nMūsdienu pasaulē\, kur robežas starp vērtībām un uzskatiem kļūst arvien izplūdušākas\, personīgās identitātes jautājums izskan īpaši aktuāli. Jaunie cilvēki saskaras ar sociālo spiedienu\, uzticības krīzi un nākotnes nenoteiktību — un tieši šādos apstākļos sevis meklējumi kļūst par būtisku iekšējās līdzsvarotības un pastāvēšanas nosacījumu. \n  \nRīgas Baleta skolā Laikmetīgās dejas izglītības programmas izveidota 2019. gadā. Skolā tiek sagatavoto spēcīgi dejotāji\, kas pēc absolvēšanas nereti turpina studijas prestižās skolās ārvalstīs – Amsterdamā\, Lincā\, Briselē\, Viļņā u.c. Programmas strauji attīstās un iegūst aizvien lielāku redzamību. Akreditētās deju skolas un privātās studijas pedagogi apzināti gatavo savus talantīgākos audzēkņus\, lai viņi 9.klases varētu iestāties Rīgas Baleta skolā. Konkurss ir vidēji 3 – 4 cilvēki uz vienu vietu. \nDejas māja laikmetīgās mākslas telpā KURTUVE\, Valmierā\, tika atklāta 13. un 14. septembrī ar plašu divu dienu programmu\, kas bija viens no pirmajiem notikumiem\, sagaidot laikmetīgās dejas 30 gadu jubileju Latvijā 2026. gadā\, kā ietvaros Latvijas Dejas informācijas centrs ir uzsācis īpašu projektu “Laikmetīgajai dejai Latvijā – 30”.
URL:https://dance.lv/event/dejas-maja-laikmetigas-dejas-izrazu-programma-tris/
LOCATION:KURTUVE\, Valmiera
CATEGORIES:LAIKMETĪGĀ DEJA
ATTACH;FMTTYPE=image/jpeg:https://dance.lv/wp-content/uploads/2025/11/4mQtdUAzytjighVLXWIfu31nqKq80X9qs8PXS3VE.jpg
END:VEVENT
BEGIN:VEVENT
DTSTART;TZID=Europe/Riga:20251126T190000
DTEND;TZID=Europe/Riga:20251126T200000
DTSTAMP:20260421T131137
CREATED:20250805T114137Z
LAST-MODIFIED:20251229T121212Z
UID:10000715-1764183600-1764187200@dance.lv
SUMMARY:HA. Smieklu performance
DESCRIPTION:Horeogrāfe/ Izpildītāja: Jana Jacuka\nMentors: Miguels Melgaress\nKonsultants: Bruno Listopads\nDramaturģiskais atbalsts: Eva Susova un Toni Stefens\nTeksta konsultants: Joahims Robrehts\nTeksta redakcija sadarbībā ar: Nikolass Lange\nVokālie pasniedzēji: Moa Holgersone\, Monica Jansena\, Maria Magdalena Kozlovska\nGrafikas dizainere: Estere Betija Grāvere\nFotogrāfs: Pēteris Vīksna \nIedvesmas avoti: Stina Forsa un Amparo Gonzaless \nLīdzproducents: Ģertrūdes ielas teātris\nPirmizrāde Latvijā: 28/08/25\nIlgums: 50 min.\nValoda: izrāde angļu valodā ar tulkojumu latviešu valodā \nDarbs nebūtu iespējams bez Samas Šoeiermanes\, Veronikas Abdulas-Visockas\, DAS teātra pasniedzēju un kursabiedru atbalsta. \nIzrāde tapusi DAS Theatre maģistra programmas ietvaros\, ar finansiālu ATD-Aart Janszen fonda (Nīderlande) un Valsts Kultūrkapitāla fonda (Latvija) atbalstu. \nValoda:Angļu valodā ar tulkojumu latviešu valodā!
URL:https://dance.lv/event/ha-izrade/2025-11-26/
CATEGORIES:LAIKMETĪGĀ DEJA
END:VEVENT
BEGIN:VEVENT
DTSTART;TZID=Europe/Riga:20251126T190000
DTEND;TZID=Europe/Riga:20251126T200000
DTSTAMP:20260421T131137
CREATED:20251127T083008Z
LAST-MODIFIED:20251127T083008Z
UID:10000803-1764183600-1764187200@dance.lv
SUMMARY:BŪT. Laikmetīgas dejas izrāde
DESCRIPTION:Būt būtnei- tas nozīmē noteikti būt. Es nemaz nevaru vairs nebūt. Es jau esmu! Es te esmu\, re\, es esmu! Te uz pasaules. Man te patīk. \n/ I.Ziedonis / \n​Izrāde par būšanām un nebūšanām. Par to\, kā mēs esam un kā reizēm neesam. Cik svarīgi ir būt? \n​Izrādes idejas autore: Monta Vandere \n​Horeogrāfija: Monta Vandere un Elīna Gaitjukeviča \n​Gaismu māksliniece: Leila Mukhamatgalieva \n​Muzikālā konsultante: Aija Pāsa\n​Dejo: deju grupas RITMS C grupas dejotāji
URL:https://dance.lv/event/but-laikmetigas-dejas-izrade/
LOCATION:VEF kultūras pils
CATEGORIES:LAIKMETĪGĀ DEJA
ATTACH;FMTTYPE=image/jpeg:https://dance.lv/wp-content/uploads/2025/11/I4PsgNMmxT3H9aqBzNyLOXdNcKJrKdDeuFbhlE0s.jpg
END:VEVENT
BEGIN:VEVENT
DTSTART;TZID=Europe/Riga:20251127T190000
DTEND;TZID=Europe/Riga:20251127T200000
DTSTAMP:20260421T131137
CREATED:20250805T114137Z
LAST-MODIFIED:20251229T121212Z
UID:10000716-1764270000-1764273600@dance.lv
SUMMARY:HA. Smieklu performance
DESCRIPTION:Horeogrāfe/ Izpildītāja: Jana Jacuka\nMentors: Miguels Melgaress\nKonsultants: Bruno Listopads\nDramaturģiskais atbalsts: Eva Susova un Toni Stefens\nTeksta konsultants: Joahims Robrehts\nTeksta redakcija sadarbībā ar: Nikolass Lange\nVokālie pasniedzēji: Moa Holgersone\, Monica Jansena\, Maria Magdalena Kozlovska\nGrafikas dizainere: Estere Betija Grāvere\nFotogrāfs: Pēteris Vīksna \nIedvesmas avoti: Stina Forsa un Amparo Gonzaless \nLīdzproducents: Ģertrūdes ielas teātris\nPirmizrāde Latvijā: 28/08/25\nIlgums: 50 min.\nValoda: izrāde angļu valodā ar tulkojumu latviešu valodā \nDarbs nebūtu iespējams bez Samas Šoeiermanes\, Veronikas Abdulas-Visockas\, DAS teātra pasniedzēju un kursabiedru atbalsta. \nIzrāde tapusi DAS Theatre maģistra programmas ietvaros\, ar finansiālu ATD-Aart Janszen fonda (Nīderlande) un Valsts Kultūrkapitāla fonda (Latvija) atbalstu. \nValoda:Angļu valodā ar tulkojumu latviešu valodā!
URL:https://dance.lv/event/ha-izrade/2025-11-27/
CATEGORIES:LAIKMETĪGĀ DEJA
END:VEVENT
END:VCALENDAR