BEGIN:VCALENDAR
VERSION:2.0
PRODID:-//DANCE.LV - ECPv6.15.20//NONSGML v1.0//EN
CALSCALE:GREGORIAN
METHOD:PUBLISH
X-WR-CALNAME:DANCE.LV
X-ORIGINAL-URL:https://dance.lv
X-WR-CALDESC:Events for DANCE.LV
REFRESH-INTERVAL;VALUE=DURATION:PT1H
X-Robots-Tag:noindex
X-PUBLISHED-TTL:PT1H
BEGIN:VTIMEZONE
TZID:Europe/Riga
BEGIN:DAYLIGHT
TZOFFSETFROM:+0200
TZOFFSETTO:+0300
TZNAME:EEST
DTSTART:20250330T010000
END:DAYLIGHT
BEGIN:STANDARD
TZOFFSETFROM:+0300
TZOFFSETTO:+0200
TZNAME:EET
DTSTART:20251026T010000
END:STANDARD
BEGIN:DAYLIGHT
TZOFFSETFROM:+0200
TZOFFSETTO:+0300
TZNAME:EEST
DTSTART:20260329T010000
END:DAYLIGHT
BEGIN:STANDARD
TZOFFSETFROM:+0300
TZOFFSETTO:+0200
TZNAME:EET
DTSTART:20261025T010000
END:STANDARD
BEGIN:DAYLIGHT
TZOFFSETFROM:+0200
TZOFFSETTO:+0300
TZNAME:EEST
DTSTART:20270328T010000
END:DAYLIGHT
BEGIN:STANDARD
TZOFFSETFROM:+0300
TZOFFSETTO:+0200
TZNAME:EET
DTSTART:20271031T010000
END:STANDARD
END:VTIMEZONE
BEGIN:VEVENT
DTSTART;TZID=Europe/Riga:20260319T190000
DTEND;TZID=Europe/Riga:20260319T210000
DTSTAMP:20260423T110551
CREATED:20250710T160758Z
LAST-MODIFIED:20260108T085254Z
UID:10000851-1773946800-1773954000@dance.lv
SUMMARY:ESMERALDA
DESCRIPTION:Balets Esmeralda ir vienkāršs un spēcīgs stāsts par mīlestību un nāvi. Parīzes Dievmātes katedrāles arhidiakons Klods Frolo iekāro skaisto Esmeraldu\, taču meitenes uzmanību saista nevis priesteris\, bet gan iznesīgais kapteinis Fēbs. Īpašas jūtas pret Esmeraldu ir arī baznīcas zvaniķim Kvazimodo. Kad\, greizsirdības mākts\, Frolo ievaino Fēbu\, notikušajā tiek vainota Esmeralda\, kurai draud nāvessods. Vienīgais\, kurš līdz savas dzīves beigām turpinās patiesi mīlēt Esmeraldu\, būs nelaimīgais Kvazimodo. \nViktora Igo slavenais romāns Parīzes Dievmātes katedrāle kalpojis par iedvesmu spilgtiem mākslas darbiem dažādos žanros. Kā baletu publika to pirmoreiz iepazina Žila Pero horeogrāfijā – 1844. gada uzvedumā Esmeralda Karaliskajā teātrī Londonā. Latvijas Nacionālajā baletā tas pirmoreiz izrādīts 1939. gadā baletmeistara Osvalda Lēmaņa veidotajā versijā. Aivara Leimaņa radītā Esmeralda ir jau ceturtais šī romantiskā stāsta iestudējums latviešu baleta vēsturē\, kurā viduslaiku gaisotni uzburt palīdz Mārtiņa Vilkārša scenogrāfija un Ilzes Vītoliņas radītie kostīmi. \n  \nEsmeralda: Elza Leimane\, Sabīne Strokša\, Jūlija Brauere \nPjērs Grenguārs: Filips Fedulovs\, Kārlis Cīrulis\, Dariuss Florians Katana \nKlods Frolo: Raimonds Martinovs\, Dariuss Florians Katana\, Antons Freimans \nKvazimodo: Antons Freimans\, Kristaps Jaunžeikars\, Aleksandrs Osadčijs \nFēbs de Šatopērs: Viktors Seiko\, Eidens Viljams Konefrijs\, Finians Patriks Heptings \nFlērdelisa de Gondelorjē: Alise Prudāne-Spridzāne\, Emma Lagūna \nDiāna: Annija Kopštāle\, Jolanta Lubēja\, Krista Štrausa \nAkteons: Kārlis Cīrulis\, Filips Fedulovs\, Fabio Sonconji\, Germans Ševčenko
URL:https://dance.lv/event/esmeralda-4/2026-03-19/
LOCATION:Latvijas Nacionālā opera un balets\, Aspazijas bulvāris 3\, Rīga\, LV-1050\, Latvia
CATEGORIES:BALETS
END:VEVENT
BEGIN:VEVENT
DTSTART;TZID=Europe/Riga:20260321T190000
DTEND;TZID=Europe/Riga:20260321T210000
DTSTAMP:20260423T110551
CREATED:20250710T063350Z
LAST-MODIFIED:20260108T092131Z
UID:10000872-1774119600-1774126800@dance.lv
SUMMARY:ANTONIJA #SILMAČI. Latvijas Nacionālā opera un balets
DESCRIPTION:Komponists Juris Karlsons \nHoreogrāfs Aivars Leimanis \nMuzikālais vadītājs un diriģents Mārtiņš Ozoliņš \nDiriģents Jānis Liepiņš \nScenogrāfs Mārtiņš Vilkārsis \nKostīmu māksliniece Anna Heinrihsone \nReibinoši zied vasara\, saule kāpj kalnā pretī Jāņu naktij\, un reibst arī Silmaču saimnieces Antonijas mīlestības izslāpusī sirds… Balets Antonija #Silmači ir romantiski dramatisks stāsts par alkām pēc personīgās dzīves piepildījuma. Tas radīts\, iedvesmojoties no daudzu latviešu iemīļotākā dramaturģijas darba\, Rūdolfa Blaumaņa lugas Skroderdienas Silmačos motīviem\, un Latvijas valsts simtgades gaidās līdzās Jura Karlsona agrāko gadu baletiem Sidraba šķidrauts un Karlsons lido…spilgti papildina latviešu oriģinālbaletu klāstu. \nIestudējums iekļauts Latvijas valsts simtgades svētku programmā.
URL:https://dance.lv/event/antonija-silmaci-latvijas-nacionala-opera-un-balets/2026-03-21/
LOCATION:Latvijas Nacionālā opera un balets\, Aspazijas bulvāris 3\, Rīga\, LV-1050\, Latvia
CATEGORIES:BALETS
ATTACH;FMTTYPE=image/jpeg:https://dance.lv/wp-content/uploads/2025/07/Antonija.jpg
END:VEVENT
END:VCALENDAR