BEGIN:VCALENDAR
VERSION:2.0
PRODID:-//DANCE.LV - ECPv6.15.20//NONSGML v1.0//EN
CALSCALE:GREGORIAN
METHOD:PUBLISH
X-ORIGINAL-URL:https://dance.lv
X-WR-CALDESC:Events for DANCE.LV
REFRESH-INTERVAL;VALUE=DURATION:PT1H
X-Robots-Tag:noindex
X-PUBLISHED-TTL:PT1H
BEGIN:VTIMEZONE
TZID:Europe/Riga
BEGIN:DAYLIGHT
TZOFFSETFROM:+0200
TZOFFSETTO:+0300
TZNAME:EEST
DTSTART:20240331T010000
END:DAYLIGHT
BEGIN:STANDARD
TZOFFSETFROM:+0300
TZOFFSETTO:+0200
TZNAME:EET
DTSTART:20241027T010000
END:STANDARD
BEGIN:DAYLIGHT
TZOFFSETFROM:+0200
TZOFFSETTO:+0300
TZNAME:EEST
DTSTART:20250330T010000
END:DAYLIGHT
BEGIN:STANDARD
TZOFFSETFROM:+0300
TZOFFSETTO:+0200
TZNAME:EET
DTSTART:20251026T010000
END:STANDARD
BEGIN:DAYLIGHT
TZOFFSETFROM:+0200
TZOFFSETTO:+0300
TZNAME:EEST
DTSTART:20260329T010000
END:DAYLIGHT
BEGIN:STANDARD
TZOFFSETFROM:+0300
TZOFFSETTO:+0200
TZNAME:EET
DTSTART:20261025T010000
END:STANDARD
END:VTIMEZONE
BEGIN:VEVENT
DTSTART;TZID=Europe/Riga:20251120T190000
DTEND;TZID=Europe/Riga:20251120T220000
DTSTAMP:20260426T040645
CREATED:20250710T160758Z
LAST-MODIFIED:20260108T085254Z
UID:10000679-1763665200-1763676000@dance.lv
SUMMARY:ESMERALDA
DESCRIPTION:Balets Esmeralda ir vienkāršs un spēcīgs stāsts par mīlestību un nāvi. Parīzes Dievmātes katedrāles arhidiakons Klods Frolo iekāro skaisto Esmeraldu\, taču meitenes uzmanību saista nevis priesteris\, bet gan iznesīgais kapteinis Fēbs. Īpašas jūtas pret Esmeraldu ir arī baznīcas zvaniķim Kvazimodo. Kad\, greizsirdības mākts\, Frolo ievaino Fēbu\, notikušajā tiek vainota Esmeralda\, kurai draud nāvessods. Vienīgais\, kurš līdz savas dzīves beigām turpinās patiesi mīlēt Esmeraldu\, būs nelaimīgais Kvazimodo. \nViktora Igo slavenais romāns Parīzes Dievmātes katedrāle kalpojis par iedvesmu spilgtiem mākslas darbiem dažādos žanros. Kā baletu publika to pirmoreiz iepazina Žila Pero horeogrāfijā – 1844. gada uzvedumā Esmeralda Karaliskajā teātrī Londonā. Latvijas Nacionālajā baletā tas pirmoreiz izrādīts 1939. gadā baletmeistara Osvalda Lēmaņa veidotajā versijā. Aivara Leimaņa radītā Esmeralda ir jau ceturtais šī romantiskā stāsta iestudējums latviešu baleta vēsturē\, kurā viduslaiku gaisotni uzburt palīdz Mārtiņa Vilkārša scenogrāfija un Ilzes Vītoliņas radītie kostīmi. \n  \nEsmeralda: Elza Leimane\, Sabīne Strokša\, Jūlija Brauere \nPjērs Grenguārs: Filips Fedulovs\, Kārlis Cīrulis\, Dariuss Florians Katana \nKlods Frolo: Raimonds Martinovs\, Dariuss Florians Katana\, Antons Freimans \nKvazimodo: Antons Freimans\, Kristaps Jaunžeikars\, Aleksandrs Osadčijs \nFēbs de Šatopērs: Viktors Seiko\, Eidens Viljams Konefrijs\, Finians Patriks Heptings \nFlērdelisa de Gondelorjē: Alise Prudāne-Spridzāne\, Emma Lagūna \nDiāna: Annija Kopštāle\, Jolanta Lubēja\, Krista Štrausa \nAkteons: Kārlis Cīrulis\, Filips Fedulovs\, Fabio Sonconji\, Germans Ševčenko
URL:https://dance.lv/event/esmeralda-4/2025-11-20/
LOCATION:Latvijas Nacionālā opera un balets\, Aspazijas bulvāris 3\, Rīga\, LV-1050\, Latvia
CATEGORIES:BALETS
END:VEVENT
BEGIN:VEVENT
DTSTART;TZID=Europe/Riga:20251123T120000
DTEND;TZID=Europe/Riga:20251123T143000
DTSTAMP:20260426T040645
CREATED:20250710T160915Z
LAST-MODIFIED:20260108T091349Z
UID:10000680-1763899200-1763908200@dance.lv
SUMMARY:DŽUNGĻU GRĀMATA. Balets visai ģimenei
DESCRIPTION:Džungļos\, kur dzīve rit pēc zvēru valstības noteikumiem\, negaidīti uzrodas mazs cilvēka bērns. Viņu atrod Vilcene\, kurai labi pazīstama cilvēku daba. Vilcene nolemj puiku pasargāt un pieņemt audzināšanā\, jo – “kas zina\, varbūt šis būs citāds?”  Džungļos mazais zēns pieaug. Tur netrūkst prieka un piedzīvojumu\, bet jaunieti kaut kas dzen uz pilsētu pie cilvēkiem\, un viņš atstāj džungļus valdnieka Tīģera ēnā. Šķietami cilvēku vidū puisis ir atradis savu īsto vietu\, savas mājas\, tomēr sirds alkst pēc dabas\, dzīvniekiem un džungļiem. \n“Ar šo baletu vēlos runāt par tēmām\, kas\, manuprāt\, ir un vēl ilgi būs aktuālas. Daba\, draudzība\, mīlestība\, uzticība\, cerība un pāri visam – ģimene. Puisis īsti neiederas ne dzīvnieku pasaulē\, ne starp cilvēkiem. Kur īsti ir viņa mājas un kas viņš vispār ir? Šajā sarežģītajā pasaulē līdzīgi var jautāt arī katrs no mums\,” skaidro horeogrāfs Raimonds Martinovs. Viņš baleta Džungļu grāmata tēlus un notikumus radījis\, iedvesmojoties no angļu autora Radjarda Kiplinga tāda paša nosaukuma stāstu krājuma\, bet tā mūziku komponējis Kārlis Lācis. \nBaletu Džungļu grāmata drīkst apmeklēt no 7 gadu vecuma\, tomēr – atbilstoši horeogrāfa rekomendācijai – to iesakām apmeklēt no 10 gadu vecuma.
URL:https://dance.lv/event/dzunglu-gramata-balets-visai-gimenei-7/2025-11-23/
LOCATION:Latvijas Nacionālā opera un balets\, Aspazijas bulvāris 3\, Rīga\, LV-1050\, Latvia
CATEGORIES:BALETS
END:VEVENT
BEGIN:VEVENT
DTSTART;TZID=Europe/Riga:20251123T190000
DTEND;TZID=Europe/Riga:20251123T200000
DTSTAMP:20260426T040645
CREATED:20250710T161133Z
LAST-MODIFIED:20250710T161133Z
UID:10000681-1763924400-1763928000@dance.lv
SUMMARY:KONCERTS (JEB BRIESMAS IKVIENAM). KAKTUSI
DESCRIPTION:KONCERTS (JEB BRIESMAS IKVIENAM) \nAmerikāņu horeogrāfa Džeroma Robinsa (1918-1998) balets Koncerts (jeb Briesmas ikvienam) ir komiska parodija par klasiskās mūzikas klausītājiem. Izrādes darbība norisinās Friderika Šopēna klaviermūzikas koncertā\, kas tā apmeklētājus aizvilina domu un iztēles dzīlēs. Iedomu tēli atdzīvojas\, atklājot cilvēku vājības un fantāzijas plašumus. Koncerts (jeb Briesmas ikvienam)\, radīts 1956. gadā\, ir publiku priecējošs darbs\, kas ar smaidu ļauj paskatīties uz mūsu pašu burvīgajiem trūkumiem un īpatnībām. \nDžeroms Robinss ir rakstījis: “Viena no koncerta apmeklējuma baudām ir iespēja pilnībā iegrimt mūzikas klausīšanās procesā. Mūsu iztēlē neapzināti sāk veidoties tēli un ainas\, kuru formu un virzienus ietekmē gan dzirdētā mūzika\, gan programmiņas saturs\, gan klausītāja personīgie sapņi\, problēmas un fantāzijas. Tieši Šopēna mūzikai ir raksturīgi izdomāti\, “ieprogrammēti” nosaukumi\, piemēram\, Tauriņa etīde\, Minūtes valsis\, Lietus lāšu prelūdija un citi.” \nKAKTUSI \nZviedru jaunā horeogrāfa Aleksandra Ekmaņa (1984) laikmetīgais balets Kaktusi ir veltīts mākslas kritikai. “Šis darbs ir par to\, kā mēs vērojam mākslu un bieži jūtam vajadzību to analizēt un “saprast”. Ticu\, ka nav viena pareiza veida\, kā to darīt\, un ka katrs mākslu var interpretēt un pieredzēt tā\, kā vēlas. Iespējams\, tā būs tikai sajūta\, ko nevar izskaidrot\, vai varbūt vēstījums būs labi saprotams. [..] KAKTUSI radās manas dzīves periodā\, kad biju ļoti apjucis un apbēdināts ikreiz\, kad kāds rakstīja par manu darbu. Man šķita\, nav godīgi\, ka viens cilvēks sēž un savā ziņā izlemj visu citu vietā\, par ko ir izrāde\,” stāsta horeogrāfs Aleksandrs Ekmans. \nIzrādē stīgu kvarteta izpildījumā skan Franča Jozefa Haidna\, Ludviga van Bēthovena un Franča Šūberta mūzika. Iestudējums pirmizrādīts Nīderlandes dejas teātrī II 2010. gadā.
URL:https://dance.lv/event/koncerts-jeb-briesmas-ikvienam-kaktusi-3/
LOCATION:Latvijas Nacionālā opera un balets\, Aspazijas bulvāris 3\, Rīga\, LV-1050\, Latvia
CATEGORIES:BALETS
END:VEVENT
END:VCALENDAR