BEGIN:VCALENDAR
VERSION:2.0
PRODID:-//DANCE.LV - ECPv6.15.20//NONSGML v1.0//EN
CALSCALE:GREGORIAN
METHOD:PUBLISH
X-ORIGINAL-URL:https://dance.lv
X-WR-CALDESC:Events for DANCE.LV
REFRESH-INTERVAL;VALUE=DURATION:PT1H
X-Robots-Tag:noindex
X-PUBLISHED-TTL:PT1H
BEGIN:VTIMEZONE
TZID:Europe/Riga
BEGIN:DAYLIGHT
TZOFFSETFROM:+0200
TZOFFSETTO:+0300
TZNAME:EEST
DTSTART:20240331T010000
END:DAYLIGHT
BEGIN:STANDARD
TZOFFSETFROM:+0300
TZOFFSETTO:+0200
TZNAME:EET
DTSTART:20241027T010000
END:STANDARD
BEGIN:DAYLIGHT
TZOFFSETFROM:+0200
TZOFFSETTO:+0300
TZNAME:EEST
DTSTART:20250330T010000
END:DAYLIGHT
BEGIN:STANDARD
TZOFFSETFROM:+0300
TZOFFSETTO:+0200
TZNAME:EET
DTSTART:20251026T010000
END:STANDARD
BEGIN:DAYLIGHT
TZOFFSETFROM:+0200
TZOFFSETTO:+0300
TZNAME:EEST
DTSTART:20260329T010000
END:DAYLIGHT
BEGIN:STANDARD
TZOFFSETFROM:+0300
TZOFFSETTO:+0200
TZNAME:EET
DTSTART:20261025T010000
END:STANDARD
END:VTIMEZONE
BEGIN:VEVENT
DTSTART;TZID=Europe/Riga:20251028T190000
DTEND;TZID=Europe/Riga:20251028T203000
DTSTAMP:20260426T053416
CREATED:20251024T130053Z
LAST-MODIFIED:20251024T135530Z
UID:10000776-1761678000-1761683400@dance.lv
SUMMARY:Starptautiskais Baltijas baleta festivāls: ACĪMREDZAMAIS - NEIESPĒJAMAIS
DESCRIPTION:28. oktobrī plkst. 19.00 Dailes Teātrī viesosies 30. Starptautiskais Baltijas baleta festivāls un Pekinas Dejas akadēmija mākslinieki ar krāšņu uzvedumu “Acīmredzamais – neiespējamais”. \n“Tā būs ķīniešu klasiskā deja – apburošs tradicionālā ķīniešu baleta tehnikas un kustību izsmalcinātības paraugdemonstrējums\, kas valdzina skatītājus uz pasaules lielākajām skatuvēm. Krāšņie kostīmi kopā ar gaismas mākslas neatkārtojamo burvību veidos vizuāli iespaidīgu un krāsām bagātu izrādi\,” gaidāmo viesizrādi ieskicē festivāla idejas autore un direktore Lita Beiris. \nPekinas Dejas akadēmija ir pilna laika augstākās izglītības iestāde\, kas sagatavo izcilus profesionālus dejotājus\, horeogrāfus un dejas pētniekus. Dibināta 1954. gadā\, Pekinas Dejas akadēmija\, kas sākotnēji bija pazīstama kā Pekinas Deju skola\, ir pirmā profesionālā deju skola\, kas izveidota pēc Ķīnas Tautas Republikas dibināšanas. \nAkadēmija ir viena no lielākajām un prestižākajām dejas skolām pasaulē. Tā ir pazīstama arī kā „dejotāju šūpulis”\, kur izlolots liels skaits talantīgu\, centīgu un dejas pasaulē jau atzinību ieguvušu dejotāju. Šobrīd šeit mācās ap 2300 pilna laika studentu. Akadēmijā darbojas Ķīniešu klasiskās dejas\, Ķīniešu etniskās un tautas dejas\, Balles dejas\, Baleta\, Mūziklu\, kā arī Horeogrāfijas\, Modernās dejas un Skatuves dizaina nodaļas.
URL:https://dance.lv/event/starptautiskais-baltijas-baleta-festivals-acimredzamais-neispejamais/
LOCATION:Dailes teātris
CATEGORIES:BALETS
ATTACH;FMTTYPE=image/jpeg:https://dance.lv/wp-content/uploads/2025/10/BBF.jpg
END:VEVENT
BEGIN:VEVENT
DTSTART;TZID=Europe/Riga:20251030T180000
DTEND;TZID=Europe/Riga:20251030T193000
DTSTAMP:20260426T053416
CREATED:20251024T130707Z
LAST-MODIFIED:20251024T135516Z
UID:10000777-1761847200-1761852600@dance.lv
SUMMARY:Starptautiskais Baltijas baleta festivāls: ACĪMREDZAMAIS - NEIESPĒJAMAIS
DESCRIPTION:30. oktobrī plkst. 18.00 Daugavpils Kultūras pilī (Smilšu ielā 92) Dailes Teātrī viesosies 30. Starptautiskais Baltijas baleta festivāls un Pekinas Dejas akadēmija mākslinieki ar krāšņu uzvedumu “Acīmredzamais – neiespējamais”. \n“Tā būs ķīniešu klasiskā deja – apburošs tradicionālā ķīniešu baleta tehnikas un kustību izsmalcinātības paraugdemonstrējums\, kas valdzina skatītājus uz pasaules lielākajām skatuvēm. Krāšņie kostīmi kopā ar gaismas mākslas neatkārtojamo burvību veidos vizuāli iespaidīgu un krāsām bagātu izrādi\,” gaidāmo viesizrādi ieskicē festivāla idejas autore un direktore Lita Beiris. \nPekinas Dejas akadēmija ir pilna laika augstākās izglītības iestāde\, kas sagatavo izcilus profesionālus dejotājus\, horeogrāfus un dejas pētniekus. Dibināta 1954. gadā\, Pekinas Dejas akadēmija\, kas sākotnēji bija pazīstama kā Pekinas Deju skola\, ir pirmā profesionālā deju skola\, kas izveidota pēc Ķīnas Tautas Republikas dibināšanas. \nAkadēmija ir viena no lielākajām un prestižākajām dejas skolām pasaulē. Tā ir pazīstama arī kā „dejotāju šūpulis”\, kur izlolots liels skaits talantīgu\, centīgu un dejas pasaulē jau atzinību ieguvušu dejotāju. Šobrīd šeit mācās ap 2300 pilna laika studentu. Akadēmijā darbojas Ķīniešu klasiskās dejas\, Ķīniešu etniskās un tautas dejas\, Balles dejas\, Baleta\, Mūziklu\, kā arī Horeogrāfijas\, Modernās dejas un Skatuves dizaina nodaļas.
URL:https://dance.lv/event/starptautiskais-baltijas-baleta-festivals-acimredzamais-neispejamais-2/
LOCATION:Daugavpils Kultūras pilī (Smilšu ielā 92)
CATEGORIES:BALETS
ATTACH;FMTTYPE=image/jpeg:https://dance.lv/wp-content/uploads/2025/10/BBF.jpg
END:VEVENT
BEGIN:VEVENT
DTSTART;TZID=Europe/Riga:20251031T190000
DTEND;TZID=Europe/Riga:20251031T190000
DTSTAMP:20260426T053416
CREATED:20250710T160354Z
LAST-MODIFIED:20260108T090008Z
UID:10000676-1761937200-1761937200@dance.lv
SUMMARY:VELTĪGĀ UZMANĪBA. Latvijas Nacionālā opera un balets.
DESCRIPTION:Atraitne Simone vēlas savu vienīgo meitu Līzi izprecināt turīga zemes īpašnieka dēlam Alēnam\, taču meitene mīl jauno zemnieku Kolā. Lai arī Simone dara visu\, lai nepieļautu viņas meitas un Kolā attiecības\, tomēr mīlētāji pārvar šķēršļus\, un Simonei nākas samierināties ar meitas izvēli. \nVeltīgā uzmanība ir viens no krāšņākajiem un līksmākajiem angļu horeogrāfa Frederika Eštona darbiem\, kura pirmizrāde notika 1960. gadā Londonas Karaliskajā baletā. Par iedvesmas avotu tam kalpojis ievērojamā franču horeogrāfa Žana Dobervala (Jean Dauberval) 1789. gadā radītais darbs. Džons Lenčberijs (John Lanchbery) baletam aranžējis Luija Žozefa Ferdinanda Herolda radīto partitūru. Šis dzīvespriecīgais stāsts par pastorālu mīlestību turpina priecēt baleta izsmalcinātās mākslas cienītājus visā pasaulē. \n\nDarbs tiek atskaņots ar Boosey & Hawkes Music Publishers Limited atļauju Oxford University Press vārdā. \nHoreogrāfs: Frederiks Eštons
URL:https://dance.lv/event/veltiga-uzmaniba-latvijas-nacionala-opera-un-balets-7/2025-10-31/
LOCATION:Latvijas Nacionālā opera un balets\, Aspazijas bulvāris 3\, Rīga\, LV-1050\, Latvia
CATEGORIES:BALETS
ATTACH;FMTTYPE=image/jpeg:https://dance.lv/wp-content/uploads/2025/07/download.jpg
END:VEVENT
BEGIN:VEVENT
DTSTART;TZID=Europe/Riga:20251102T180000
DTEND;TZID=Europe/Riga:20251102T193000
DTSTAMP:20260426T053416
CREATED:20251024T131306Z
LAST-MODIFIED:20251024T131414Z
UID:10000778-1762106400-1762111800@dance.lv
SUMMARY:Starptautiskais Baltijas Baleta festivāls. GERSHWIN IN B
DESCRIPTION:30. Baltijas Baleta festivāla laikā koncertzālē “Cēsis” uzstāsies viena no ikoniskākajām Amerikas džeza deju kompānijām – Giordano Dance Chicago – ar izrādi Gershwin in B. Šis iestudējums ir aizraujošs un emocionāli piesātināts ceļojums džeza pasaulē\, kur Džordža Gēršvina mūzikas klasika savijas ar dinamisku un novatorisku horeogrāfiju\, atklājot jaunu skatījumu uz amerikāņu sapni un džeza enerģiju.\n\nKompānija Giordano Dance Chicago ir spilgta Amerikas kultūras vēstnese ar vairāk nekā pusgadsimtu ilgu vēsturi. No dibinātāja Gusa Džordāno deju skolas nelielajā Evanstonas pilsētā līdz mūsdienu pasaules līmeņa trupai Čikāgā – GDC ir kļuvusi par vienu no atpazīstamākajām džeza dejas kompānijām pasaulē. Tās kontā ir izrādes 28 valstīs\, 47 ASV štatos un vairāk nekā 1300 pilsētās\, un visur tās mērķis ir viens – ar deju iedvesmot\, aizraut un atdzīvināt skatītāju emocijas.\n\nGiordano Dance Chicago ir pazīstama ar savu spilgto un enerģētisko horeogrāfiju\, kas apvieno eleganci\, kaisli un spēku. Šī deju valoda ir universāla – tā runā par dzīvi\, kustību un cilvēka iekšējo enerģiju\, kas pārvēršas dejā.\n\nCēsu viesizrādē skatītāji piedzīvos izrādi “Gershwin in B”\, kas tapusi\, iedvesmojoties no amerikāņu komponista Džordža Gēršvina radošā mantojuma. Tajā Gēršvina mūzikas ekstātiskā brīvība un ritmiskā daudzveidība atklājas kustībā – dejotāji uz skatuves rada veselu pasauli\, kurā mijas izmisums un kaisle\, degsme un drosme. Šī ir deja\, kas liek dzīvot līdz katram ritmam un notij.
URL:https://dance.lv/event/starptautiskais-baltijas-baleta-festivals-gershwin-in-b/
LOCATION:Koncertzāle CĒSIS
CATEGORIES:BALETS
ATTACH;FMTTYPE=image/jpeg:https://dance.lv/wp-content/uploads/2025/10/Gershwin-in-B.jpg
END:VEVENT
END:VCALENDAR