BEGIN:VCALENDAR
VERSION:2.0
PRODID:-//DANCE.LV - ECPv6.15.20//NONSGML v1.0//EN
CALSCALE:GREGORIAN
METHOD:PUBLISH
X-WR-CALNAME:DANCE.LV
X-ORIGINAL-URL:https://dance.lv
X-WR-CALDESC:Events for DANCE.LV
REFRESH-INTERVAL;VALUE=DURATION:PT1H
X-Robots-Tag:noindex
X-PUBLISHED-TTL:PT1H
BEGIN:VTIMEZONE
TZID:Europe/Riga
BEGIN:DAYLIGHT
TZOFFSETFROM:+0200
TZOFFSETTO:+0300
TZNAME:EEST
DTSTART:20240331T010000
END:DAYLIGHT
BEGIN:STANDARD
TZOFFSETFROM:+0300
TZOFFSETTO:+0200
TZNAME:EET
DTSTART:20241027T010000
END:STANDARD
BEGIN:DAYLIGHT
TZOFFSETFROM:+0200
TZOFFSETTO:+0300
TZNAME:EEST
DTSTART:20250330T010000
END:DAYLIGHT
BEGIN:STANDARD
TZOFFSETFROM:+0300
TZOFFSETTO:+0200
TZNAME:EET
DTSTART:20251026T010000
END:STANDARD
BEGIN:DAYLIGHT
TZOFFSETFROM:+0200
TZOFFSETTO:+0300
TZNAME:EEST
DTSTART:20260329T010000
END:DAYLIGHT
BEGIN:STANDARD
TZOFFSETFROM:+0300
TZOFFSETTO:+0200
TZNAME:EET
DTSTART:20261025T010000
END:STANDARD
END:VTIMEZONE
BEGIN:VEVENT
DTSTART;TZID=Europe/Riga:20250921T170000
DTEND;TZID=Europe/Riga:20250921T190000
DTSTAMP:20260423T094623
CREATED:20250903T113156Z
LAST-MODIFIED:20250903T113628Z
UID:29237-1758474000-1758481200@dance.lv
SUMMARY:MAIJA UN PAIJA. Pasaka dejā
DESCRIPTION:Mūsu tautas literatūras mantojumā ir zināmi tādi divi tēli kā Maija un Paija – čaklā meita un slinkā meita. Divi pretstati. Šī pazīstamā pasaka šoreiz tiks izdejota. Latviešu skatuviskās tautas dejas izrāde ir veidota pēc Annas Brigaderes pasaku lugas “Maija un Paija” motīviem. Te  labestība\, tāpat kā Annas Brigaderes darbā\, būs pretstatīta negantumam\, čaklums – slinkumam un visu kopā vienos latviskā pasaules uztvere. \nBaibas Ķesteres horeogrāfija. \nPostfolkloras grupas “Rikši” mūzika. \nRežisore Lolita Muižniece. \nDejo JVPI “Kultūra” TDA “Lielupe”. \nDejas izrāde pirmizrādi piedzīvoja 2025. gada maijā\, kā Jāzepa Vītola Latvijas Mūzikas akadēmijas (JVLMA) horeogrāfijas katedras maģistrantes Baibas Ķesteres diplomdarbs.
URL:https://dance.lv/event/maija-un-paija-pasaka-deja/
LOCATION:Jelgavas kultūras nams
CATEGORIES:SKATUVISKĀ TAUTAS DEJA
END:VEVENT
END:VCALENDAR