BEGIN:VCALENDAR
VERSION:2.0
PRODID:-//DANCE.LV - ECPv6.15.20//NONSGML v1.0//EN
CALSCALE:GREGORIAN
METHOD:PUBLISH
X-WR-CALNAME:DANCE.LV
X-ORIGINAL-URL:https://dance.lv
X-WR-CALDESC:Events for DANCE.LV
REFRESH-INTERVAL;VALUE=DURATION:PT1H
X-Robots-Tag:noindex
X-PUBLISHED-TTL:PT1H
BEGIN:VTIMEZONE
TZID:Europe/Riga
BEGIN:DAYLIGHT
TZOFFSETFROM:+0200
TZOFFSETTO:+0300
TZNAME:EEST
DTSTART:20250330T010000
END:DAYLIGHT
BEGIN:STANDARD
TZOFFSETFROM:+0300
TZOFFSETTO:+0200
TZNAME:EET
DTSTART:20251026T010000
END:STANDARD
BEGIN:DAYLIGHT
TZOFFSETFROM:+0200
TZOFFSETTO:+0300
TZNAME:EEST
DTSTART:20260329T010000
END:DAYLIGHT
BEGIN:STANDARD
TZOFFSETFROM:+0300
TZOFFSETTO:+0200
TZNAME:EET
DTSTART:20261025T010000
END:STANDARD
BEGIN:DAYLIGHT
TZOFFSETFROM:+0200
TZOFFSETTO:+0300
TZNAME:EEST
DTSTART:20270328T010000
END:DAYLIGHT
BEGIN:STANDARD
TZOFFSETFROM:+0300
TZOFFSETTO:+0200
TZNAME:EET
DTSTART:20271031T010000
END:STANDARD
END:VTIMEZONE
BEGIN:VEVENT
DTSTART;TZID=Europe/Riga:20260201T120000
DTEND;TZID=Europe/Riga:20260201T140000
DTSTAMP:20260421T031650
CREATED:20250710T160915Z
LAST-MODIFIED:20260108T091349Z
UID:10000861-1769947200-1769954400@dance.lv
SUMMARY:DŽUNGĻU GRĀMATA. Balets visai ģimenei
DESCRIPTION:Džungļos\, kur dzīve rit pēc zvēru valstības noteikumiem\, negaidīti uzrodas mazs cilvēka bērns. Viņu atrod Vilcene\, kurai labi pazīstama cilvēku daba. Vilcene nolemj puiku pasargāt un pieņemt audzināšanā\, jo – “kas zina\, varbūt šis būs citāds?”  Džungļos mazais zēns pieaug. Tur netrūkst prieka un piedzīvojumu\, bet jaunieti kaut kas dzen uz pilsētu pie cilvēkiem\, un viņš atstāj džungļus valdnieka Tīģera ēnā. Šķietami cilvēku vidū puisis ir atradis savu īsto vietu\, savas mājas\, tomēr sirds alkst pēc dabas\, dzīvniekiem un džungļiem. \n“Ar šo baletu vēlos runāt par tēmām\, kas\, manuprāt\, ir un vēl ilgi būs aktuālas. Daba\, draudzība\, mīlestība\, uzticība\, cerība un pāri visam – ģimene. Puisis īsti neiederas ne dzīvnieku pasaulē\, ne starp cilvēkiem. Kur īsti ir viņa mājas un kas viņš vispār ir? Šajā sarežģītajā pasaulē līdzīgi var jautāt arī katrs no mums\,” skaidro horeogrāfs Raimonds Martinovs. Viņš baleta Džungļu grāmata tēlus un notikumus radījis\, iedvesmojoties no angļu autora Radjarda Kiplinga tāda paša nosaukuma stāstu krājuma\, bet tā mūziku komponējis Kārlis Lācis. \nBaletu Džungļu grāmata drīkst apmeklēt no 7 gadu vecuma\, tomēr – atbilstoši horeogrāfa rekomendācijai – to iesakām apmeklēt no 10 gadu vecuma.
URL:https://dance.lv/event/dzunglu-gramata-balets-visai-gimenei-7/2026-02-01/1/
LOCATION:Latvijas Nacionālā opera un balets\, Aspazijas bulvāris 3\, Rīga\, LV-1050\, Latvia
CATEGORIES:BALETS
END:VEVENT
END:VCALENDAR